{"text_format":"1","workbook":"xlsx","n_sheets":12,"sheets":["Instructions","Application-Media","Application-Employee","Annexe A-employé","Appendix A1-Employee Movements","Appendix B-Media"," Appendix E-Employee"," Appendix E1-Employee"," Appendix E2-Employee"," Appendix E3-Employee"," Appendix E (Example)","List of Establishments"],"not_rendered":{"charts":0,"images":1,"macros":0,"external_links":3,"defined_names":73,"comments":0,"pivot_tables":0},"unopened":[],"bounds":{"document_bytes":16777216,"sheet_cells":100000,"rows_first":2000,"rows_last":500,"rows_between":2000,"halvings":0,"cell_chars":16384,"cell_head_chars":4096},"cells_cut":0,"cells_raw":0,"read":"whole","date_system":"1900"}

{"sheet":"Instructions","index":0,"n_rows":40,"n_cols":14,"rows_kept":40,"cut":false,"hidden":false,"merged":[[22,0,22,37],[21,0,21,37],[20,0,20,37],[16,0,16,37],[11,0,11,37],[12,0,12,37],[13,0,13,37],[14,0,14,37],[15,0,15,37],[19,1,19,37],[17,0,17,37],[18,1,18,37],[6,0,6,37],[7,0,7,37],[8,0,8,37],[9,0,9,37],[10,0,10,37],[39,1,39,33],[38,0,38,33],[24,0,24,37],[26,0,26,37],[34,1,34,33],[30,0,30,37],[35,0,35,33],[36,0,36,33],[37,0,37,33],[27,0,27,37],[28,0,28,37],[32,0,32,33],[31,0,31,37],[33,0,33,37],[25,0,25,37],[29,0,29,37],[0,0,0,12],[0,13,0,37],[1,0,1,37],[5,0,5,37],[2,0,2,37],[4,0,4,37],[3,0,3,37]]}
[null,null,null,null,null,null,null,null,null,null,null,null,null,"Tax Measure to Support Print Media Companies\n(2020-02 version)"]
["Instructions – Application for Media and Employee Qualification Certificates "]
["This document outlines the procedure for obtaining a certificate stating that the corporation or partnership produces and publishes an eligible media and a certificate stating that an employee is an eligible employee. These certificates are required to claim the refundable tax credit to support print media companies (CPIE). The corporation or partnership must then claim the tax credit from Revenu Québec by filing its income tax return (form CO-17) together with the relevant schedules by the prescribed deadline."]
["Applications for Media and Employee Certificates must be submitted after the end of the fiscal year in question, for every fiscal year for which the corporation or partnership is entitled to the tax credit. "]
["We strongly recommend that before completing this form you consult the detailed fact sheet relating to the tax credit covered by the application, which is available on our website. Be sure to use the latest updated version of the form. You should also consult Information Bulletin 2019-9 issued by the Ministère des Finances on October 2, 2019, regarding the sectoral parameters of this tax measure. "]
[]
["APPLICABLE DEADLINES FOR FISCAL YEARS STARTING AFTER MARCH 26, 2015"]
["As a result of the 2015–2016 budget of March 26, 2015, the rules were amended regarding the deadlines for submitting an application for a refundable tax credit for fiscal years starting after March 26, 2015."]
[]
["Filing an application for an annual certificate with Investissement Québec"]
["The corporation or partnership must file its application for an annual qualification certificate with Investissement Québec before expiration of the 15th month following the end of the corporation or partnership’s fiscal year or July 3, 2020, whichever occurs later. If the application is filed after that date but before the end of the 18-month period following the end of corporation's fiscal year, Investissement Québec may, at its discretion, accept the application if it considers that the grounds for the delay are reasonable and justify a \"late\" application. Consequently, if you are in such a situation, please attach a document stating the reasons for your late application."]
[]
["Nevertheless, an application for a qualification certificate filed with Investissement Québec after expiration of the 18-month period will be refused."]
[]
["Submission of documents to Revenu Québec"]
["The corporation must file its application for a tax credit and its certificates with Revenu Québec by the later of the following dates:\n − the last day of the 18th month following the corporation's fiscal year end in question;\n − the last day of the 3-month period following the date of issuance of the certificates by Investissement Québec; or\n − December 17, 2020.                                                                                                                                                                                                     "]
["Please note that only complete applications will be processed. Any application received before the end of the fiscal year in question will be returned to the applicant."]
["Une demande complète inclut tous les documents obligatoires suivants :"]
[" -","A duly completed and signed application for a Media Certificate and the mandatory documents mentioned in section 5;"]
[" -","A duly completed and signed application for an Employee Certificate and the mandatory documents mentioned in section 5."]
[]
["AGREEMENT TO EXCHANGE INFORMATION"]
["On October 7, 2009, Investissement Québec and Revenu Québec signed an agreement entitled \"Entente portant sur l'échange de renseignements nécessaires à l'administration de mesures fiscales ou à l’application d’une loi fiscale\" [agreement on the exchange of information required for the administration of tax measures or the enforcement of a tax statute]. Under that agreement, both organizations can share information required to carry out their respective mandates without being obliged to request the consent of the individual in question. We disclose information to Revenu Québec solely within the framework of the agreement. The Commission d'accès à l'information du Québec approved the agreement after analyzing the nature of the information provided and the purposes for which it is disclosed, and after ensuring that security and confidentiality protection measures were put in place."]
[]
[]
["REQUIRED FEES"]
["Investissement Québec charges fees for issuing certificates. For more information on this topic, consult the rates schedule available on our website. "]
[]
["MAILING ADDRESSES AND HOW TO SEND THE APPLICATION FORM\n"]
["We recommend that you send the signed application by email to expedite the processing of your applications. For that purpose, please attach both duly signed pages of your applications (Media and Employee) in a PDF file. \n\nApplications can also be sent by post to one of mailing addresses indicated below\n"]
["In all situations, make sure that you send your electronic application file (including the appendices) in an Excel file.\n"]
["For corporations or partnerships whose head office is in one of the following regions:\n\nBas-Saint-Laurent;\nCapitale-Nationale;\nChaudière-Appalaches;\nCentre-du-Québec;\nCôte-Nord;\nEstrie;\nGaspésie–Îles-de-la-Madeleine;\nLanaudière;\nMauricie;\nMontérégie;\nNord-du-Québec;\nSaguenay–Lac-Saint-Jean."]
[]
["Investissement Québec\nDirection, Mesures fiscales (Québec)\nÉdifice Iberville 1\n1195, avenue Lavigerie, bureau 060\nQuébec (Québec)  G1V 4N3\nTélécopieur : 418 528-8480"]
[" -","by email to the following address: mfquebec@invest-quebec.com"]
[]
["For corporations or partnerships whose head office is in one of the following regions:\n\nAbitibi-Témiscamingue;\nLaval;\nLaurentides;\nMontréal;\nOutaouais."]
[]
["Investissement Québec\nDirection, Mesures fiscales (Montréal)\n1001, boulevard Robert-Bourassa, bureau 1000\nMontréal (Québec)  H3B 4L4"]
[" -","by email to the following address: mfmontreal@invest-quebec.com"]

{"sheet":"Application-Media","index":1,"n_rows":131,"n_cols":34,"rows_kept":131,"cut":false,"hidden":false,"merged":[[97,33,97,34],[70,0,70,27],[70,28,70,31],[81,0,81,28],[80,0,80,28],[80,29,80,30],[78,0,78,34],[46,0,46,34],[60,0,60,34],[65,0,65,34],[58,0,58,34],[56,8,56,13],[57,0,57,7],[57,8,57,13],[63,0,63,38],[57,14,57,34],[68,1,68,27],[9,0,9,34],[3,0,3,34],[14,0,14,34],[30,27,30,31],[29,33,29,34],[30,33,30,34],[32,27,32,31],[37,27,37,31],[37,33,37,34],[36,33,36,34],[7,0,7,7],[7,10,7,17],[7,20,7,27],[7,29,7,34],[8,0,8,34],[15,0,15,25],[36,27,36,32],[10,0,10,25],[11,0,11,25],[28,26,28,34],[25,26,25,34],[26,0,26,34],[13,0,13,34],[12,0,12,25],[15,26,15,34],[16,0,16,34],[17,0,17,34],[18,0,18,25],[18,26,18,34],[29,0,29,25],[130,0,130,20],[130,23,130,34],[118,0,118,34],[122,0,122,34],[27,0,27,34],[43,16,43,21],[43,22,43,38],[31,0,31,25],[31,27,31,34],[32,0,32,25],[29,27,29,32],[41,0,41,38],[36,0,36,25],[43,0,43,7],[112,1,112,36],[93,0,93,32],[91,0,91,31],[28,0,28,25],[129,0,129,20],[129,23,129,34],[128,0,128,34],[111,1,111,18],[47,0,47,34],[45,0,45,38],[132,0,132,34],[20,26,20,34],[21,0,21,34],[22,0,22,34],[23,0,23,25],[23,26,23,34],[25,0,25,25],[37,0,37,25],[38,0,38,25],[38,27,38,34],[39,0,39,25],[127,0,127,34],[44,0,44,7],[44,8,44,13],[33,0,33,34],[34,0,34,34],[44,14,44,15],[44,16,44,21],[35,0,35,25],[35,26,35,34],[44,22,44,38],[20,0,20,25],[110,0,112,0],[110,1,110,35],[108,1,108,28],[30,0,30,25],[87,0,87,34],[90,0,90,34],[66,0,66,28],[67,29,67,30],[67,1,67,27],[72,1,72,27],[73,1,73,34],[76,0,76,34],[75,0,75,34],[43,8,43,13],[43,14,43,15],[51,0,51,28],[53,0,53,28],[54,0,54,34],[56,0,56,7],[39,27,39,31],[39,32,39,34],[116,0,117,0],[116,1,117,34],[121,1,121,38],[123,0,123,34],[124,1,124,34],[126,1,126,34],[48,29,48,30],[49,0,49,28],[83,0,83,34],[61,0,61,38],[48,0,48,28],[88,0,88,32],[94,0,94,23],[85,0,85,31],[96,0,96,34],[125,0,125,34],[77,0,77,38],[113,1,113,26],[107,1,107,31],[71,0,71,28],[71,29,71,30],[59,0,59,38],[115,0,115,34],[0,0,0,12],[0,13,0,34],[1,0,1,34],[4,0,4,34],[5,0,5,34],[6,0,6,7],[6,10,6,17],[6,20,6,27],[6,29,6,34],[2,0,2,34]]}
[null,null,null,null,null,null,null,null,null,null,null,null,null,{"$f":"Instructions!N1","v":"Tax Measure to Support Print Media Companies\n(2020-02 version)"}]
["Application for a Media Qualification Certificate"]
["Before completing this form, please read the Instructions tab"]
["1. IDENTIFICATION OF THE CORPORATION OR PARTNERSHIP"]
["Name of the corporation or partnership"]
[]
["NEQ (Québec enterprise number)",null,null,null,null,null,null,null,null,null," IQ business number*",null,null,null,null,null,null,null,null,null," IQ file number*",null,null,null,null,null,null,null,null,"Date of incorporation"]
[]
["*Business or file number assigned by Investissement Québec (IQ) for the Tax Credit to Support Print Media Companies. Not required for the initial application. In the case of a second application, you will find these numbers on the correspondence received from IQ."]
["List of partners' names, if any"]
[]
[]
[]
[]
["URL of corporation's or partnership's website"]
[]
[]
["Addresses of all establishments (If more than one establishment, complete the List of Establishments appendix)"]
[]
[]
[]
[]
["Mailing address"]
[]
[]
[]
[]
["Authorized corporation or partnership representative"]
[]
["Representative's title (e.g., president of the corporation)",null,null,null,null,null,null,null,null,null,null,null,null,null,null,null,null,null,null,null,null,null,null,null,null,null,null,"Telephone",null,null,null,null,null,"Ext."]
[]
["Representative's email address",null,null,null,null,null,null,null,null,null,null,null,null,null,null,null,null,null,null,null,null,null,null,null,null,null,null,"Fax"]
[]
[]
["Authorized corporation or partnership agent, if any"]
[]
["Agent's title (e.g., accountant, outside consultant)",null,null,null,null,null,null,null,null,null,null,null,null,null,null,null,null,null,null,null,null,null,null,null,null,null,null,"Telephone",null,null,null,null,null,"Ext."]
[]
["Agent's email address ",null,null,null,null,null,null,null,null,null,null,null,null,null,null,null,null,null,null,null,null,null,null,null,null,null,null,"Fax"]
[]
[]
["2. FISCAL YEAR COVERED BY THIS APPLICATION"]
[]
["Fiscal year from:",null,null,null,null,null,null,null,null,null,null,null,null,null,"to:"]
[null,null,null,null,null,null,null,null,"(yyyy-mm-dd)",null,null,null,null,null,null,null,"(yyyy-mm-dd)"]
[]
["3. REORGANIZATION OR ACQUISITION OF CONTROL"]
["During the fiscal year in question until the date the application was submitted, did the corporation or partnership:"]
[null,null,null,null,null,null,null,null,null,null,null,null,null,null,null,null,null,null,null,null,null,null,null,null,null,null,null,null,null,"Yes",null,"No"]
["— undergo an acquisition of control giving rise to a deemed year end?"]
[]
["—acquire an interest in another corporation or partnership?"]
[]
["—undergo a reorganization (e.g., merger, liquidation, bulk purchase or sale of assets)?"]
["If applicable, specify the date and nature of the changes:"]
[]
["Date"]
[null,null,null,null,null,null,null,null,"(yyyy-mm-dd)"]
[]
[]
["4. INFORMATION ABOUT THE CORPORATION OR PARTNERSHIP AND DESCRIPTION OF ELIGIBLE MEDIA"]
["PROVIDE A WRITTEN RESPONSE FOR EACH POINT IN A SEPARATE DOCUMENT APPENDED TO THE FORM."]
[]
["INFORMATION ABOUT THE CORPORATION OR PARTNERSHIP"]
[]
["If you answered No to question (a) below, briefly describe the history of the corporation or partnership and its activities."]
[]
["a)","Did the corporation or partnership obtain a media certificate for the same taxation year following an application for a certificate regarding the tax credit to support the  ",null,null,null,null,null,null,null,null,null,null,null,null,null,null,null,null,null,null,null,null,null,null,null,null,null,null,null,"Yes",null,"No"]
["   ","digital transformation in print media companies (CTNP)?"]
[]
["If you answered Yes to question (a), indicate the IQ file number relating to the CTNP.",null,null,null,null,null,null,null,null,null,null,null,null,null,null,null,null,null,null,null,null,null,null,null,null,null,null,null,"D"]
[null,null,null,null,null,null,null,null,null,null,null,null,null,null,null,null,null,null,null,null,null,null,null,null,null,null,null,null,null,"Yes",null,"No"]
["b)","Does this application for media certification include media not listed"]
["   ","on the application for media certificates referred to in question (a)?"]
[]
["If you replied No to question (a) or Yes to question (b), answer the questions in the section entitled \"Description of Eligible Media.\""]
["If you replied No to question (b), go to section 5."]
[]
["DESCRIPTION OF ELIGIBLE MEDIA\n(if you are submitting an application for several media, please provide the following information for each one)"]
[]
[null,null,null,null,null,null,null,null,null,null,null,null,null,null,null,null,null,null,null,null,null,null,null,null,null,null,null,null,null,"Yes",null,"No"]
["Is this the corporation's or partnership's first application for one or more media?"]
[]
["If yes, please provide us with all documents and copies of the media in PDF or other format proving that each of these media has been produced and published for 12 months or more before submission of the application, and indicate in Appendix B the date of the first publication of each media."]
[]
["1. Complete Appendix B."]
[]
["2. Indicate the location of the newsroom and list the journalists whose main task is to produce original written information"]
["    content for the media."]
["  "]
["3. Describe how the media includes original written information content (e.g., reports, profiles or interviews, news analysis,"]
["    regular columns, investigative stories, editorials). "]
[]
[]
["4. Describe the media's target audience."]
[]
["5. DOCUMENTS THAT MUST BE ATTACHED TO THIS APPLICATION (Check off the documents enclosed)"]
[null,null,null,null,null,null,null,null,null,null,null,null,null,null,null,null,null,null,null,null,null,null,null,null,null,null,null,null,null,null,null,null,null,"Already provided"]
["—  ","Unconsolidated financial statements for the fiscal year in question:1  "]
[]
["—  ","Trial balance for the fiscal year in question;"]
[]
["—  ","Corporate organization chart identifying shareholders and members of a cooperative or partnership and affiliated"]
["      et les sociétés et sociétés de personnes liées ou associées  (le pourcentage de détention d'actions et des parts doit"," or associated corporations or partnerships (the percentage of each holding must be indicated);"]
[]
["—  ","Information requested in section 4;"]
[]
["—  ","Copy of the first publication and the latest publication of each media (in PDF or other format)"]
[null,"in the fiscal year in question;"]
[]
["—   ","If applicable, a duly signed power of attorney designating an agent to represent the corporation "]
[null,"or partnership in its dealings with Investissement Québec. "]
[null,"You can use the model available on the Investissement Québec website at: "]
[null,"http://www.investquebec.com/documents/qc/formulaires/Procuration_en.doc"]
["In the event that the documents are not attached, please indicate the reason."]
[]
[1,"The financial statements may be in draft form provided that you send us the final version of the financial statements as soon as they are available."]
[]
[]
[]
[]
["6.  ","DECLARATION OF THE AUTHORIZED REPRESENTATIVE OR AGENT OF THE CORPORATION OR PARTNERSHIP "]
["I, the undersigned, the duly authorized representative or agent of the corporation or partnership, declare that the information provided in this application, the appendix and the related documents is complete and accurate in all respects."]
["Furthermore, unless otherwise expressly stated, I authorize the Tax Measures Department to share with the other departments of Investissement Québec any information obtained in the course of this application that could prove necessary for the analysis of any application for financing, investment or any other service provided by Investissement Québec."]
[null," I authorize the sharing of information"]
[]
[null," I do not authorize the sharing of information"]
[]
["Lastly, I certify that the corporation or partnership has not modified the contents of this application."]
[]
["Signature of the authorized representative or agent\nof the corporation or partnership",null,null,null,null,null,null,null,null,null,null,null,null,null,null,null,null,null,null,null,null,null,null,"Date"]

{"sheet":"Application-Employee","index":2,"n_rows":121,"n_cols":37,"rows_kept":121,"cut":false,"hidden":false,"merged":[[58,1,58,17],[58,21,58,37],[59,1,59,17],[59,21,59,37],[60,1,60,17],[60,21,60,37],[61,1,61,17],[61,21,61,37],[50,1,50,30],[53,1,53,37],[54,1,54,24],[54,26,54,37],[55,1,55,19],[55,26,55,36],[56,1,56,18],[56,21,56,37],[57,1,57,17],[57,21,57,37],[105,1,105,37],[100,1,100,37],[101,1,101,37],[107,1,107,37],[106,0,106,37],[78,1,78,37],[79,1,79,37],[80,1,80,37],[86,1,86,38],[88,1,88,37],[81,1,81,37],[44,0,44,37],[46,14,46,15],[45,0,45,37],[98,0,98,37],[104,1,104,37],[103,0,103,37],[102,1,102,37],[69,1,69,19],[70,1,70,19],[70,30,70,36],[69,21,69,29],[64,0,64,37],[71,21,71,29],[69,30,69,36],[68,1,68,37],[65,1,66,37],[65,0,66,0],[67,4,67,8],[67,9,67,37],[96,0,96,33],[67,1,67,3],[76,0,76,37],[90,0,90,33],[99,0,99,37],[0,0,0,12],[1,0,1,37],[0,13,0,37],[2,0,2,37],[23,0,23,25],[24,0,24,25],[5,0,5,37],[4,0,4,37],[6,0,6,7],[6,10,6,17],[6,20,6,27],[6,30,6,37],[24,26,24,37],[16,0,16,37],[14,0,14,37],[7,0,7,7],[7,10,7,17],[8,0,8,37],[7,20,7,27],[23,26,23,37],[7,30,7,37],[9,0,9,37],[18,0,18,25],[18,26,18,37],[120,23,120,37],[120,0,120,20],[119,0,119,20],[119,23,119,37],[27,0,27,37],[28,0,28,25],[28,26,28,37],[30,0,30,25],[30,27,30,32],[30,35,30,37],[29,0,29,37],[31,0,31,25],[31,35,31,37],[33,0,33,25],[32,0,32,37],[33,27,33,37],[72,1,72,37],[48,0,48,37],[70,21,70,29],[63,1,63,37],[114,1,114,33],[42,27,42,37],[37,0,37,25],[46,22,46,37],[117,0,117,33],[118,0,118,33],[71,1,71,19],[75,0,75,37],[71,30,71,36],[73,1,73,37],[89,0,89,37],[77,0,77,37],[84,1,84,37],[85,1,85,37],[83,0,83,37],[108,1,108,37],[110,0,110,37],[111,1,111,37],[91,1,91,30],[92,1,92,30],[94,1,94,30],[95,1,95,30],[116,1,116,33],[112,0,112,37],[113,0,113,37],[87,1,87,37],[74,0,74,37],[109,0,109,37],[42,0,42,25],[15,0,15,25],[21,0,21,37],[19,26,19,37],[20,0,20,25],[25,26,25,37],[26,0,26,37],[34,0,34,25],[34,27,34,34],[34,35,34,37],[35,0,35,37],[41,0,41,37],[36,0,36,37],[40,35,40,37],[39,35,39,37],[37,26,37,37],[40,0,40,25],[40,27,40,32],[19,0,19,25],[22,0,22,37],[25,0,25,25],[31,27,31,31],[13,0,13,37],[3,0,3,33],[10,0,10,25],[11,0,11,25],[12,0,12,25],[17,0,17,33],[115,0,115,33],[39,27,39,32],[38,0,38,37],[39,0,39,25],[49,0,49,37],[46,16,46,21],[46,8,46,13],[47,8,47,13],[47,16,47,21],[47,22,47,37],[43,0,43,25],[43,27,43,32],[43,35,43,37],[47,14,47,15],[47,0,47,7],[46,0,46,7],[20,26,20,37],[15,26,15,37]]}
[null,null,null,null,null,null,null,null,null,null,null,null,null,{"$f":"Instructions!N1","v":"Tax Measure to Support Print Media Companies\n(2020-02 version)"}]
["Application for Employee Qualification Certificates"]
["1. IDENTIFICATION of the corporation or partnership"]
["Name of the corporation or partnership"]
[{"$f":"IF('Application-Media'!A6:AI6=\"\",\"\",'Application-Media'!A6:AI6)","v":""}]
[]
["NEQ (Québec enterprise number)",null,null,null,null,null,null,null,null,null,"IQ business number*",null,null,null,null,null,null,null,null,null,"IQ file number*",null,null,null,null,null,null,null,null,null,"Date of incorporation"]
[{"$f":"IF('Application-Media'!A8:H8=\"\",\"\",'Application-Media'!A8:H8)","v":""},null,null,null,null,null,null,null,null,null,{"$f":"IF('Application-Media'!K8:R8=\"\",\"\",'Application-Media'!K8:R8)","v":""},null,null,null,null,null,null,null,null,null,{"$f":"IF('Application-Media'!U8:AB8=\"\",\"\",'Application-Media'!U8:AB8)","v":""},null,null,null,null,null,null,null,null,null,{"$f":"IF('Application-Media'!AD8=\"\",\"\",'Application-Media'!AD8)","v":""}]
["*Business or file number assigned by Investissement Québec (IQ) for the Tax Credit to Support Print Media Companies. In the case of a second application, you will find these numbers on the correspondence received from IQ"]
["List of partners' names, if any"]
[]
[]
[]
[]
["URL of the corporation's or partnership's website address  "]
[]
[]
["Address of all establishments (If more than one establishment, complete the List of Establishments appendix)"]
[]
[]
[]
[]
[" Mailing address"]
[]
[]
[]
[]
["Authorized representative of the corporation or partnership"]
[]
[]
["Representative's title (e.g., president of the corporation)",null,null,null,null,null,null,null,null,null,null,null,null,null,null,null,null,null,null,null,null,null,null,null,null,null,null,"Telephone",null,null,null,null,null,null,null,"Ext."]
[]
[]
["Representative's email address",null,null,null,null,null,null,null,null,null,null,null,null,null,null,null,null,null,null,null,null,null,null,null,null,null,null,"Fax"]
[]
[]
["Authorized corporation or partnership agent, if any"]
[]
[]
["Agent's title (e.g., accountant, outside consultant)",null,null,null,null,null,null,null,null,null,null,null,null,null,null,null,null,null,null,null,null,null,null,null,null,null,null,"Telephone",null,null,null,null,null,"Poste",null,"Ext."]
[]
[]
["Agent's email address ",null,null,null,null,null,null,null,null,null,null,null,null,null,null,null,null,null,null,null,null,null,null,null,null,null,null,"Fax"]
[]
[]
["2. FISCAL YEAR COVERED BY THIS APPLICATION"]
["Fiscal year from:",null,null,null,null,null,null,null,{"$f":"IF('Application-Media'!I44=\"\",\"\",'Application-Media'!I44)","v":""},null,null,null,null,null,"to:",null,{"$f":"IF('Application-Media'!Q44=\"\",\"\",'Application-Media'!Q44)","v":""}]
[null,null,null,null,null,null,null,null,"(yyyy-mm-dd)",null,null,null,null,null,null,null,"(yyyy-mm-dd)"]
[]
["3.  INFORMATION ON EMPLOYEES"]
["— ","Did the corporation or partnership’s claim cover employees of a corporation of which it holds all the issued shares in each class of share capital (subsidiary)?",null,null,null,null,null,null,null,null,null,null,null,null,null,null,null,null,null,null,null,null,null,null,null,null,null,null,null,null,null,"Yes",null,null,null,null,"No"]
[]
[]
[null,"If yes, indicate the name of the corporation (subsidiary), its Québec enterprise number (NEQ), the full names of the employees covered by a claim in Appendix A to this application and the address of the establishment of the eligible subsidiary located in Québec to which each of these employees reports."]
[null,"Name of the corporation (subsidiary)",null,null,null,null,null,null,null,null,null,null,null,null,null,null,null,null,null,null,null,null,null,null,null,null,"Québec enterprise number (NEQ)"]
[]
[null,"Full names of employees covered by a claim in Appendix A",null,null,null,null,null,null,null,null,null,null,null,null,null,null,null,null,null,null,null,"Address of the establishment of the eligible subsidiary located in Québec to which the employee reports"]
[]
[]
[]
[]
[]
[]
["— ","Please complete Appendix A \"List of Employees Covered\" and Appendix E \"Job Description\" for all employees for whom you are applying for the tax credit.   "]
[]
["—  ","Indicate the total number of employees working for your corporation or partnership for the fiscal year in question. The total number of employees must include all of the corporation's or partnership's employees (whether they are covered by a claim or not, work full- or part-time, are seasonal or not, or have been in the employment of the corporation or partnership all year or for a shorter period)."]
[]
[]
["—  ","Indicate the positions that are not covered by a claim in this application and the number of employees not covered by a claim."]
[null,"Positions not covered by claim",null,null,null,null,null,null,null,null,null,null,null,null,null,null,null,null,null,null,null,"Number of employees not covered by claim"]
[]
[]
[null,"Describe in detail the methodology used to determine the percentages declared in Appendix E (percentage of time spent on each of the tasks listed). In addition, please indicate the documents and IT tools used to determine these percentages (expand the field if necessary or attach a separate document). (Examples of documents used: timesheets, project reports, etc.)"]
[]
[]
["4.  ELIGIBLE ACTIVITIES OF EMPLOYEES"]
["Please check off the category or categories that best correspond to the eligible activities performed by the employees for whom a claim is being made."]
["Activities related to the production of original written information content for dissemination  purposes  in  an  eligible media:"]
[null,"Research, information gathering and fact checking;"]
[null,"Photography;"]
[null,"Writing and editing;"]
[null,"Design and other content-preparation activities."]
[]
["IT activities related to the production or dissemination of such original written information content:"]
[null,"Management or operation of computer systems, applications or technology infrastructures;"]
[null,"Operation of a customer relations management service;"]
[null,"Management or operation of a marketing information system designed to raise the visibility of the"]
[null," media and promote it to an existing or potential clientele;"]
[null,"Any other management or operating activity for the purposes of the eligible media."]
[]
["5. DOCUMENTS THAT MUST BE ENCLOSED WITH THIS APPLICATION (Check if the documents are enclosed)"]
["—  ","Appendices A, A1 and E and the documents required to support Appendix A and A1 (records of employment,  "]
[null,"employment contracts, CVs, pay stubs);"]
[]
["—  ","Detailed organizational chart presenting the hierarchical relationships and identifying all the employees of the"]
[null,"corporation or partnership. The  organizational chart must present both claimed and unclaimed employees."]
[]
[]
[]
["6. OTHER ACTIVITIES"]
[null,"Indicate if the following activities were carried out by the employees listed in Appendix A—List of Employees Covered during the fiscal year in question:"]
["1. ","Indicate if the employees of your corporation or partnership received training; if yes, specify what kind. In addition, please specify the number of hours for each employee covered or enter the percentage of time represented by training through Appendix E (expand the field if necessary);"]
[]
[]
["2.","Indicate if the employees of your corporation or partnership carried out activities for media that do not appear on the eligible media certificate for the fiscal year in question; if yes, specify what kind. In addition, please specify the number of hours for each employee covered or enter the percentage of time it represents through Appendix E (expand the field if necessary);"]
[]
[]
["3. ","Indicate if the employees of your corporation or partnership carried out digital conversion activities for one or more media produced  and published during the fiscal year in question;  if yes, specify what kind. In addition, please specify the number of hours for each employee covered or enter the percentage of time it represents through Appendix E (expand the field if necessary);"]
[]
[]
[]
["7.  ","DECLARATION OF THE AUTHORIZED CORPORATION OR PARTNERSHIP REPRESENTATIVE OR AGENT"]
["I, the undersigned, the duly authorized representative or agent of the corporation or partnership, declare that the information provided in this application, the appendix and the related documents is complete and accurate in all respects."]
["Furthermore, unless otherwise expressly stated, I authorize the Tax Measures Department to share with the other departments of Investissement Québec any information obtained in the course of this application that could prove necessary for the analysis of any application for financing, investment or any other service provided by Investissement Québec."]
[null,"  I authorize the sharing of information."]
[]
[null,"  I do not authorize the sharing of information."]
[]
["Lastly, I certify that the corporation or partnership has not modified the contents of this application."]
[]
["Signature of the corporation's or partnership's \nauthorized representative or agent",null,null,null,null,null,null,null,null,null,null,null,null,null,null,null,null,null,null,null,null,null,null,"Date"]

{"sheet":"Annexe A-employé","index":3,"n_rows":56,"n_cols":34,"rows_kept":56,"cut":false,"hidden":false,"merged":[[9,16,12,16],[9,1,12,1],[3,1,3,6],[0,0,0,3],[6,22,6,23],[3,19,3,22],[4,19,4,22],[1,0,1,13],[0,23,0,27],[1,14,1,27],[3,14,3,16],[4,14,4,17],[0,7,0,13],[4,11,4,12],[3,11,3,12],[21,1,21,13],[4,1,4,6],[19,1,19,13],[20,1,20,13],[18,0,18,13],[9,13,12,13],[9,12,12,12],[9,6,11,7],[9,9,12,9],[9,3,12,3],[9,5,12,5],[6,6,6,7],[6,3,6,5],[7,6,7,7],[7,9,7,10],[5,0,5,22],[6,9,6,10],[40,0,40,22],[34,0,34,22],[28,0,28,14],[29,0,29,14],[37,5,37,8],[38,5,38,8],[31,0,31,13],[33,0,33,13],[37,0,37,3],[30,0,30,14],[22,1,22,13],[9,4,12,4],[9,17,12,17],[3,26,3,27],[26,0,26,13],[9,11,12,11],[9,10,12,10],[16,0,16,17],[9,14,12,14],[9,0,12,0],[9,15,12,15],[15,0,15,22],[9,2,12,2],[9,18,12,27],[13,18,13,27],[14,19,14,27],[9,8,12,8],[8,23,8,24],[8,6,8,7]]}
[null,null,null,null,null,null,null,{"$f":"Instructions!N1","v":"Tax Measure to Support Print Media Companies\n(2020-02 version)"},null,null,null,null,null,null,null,null,null,null,null,null,null,null,null,{"$f":"Instructions!N1","v":"Tax Measure to Support Print Media Companies\n(2020-02 version)"}]
["Appendix A – Application for Employee Qualification Certificates\nList of Employees Covered",null,null,null,null,null,null,null,null,null,null,null,null,null,"Appendix A – Application for Employee Qualification Certificates\nList of Employees Covered"]
[]
[null,"Name of the corporation or partnership",null,null,null,null,null,null,null,"NEQ",null,"IQ file number",null,null,"Name of the corporation or partnership",null,null,null,null,null,null,null,null,null,"NEQ",null,"IQ file number"]
[null,{"$f":"IF('Application-Media'!A6=\"\",\"\",'Application-Media'!A6)","v":""},null,null,null,null,null,null,null,{"$f":"IF('Application-Media'!A8=\"\",\"\",'Application-Media'!A8)","v":""},null,{"$f":"IF('Application-Media'!U8=\"\",\"\",'Application-Media'!U8)","v":""},null,null,{"$f":"B5","v":""},null,null,null,null,null,null,null,null,null,{"$f":"J5","v":""},null,{"$f":"L5","v":""},{"$f":"L5","v":""}]
[]
[null,null,null,"Fiscal year from ",null,null,{"$f":"IF('Application-Media'!I44=\"\",\"\",'Application-Media'!I44)","v":""},null,"to",{"$f":"IF('Application-Media'!Q44=\"\",\"\",'Application-Media'!Q44)","v":""},null,null,null,null,null,null,null,null,null,null,null,null,"Exercice financier du",null,{"$f":"G7","v":""},"to",{"$f":"J7","v":""}]
[null,null,null,null,null,null,"(yyyy-mm-dd)",null,null,"(yyyy-mm-dd)",null,null,null,null,null,null,null,null,null,null,null,null,null,null,"(yyyy-mm-dd)",null,"(yyyy-mm-dd)"]
[]
["Place of the establishment where the eligible employee reports for work. \nif: \nIn Québec = enter 1\nIf Outside Québec, but in Canada = enter 2","Address of the establishment where the eligible employee reports for work","Name of employee1","S.I.N                           999-999-999","Position \n(must correspond to the title in the employee's job description and on the organizational chart)","Date of most recent hiring\n\n(yyyy-mm-dd)","Period of employment during the fiscal year (see notes 2 and 8)",null,"Does the employee still hold the same position at the date this application is signed3 (select)","Wages paid4 for this employment period\n(rounded up to  nearest $)","Total hours (including illness, vacation, unpaid leave, etc.) for this employment period","Hours worked (excluding illness, vacation, unpaid leave, etc.) for this employment period","Total number of weeks since hiring5","Average number of hours worked per week for this employment period 6","Name of eligible media on which the eligible employee worked"," IQ eligible media number, if known","Number of hours spent carrying out eligible activities for eligible media","Eligible activities carried out on the eligible media? (Select)","Comments7"]
[]
[]
[null,null,null,null,null,null,"From:                                       (yyyy-mm-dd)","To:                                     (yyyy-mm-dd)"]
[null,null,null,null,null,null,null,null,null,null,null,null,null,null,null,null,null,null,null,null,null,null,null,null,null,null,null,null,null,null,{"$f":"IF(ISBLANK($H14),AND($G14>=$F14,$G14>=DATE(2008,3,14)),AND($G14>=$F14,$G14>=DATE(2008,3,14),$G14<=$H14))","v":false}]
[null,null,null,null,null,null,null,null,null,null,null,null,null,null,null,null,null,null,null,null,null,null,null,null,null,null,null,null,null,null,false]
["1. Please consult the detailed fact sheet published in the following section of our website: https://www.investquebec.com/quebec/en/financial-products/all-our-solutions/Tax-Credit-to-Support-Print-Media-Companies.html for",null,null,null,null,null,null,null,null,null,null,null,null,null,null,null,null,null,null,null,null,null,null,null,null,null,null,null,null,null,false]
["     information on employee eligibility conditions. When an employee has carried out digital transformation activities for more than one media, his/her name must appear for each media concerned. "]
[]
["2. The employment period must be included in the fiscal year covered by the application and must end as soon as the employment relationship is terminated, even if amounts are paid to the employee after his/her departure (e.g., vacation pay). In the following cases, the period of absence must be included in the employment period:",null,null,null,null,null,null,null,null,null,null,null,null,null,null,null,null,null,null,null,null,null,null,null,null,null,null,null,null,null,false]
[null,"(a) vacation;"]
[null,"(b) employment insurance for a parental, maternity or sick leave (insofar as the employment relationship is not terminated)"]
[null,"(c) leave paid by the CSST for a temporary illness or disability. If the leave for illness or disability is permanent, this period should not be included;"]
[null,"(d) wage-loss insurance paid for by a third party other than the corporation or partnership, insofar as the absence is temporary.",null,null,null,null,null,null,null,null,null,null,null,null,null,null,null,null,null,null,null,null,null,null,null,null,null,null,null,null,null,"Yes"]
[]
["3. For departures of employees who have a total of less than 40 weeks since hiring, please complete Appendix A1 – Employee Movements.",null,null,null,null,null,null,null,null,null,null,null,null,null,null,null,null,null,null,null,null,null,null,null,null,null,null,null,null,null,null,"No"]
[]
["4. Wages paid correspond to the gross wages paid to the employee during the employment period in question.",null,null,null,null,null,null,null,null,null,null,null,null,null,null,null,null,null,null,null,null,null,null,null,null,null,null,null,null,null,null,"In Québec"]
[]
["5. For each employee who has less than 40 weeks, please provide us with:",null,null,null,null,null,null,null,null,null,null,null,null,null,null,null,null,null,null,null,null,null,null,null,null,null,null,null,null,null,null,"Outside Québec, but in Canada"]
["      (a) a copy of the employee's employment contract signed by both parties;",null,null,null,null,null,null,null,null,null,null,null,null,null,null,null,null,null,null,null,null,null,null,null,null,null,null,null,null,null,null,"Production of original written information content"]
["      (b)  a copy of the employee's CV provided upon hiring.",null,null,null,null,null,null,null,null,null,null,null,null,null,null,null,null,null,null,null,null,null,null,null,null,null,null,null,null,null,null,"Information technology exploitation activity"]
["If the number of employees concerned is more than 25, please submit your application without the requested documents. The project manager will contact you as soon as possible to obtain the necessary documents to proceed with the \nexamination of your application."]
[]
["6. Remember that, to qualify, the employee must have worked a minimum of 26 hours per week. For all employees for whom a claim has been made who do not have an average of 26 hours per week, please provide us with their pay stubs for the fiscal year covered by the application, except for employees who were on maternity, paternity or sick leave.  "]
["7. In this column, please provide information that will enable us to process your application faster. For example, details regarding temporary absence and change of duties.",null,null,null,null,null,null,null,null,null,null,null,null,null,null,null,null,null,null,null,null,null,null,null,null,null,null,null,null,null,{"$f":"IF(ISBLANK($H35),AND($G35>=$F35,$G35>=DATE(2008,3,14)),AND($G35>=$F35,$G35>=DATE(2008,3,14),$G35<=$H35))","v":false}]
[null,null,null,null,"Examples: ","eight-week sick leave;",null,null,null,null,null,null,null,null,null,null,null,null,null,null,null,null,null,null,null,null,null,null,null,null,null,null,null,{"$f":"IF(ISBLANK($W36),AND($L36>=$G36,$L36>=DATE(2008,3,14)),AND($L36>=$G36,$L36>=DATE(2008,3,14),$L36<=$W36))","v":false}]
[null,null,null,null,null,"paternity leave from March 5 to April 5;",null,null,null,null,null,null,null,null,null,null,null,null,null,null,null,null,null,null,null,null,null,null,null,null,null,null,null,{"$f":"IF(ISBLANK($W37),AND($L37>=$G37,$L37>=DATE(2008,3,14)),AND($L37>=$G37,$L37>=DATE(2008,3,14),$L37<=$W37))","v":false}]
[null,null,null,null,null,"internship from January 1 to July 1;",null,null,null,null,null,null,null,null,null,null,null,null,null,null,null,null,null,null,null,null,null,null,null,null,null,null,null,{"$f":"IF(ISBLANK($W38),AND($L38>=$G38,$L38>=DATE(2008,3,14)),AND($L38>=$G38,$L38>=DATE(2008,3,14),$L38<=$W38))","v":false}]
[null,null,null,null,null,"unpaid leave.",null,null,null,null,null,null,null,null,null,null,null,null,null,null,null,null,null,null,null,null,null,null,null,null,{"$f":"IF(ISBLANK($H39),AND($G39>=$F39,$G39>=DATE(2008,3,14)),AND($G39>=$F39,$G39>=DATE(2008,3,14),$G39<=$H39))","v":false}]
["8. The beginning of the period may not be earlier than January 1, 2019 and the end of the period of employment for an employee of an eligible subsidiary may not be later than December 31, 2019.",null,null,null,null,null,null,null,null,null,null,null,null,null,null,null,null,null,null,null,null,null,null,null,null,null,null,null,null,null,false]
[null,null,null,null,null,null,null,null,null,null,null,null,null,null,null,null,null,null,null,null,null,null,null,null,null,null,null,null,null,null,false]
[null,null,null,null,null,null,null,null,null,null,null,null,null,null,null,null,null,null,null,null,null,null,null,null,null,null,null,null,null,null,false]
[null,null,null,null,null,null,null,null,null,null,null,null,null,null,null,null,null,null,null,null,null,null,null,null,null,null,null,null,null,null,false]
[null,null,null,null,null,null,null,null,null,null,null,null,null,null,null,null,null,null,null,null,null,null,null,null,null,null,null,null,null,null,false]
[null,null,null,null,null,null,null,null,null,null,null,null,null,null,null,null,null,null,null,null,null,null,null,null,null,null,null,null,null,null,false]
[null,null,null,null,null,null,null,null,null,null,null,null,null,null,null,null,null,null,null,null,null,null,null,null,null,null,null,null,null,null,false]
[null,null,null,null,null,null,null,null,null,null,null,null,null,null,null,null,null,null,null,null,null,null,null,null,null,null,null,null,null,null,false]
[null,null,null,null,null,null,null,null,null,null,null,null,null,null,null,null,null,null,null,null,null,null,null,null,null,null,null,null,null,null,false]
[null,null,null,null,null,null,null,null,null,null,null,null,null,null,null,null,null,null,null,null,null,null,null,null,null,null,null,null,null,null,false]
[null,null,null,null,null,null,null,null,null,null,null,null,null,null,null,null,null,null,null,null,null,null,null,null,null,null,null,null,null,null,false]
[null,null,null,null,null,null,null,null,null,null,null,null,null,null,null,null,null,null,null,null,null,null,null,null,null,null,null,null,null,null,false]
[null,null,null,null,null,null,null,null,null,null,null,null,null,null,null,null,null,null,null,null,null,null,null,null,null,null,null,null,null,null,false]
[null,null,null,null,null,null,null,null,null,null,null,null,null,null,null,null,null,null,null,null,null,null,null,null,null,null,null,null,null,null,false]
[null,null,null,null,null,null,null,null,null,null,null,null,null,null,null,null,null,null,null,null,null,null,null,null,null,null,null,null,null,null,false]
[null,null,null,null,null,null,null,null,null,null,null,null,null,null,null,null,null,null,null,null,null,null,null,null,null,null,null,null,null,null,false]
[null,null,null,null,null,null,null,null,null,null,null,null,null,null,null,null,null,null,null,null,null,null,null,null,null,null,null,null,null,null,false]

{"sheet":"Appendix A1-Employee Movements","index":4,"n_rows":49,"n_cols":26,"rows_kept":49,"cut":false,"hidden":false,"merged":[[0,6,0,12],[16,10,16,12],[13,4,13,5],[14,4,14,5],[15,4,15,5],[16,4,16,5],[13,1,13,2],[14,1,14,2],[15,1,15,2],[16,1,16,2],[23,8,23,9],[19,10,19,12],[20,10,20,12],[21,10,21,12],[22,10,22,12],[23,10,23,12],[19,8,19,9],[20,8,20,9],[21,8,21,9],[22,8,22,9],[23,1,23,2],[19,4,19,5],[20,4,20,5],[21,4,21,5],[22,4,22,5],[23,4,23,5],[22,1,22,2],[18,1,18,2],[5,10,5,12],[6,10,6,12],[17,4,17,5],[25,10,25,12],[26,10,26,12],[26,4,26,5],[24,8,24,9],[25,8,25,9],[26,8,26,9],[27,8,27,9],[8,10,10,12],[11,10,11,12],[12,10,12,12],[17,10,17,12],[18,10,18,12],[24,10,24,12],[18,8,18,9],[8,8,10,9],[11,8,11,9],[12,8,12,9],[17,8,17,9],[13,8,13,9],[14,8,14,9],[15,8,15,9],[16,8,16,9],[18,4,18,5],[24,4,24,5],[25,4,25,5],[13,10,13,12],[14,10,14,12],[15,10,15,12],[27,0,27,6],[32,9,32,10],[0,0,0,2],[1,0,1,10],[2,0,2,10],[5,1,5,4],[3,1,3,9],[4,10,4,12],[4,8,4,9],[33,9,33,10],[4,1,4,4],[4,6,4,7],[31,9,31,10],[28,0,28,12],[8,6,10,6],[8,3,10,3],[7,8,7,10],[7,4,7,5],[8,7,10,7],[8,0,9,0],[8,4,10,5],[11,4,11,5],[12,4,12,5],[19,1,19,2],[20,1,20,2],[21,1,21,2],[8,1,10,2],[11,1,11,2],[12,1,12,2],[17,1,17,2],[24,1,24,2],[25,1,25,2],[26,1,26,2],[34,9,34,10],[35,9,35,10],[36,9,36,10],[37,9,37,10],[38,9,38,10],[39,9,39,10],[40,9,40,10],[41,9,41,10],[42,9,42,10],[43,9,43,10],[44,9,44,10],[45,9,45,10],[46,9,46,10],[47,9,47,10],[48,9,48,10],[49,9,49,10],[50,9,50,10],[51,9,51,10],[52,9,52,10],[53,9,53,10],[54,9,54,10],[55,9,55,10],[56,9,56,10],[57,9,57,10],[58,9,58,10],[59,9,59,10],[60,9,60,10],[61,9,61,10],[62,9,62,10],[63,9,63,10],[64,9,64,10],[65,9,65,10],[66,9,66,10],[67,9,67,10],[68,9,68,10],[69,9,69,10],[70,9,70,10],[71,9,71,10],[72,9,72,10],[73,9,73,10],[74,9,74,10],[75,9,75,10],[76,9,76,10],[77,9,77,10],[78,9,78,10],[79,9,79,10],[80,9,80,10],[81,9,81,10],[82,9,82,10],[83,9,83,10],[84,9,84,10],[85,9,85,10],[86,9,86,10],[87,9,87,10],[88,9,88,10],[89,9,89,10],[90,9,90,10],[91,9,91,10],[92,9,92,10],[93,9,93,10],[94,9,94,10],[95,9,95,10],[96,9,96,10],[97,9,97,10],[98,9,98,10],[99,9,99,10],[100,9,100,10],[101,9,101,10],[102,9,102,10],[103,9,103,10],[104,9,104,10],[105,9,105,10],[106,9,106,10],[107,9,107,10],[108,9,108,10],[109,9,109,10],[110,9,110,10],[111,9,111,10],[112,9,112,10],[113,9,113,10],[114,9,114,10],[115,9,115,10],[116,9,116,10],[117,9,117,10],[118,9,118,10],[119,9,119,10],[120,9,120,10],[121,9,121,10],[122,9,122,10],[123,9,123,10],[124,9,124,10],[125,9,125,10],[126,9,126,10],[127,9,127,10],[128,9,128,10],[129,9,129,10],[130,9,130,10],[131,9,131,10],[132,9,132,10],[133,9,133,10],[134,9,134,10],[135,9,135,10],[136,9,136,10],[137,9,137,10],[138,9,138,10],[139,9,139,10],[140,9,140,10],[141,9,141,10],[142,9,142,10],[143,9,143,10],[144,9,144,10],[145,9,145,10],[146,9,146,10],[147,9,147,10],[148,9,148,10],[149,9,149,10],[150,9,150,10],[151,9,151,10],[152,9,152,10],[153,9,153,10],[154,9,154,10],[155,9,155,10],[156,9,156,10],[157,9,157,10],[158,9,158,10],[159,9,159,10],[160,9,160,10],[161,9,161,10],[162,9,162,10],[163,9,163,10],[164,9,164,10],[165,9,165,10],[166,9,166,10],[167,9,167,10],[168,9,168,10],[169,9,169,10],[170,9,170,10],[171,9,171,10],[172,9,172,10],[173,9,173,10],[174,9,174,10],[175,9,175,10],[176,9,176,10],[177,9,177,10],[178,9,178,10],[179,9,179,10],[180,9,180,10],[181,9,181,10],[182,9,182,10],[183,9,183,10],[184,9,184,10],[185,9,185,10],[186,9,186,10],[187,9,187,10],[188,9,188,10],[189,9,189,10],[190,9,190,10],[191,9,191,10],[192,9,192,10],[193,9,193,10],[194,9,194,10],[195,9,195,10],[196,9,196,10],[197,9,197,10],[198,9,198,10],[199,9,199,10],[200,9,200,10],[201,9,201,10],[202,9,202,10],[203,9,203,10],[204,9,204,10],[205,9,205,10],[206,9,206,10],[207,9,207,10],[208,9,208,10],[209,9,209,10],[210,9,210,10],[211,9,211,10],[212,9,212,10],[213,9,213,10],[214,9,214,10],[215,9,215,10],[216,9,216,10],[217,9,217,10],[218,9,218,10],[219,9,219,10],[220,9,220,10],[221,9,221,10],[222,9,222,10],[223,9,223,10],[224,9,224,10],[225,9,225,10],[226,9,226,10],[227,9,227,10],[228,9,228,10],[229,9,229,10],[230,9,230,10],[231,9,231,10],[232,9,232,10],[233,9,233,10],[234,9,234,10],[235,9,235,10],[236,9,236,10],[237,9,237,10],[238,9,238,10],[239,9,239,10],[240,9,240,10],[241,9,241,10],[242,9,242,10],[243,9,243,10],[244,9,244,10],[245,9,245,10],[246,9,246,10],[247,9,247,10],[248,9,248,10],[249,9,249,10],[250,9,250,10],[251,9,251,10],[252,9,252,10],[253,9,253,10],[254,9,254,10],[255,9,255,10],[256,9,256,10],[257,9,257,10],[258,9,258,10],[259,9,259,10],[260,9,260,10],[261,9,261,10],[262,9,262,10],[263,9,263,10],[264,9,264,10],[265,9,265,10],[266,9,266,10],[267,9,267,10],[268,9,268,10],[269,9,269,10],[270,9,270,10],[271,9,271,10],[272,9,272,10],[273,9,273,10],[274,9,274,10],[275,9,275,10],[276,9,276,10],[277,9,277,10],[278,9,278,10],[279,9,279,10],[280,9,280,10],[281,9,281,10],[282,9,282,10],[283,9,283,10],[284,9,284,10],[285,9,285,10],[286,9,286,10],[287,9,287,10],[288,9,288,10],[289,9,289,10],[290,9,290,10],[291,9,291,10],[292,9,292,10],[293,9,293,10],[294,9,294,10],[295,9,295,10],[296,9,296,10],[297,9,297,10],[298,9,298,10],[299,9,299,10],[300,9,300,10],[301,9,301,10],[302,9,302,10],[303,9,303,10],[304,9,304,10],[305,9,305,10],[306,9,306,10],[307,9,307,10],[308,9,308,10],[309,9,309,10],[310,9,310,10],[311,9,311,10],[312,9,312,10],[313,9,313,10],[314,9,314,10],[315,9,315,10],[316,9,316,10],[317,9,317,10],[318,9,318,10],[319,9,319,10],[320,9,320,10],[321,9,321,10],[322,9,322,10],[323,9,323,10],[324,9,324,10],[325,9,325,10],[326,9,326,10],[327,9,327,10],[328,9,328,10],[329,9,329,10],[330,9,330,10],[331,9,331,10],[332,9,332,10],[333,9,333,10],[334,9,334,10],[335,9,335,10],[336,9,336,10],[337,9,337,10],[338,9,338,10],[339,9,339,10],[340,9,340,10],[341,9,341,10],[342,9,342,10],[343,9,343,10],[344,9,344,10],[345,9,345,10],[346,9,346,10],[347,9,347,10],[348,9,348,10],[349,9,349,10],[350,9,350,10],[351,9,351,10],[352,9,352,10],[353,9,353,10],[354,9,354,10],[355,9,355,10],[356,9,356,10],[357,9,357,10],[358,9,358,10],[359,9,359,10],[360,9,360,10],[361,9,361,10],[362,9,362,10],[363,9,363,10],[364,9,364,10],[365,9,365,10],[366,9,366,10],[367,9,367,10],[368,9,368,10],[369,9,369,10],[370,9,370,10],[371,9,371,10],[372,9,372,10],[373,9,373,10],[374,9,374,10],[375,9,375,10],[376,9,376,10],[377,9,377,10],[378,9,378,10],[379,9,379,10],[380,9,380,10],[381,9,381,10],[382,9,382,10],[383,9,383,10],[384,9,384,10],[385,9,385,10],[386,9,386,10],[387,9,387,10],[388,9,388,10],[389,9,389,10],[390,9,390,10],[391,9,391,10],[392,9,392,10],[393,9,393,10],[394,9,394,10],[395,9,395,10],[396,9,396,10],[397,9,397,10],[398,9,398,10],[399,9,399,10],[400,9,400,10],[401,9,401,10],[402,9,402,10],[403,9,403,10],[404,9,404,10],[405,9,405,10],[406,9,406,10],[407,9,407,10],[408,9,408,10],[409,9,409,10],[410,9,410,10],[411,9,411,10],[412,9,412,10],[413,9,413,10],[414,9,414,10],[415,9,415,10],[416,9,416,10],[417,9,417,10],[418,9,418,10],[419,9,419,10],[420,9,420,10],[421,9,421,10],[422,9,422,10],[423,9,423,10],[424,9,424,10],[425,9,425,10],[426,9,426,10],[427,9,427,10],[428,9,428,10],[429,9,429,10],[430,9,430,10],[431,9,431,10],[432,9,432,10],[433,9,433,10],[434,9,434,10],[435,9,435,10],[436,9,436,10],[437,9,437,10],[438,9,438,10],[439,9,439,10],[440,9,440,10],[441,9,441,10],[442,9,442,10],[443,9,443,10],[444,9,444,10],[445,9,445,10],[446,9,446,10],[447,9,447,10],[448,9,448,10],[449,9,449,10],[450,9,450,10],[451,9,451,10],[452,9,452,10],[453,9,453,10],[454,9,454,10],[455,9,455,10],[456,9,456,10],[457,9,457,10],[458,9,458,10],[459,9,459,10],[460,9,460,10],[461,9,461,10],[462,9,462,10],[463,9,463,10],[464,9,464,10],[465,9,465,10],[466,9,466,10],[467,9,467,10],[468,9,468,10],[469,9,469,10],[470,9,470,10],[471,9,471,10],[472,9,472,10],[473,9,473,10],[474,9,474,10],[475,9,475,10],[476,9,476,10],[477,9,477,10],[478,9,478,10],[479,9,479,10],[480,9,480,10],[481,9,481,10],[482,9,482,10],[483,9,483,10],[484,9,484,10],[485,9,485,10],[486,9,486,10],[487,9,487,10],[488,9,488,10],[489,9,489,10],[490,9,490,10],[491,9,491,10],[492,9,492,10],[493,9,493,10],[494,9,494,10],[495,9,495,10],[496,9,496,10],[497,9,497,10],[498,9,498,10],[499,9,499,10],[500,9,500,10],[501,9,501,10],[502,9,502,10],[503,9,503,10],[504,9,504,10],[505,9,505,10],[506,9,506,10],[507,9,507,10],[508,9,508,10],[509,9,509,10],[510,9,510,10],[511,9,511,10],[512,9,512,10],[513,9,513,10],[514,9,514,10],[515,9,515,10],[516,9,516,10],[517,9,517,10],[518,9,518,10],[519,9,519,10],[520,9,520,10],[521,9,521,10],[522,9,522,10],[523,9,523,10],[524,9,524,10],[525,9,525,10],[526,9,526,10],[527,9,527,10],[528,9,528,10],[529,9,529,10],[530,9,530,10],[531,9,531,10],[532,9,532,10],[533,9,533,10],[534,9,534,10],[535,9,535,10],[536,9,536,10],[537,9,537,10],[538,9,538,10],[539,9,539,10],[540,9,540,10],[541,9,541,10],[542,9,542,10],[543,9,543,10],[544,9,544,10],[545,9,545,10],[546,9,546,10],[547,9,547,10],[548,9,548,10],[549,9,549,10],[550,9,550,10],[551,9,551,10],[552,9,552,10],[553,9,553,10],[554,9,554,10],[555,9,555,10],[556,9,556,10],[557,9,557,10],[558,9,558,10],[559,9,559,10],[560,9,560,10],[561,9,561,10],[562,9,562,10],[563,9,563,10],[564,9,564,10],[565,9,565,10],[566,9,566,10],[567,9,567,10],[568,9,568,10],[569,9,569,10],[570,9,570,10],[571,9,571,10],[572,9,572,10],[573,9,573,10],[574,9,574,10],[575,9,575,10],[576,9,576,10],[577,9,577,10],[578,9,578,10],[579,9,579,10],[580,9,580,10],[581,9,581,10],[582,9,582,10],[583,9,583,10],[584,9,584,10],[585,9,585,10],[586,9,586,10],[587,9,587,10],[588,9,588,10],[589,9,589,10],[590,9,590,10],[591,9,591,10],[592,9,592,10],[593,9,593,10],[594,9,594,10],[595,9,595,10],[596,9,596,10],[597,9,597,10],[598,9,598,10],[599,9,599,10],[600,9,600,10],[601,9,601,10],[602,9,602,10],[603,9,603,10],[604,9,604,10],[605,9,605,10],[606,9,606,10],[607,9,607,10],[608,9,608,10],[609,9,609,10],[610,9,610,10],[611,9,611,10],[612,9,612,10],[613,9,613,10],[614,9,614,10],[615,9,615,10],[616,9,616,10],[617,9,617,10],[618,9,618,10],[619,9,619,10],[620,9,620,10],[621,9,621,10],[622,9,622,10],[623,9,623,10],[624,9,624,10],[625,9,625,10],[626,9,626,10],[627,9,627,10],[628,9,628,10],[629,9,629,10],[630,9,630,10],[631,9,631,10],[632,9,632,10],[633,9,633,10],[634,9,634,10],[635,9,635,10],[636,9,636,10],[637,9,637,10],[638,9,638,10],[639,9,639,10],[640,9,640,10],[641,9,641,10],[642,9,642,10],[643,9,643,10],[644,9,644,10],[645,9,645,10],[646,9,646,10],[647,9,647,10],[648,9,648,10],[649,9,649,10],[650,9,650,10],[651,9,651,10],[652,9,652,10],[653,9,653,10],[654,9,654,10],[655,9,655,10],[656,9,656,10],[657,9,657,10],[658,9,658,10],[659,9,659,10],[660,9,660,10],[661,9,661,10],[662,9,662,10],[663,9,663,10],[664,9,664,10],[665,9,665,10],[666,9,666,10],[667,9,667,10],[668,9,668,10],[669,9,669,10],[670,9,670,10],[671,9,671,10],[672,9,672,10],[673,9,673,10],[674,9,674,10],[675,9,675,10],[676,9,676,10],[677,9,677,10],[678,9,678,10],[679,9,679,10],[680,9,680,10],[681,9,681,10],[682,9,682,10],[683,9,683,10],[684,9,684,10],[685,9,685,10],[686,9,686,10],[687,9,687,10],[688,9,688,10],[689,9,689,10],[690,9,690,10],[691,9,691,10],[692,9,692,10],[693,9,693,10],[694,9,694,10],[695,9,695,10],[696,9,696,10],[697,9,697,10],[698,9,698,10],[699,9,699,10],[700,9,700,10],[701,9,701,10],[702,9,702,10],[703,9,703,10],[704,9,704,10],[705,9,705,10],[706,9,706,10],[707,9,707,10],[708,9,708,10],[709,9,709,10],[710,9,710,10],[711,9,711,10],[712,9,712,10],[713,9,713,10],[714,9,714,10],[715,9,715,10],[716,9,716,10],[717,9,717,10],[718,9,718,10],[719,9,719,10],[720,9,720,10],[721,9,721,10],[722,9,722,10],[723,9,723,10],[724,9,724,10],[725,9,725,10],[726,9,726,10],[727,9,727,10],[728,9,728,10],[729,9,729,10],[730,9,730,10],[731,9,731,10],[732,9,732,10],[733,9,733,10],[734,9,734,10],[735,9,735,10],[736,9,736,10],[737,9,737,10],[738,9,738,10],[739,9,739,10],[740,9,740,10],[741,9,741,10],[742,9,742,10],[743,9,743,10],[744,9,744,10],[745,9,745,10],[746,9,746,10],[747,9,747,10],[748,9,748,10],[749,9,749,10],[750,9,750,10],[751,9,751,10],[752,9,752,10],[753,9,753,10],[754,9,754,10],[755,9,755,10],[756,9,756,10],[757,9,757,10],[758,9,758,10],[759,9,759,10],[760,9,760,10],[761,9,761,10],[762,9,762,10],[763,9,763,10],[764,9,764,10],[765,9,765,10],[766,9,766,10],[767,9,767,10],[768,9,768,10],[769,9,769,10],[770,9,770,10],[771,9,771,10],[772,9,772,10],[773,9,773,10],[774,9,774,10],[775,9,775,10],[776,9,776,10],[777,9,777,10],[778,9,778,10],[779,9,779,10],[780,9,780,10],[781,9,781,10],[782,9,782,10],[783,9,783,10],[784,9,784,10],[785,9,785,10],[786,9,786,10],[787,9,787,10],[788,9,788,10],[789,9,789,10],[790,9,790,10],[791,9,791,10],[792,9,792,10],[793,9,793,10],[794,9,794,10],[795,9,795,10],[796,9,796,10],[797,9,797,10],[798,9,798,10],[799,9,799,10],[800,9,800,10],[801,9,801,10],[802,9,802,10],[803,9,803,10],[804,9,804,10],[805,9,805,10],[806,9,806,10],[807,9,807,10],[808,9,808,10],[809,9,809,10],[810,9,810,10],[811,9,811,10],[812,9,812,10],[813,9,813,10],[814,9,814,10],[815,9,815,10],[816,9,816,10],[817,9,817,10],[818,9,818,10],[819,9,819,10],[820,9,820,10],[821,9,821,10],[822,9,822,10],[823,9,823,10],[824,9,824,10],[825,9,825,10],[826,9,826,10],[827,9,827,10],[828,9,828,10],[829,9,829,10],[830,9,830,10],[831,9,831,10],[832,9,832,10],[833,9,833,10],[834,9,834,10],[835,9,835,10],[836,9,836,10],[837,9,837,10],[838,9,838,10],[839,9,839,10],[840,9,840,10],[841,9,841,10],[842,9,842,10],[843,9,843,10],[844,9,844,10],[845,9,845,10],[846,9,846,10],[847,9,847,10],[848,9,848,10],[849,9,849,10],[850,9,850,10],[851,9,851,10],[852,9,852,10],[853,9,853,10],[854,9,854,10],[855,9,855,10],[856,9,856,10],[857,9,857,10],[858,9,858,10],[859,9,859,10],[860,9,860,10],[861,9,861,10],[862,9,862,10],[863,9,863,10],[864,9,864,10],[865,9,865,10],[866,9,866,10],[867,9,867,10],[868,9,868,10],[869,9,869,10],[870,9,870,10],[871,9,871,10],[872,9,872,10],[873,9,873,10],[874,9,874,10],[875,9,875,10],[876,9,876,10],[877,9,877,10],[878,9,878,10],[879,9,879,10],[880,9,880,10],[881,9,881,10],[882,9,882,10],[883,9,883,10],[884,9,884,10],[885,9,885,10],[886,9,886,10],[887,9,887,10],[888,9,888,10],[889,9,889,10],[890,9,890,10],[891,9,891,10],[892,9,892,10],[893,9,893,10],[894,9,894,10],[895,9,895,10],[896,9,896,10],[897,9,897,10],[898,9,898,10],[899,9,899,10],[900,9,900,10],[901,9,901,10],[902,9,902,10],[903,9,903,10],[904,9,904,10],[905,9,905,10],[906,9,906,10],[907,9,907,10],[908,9,908,10],[909,9,909,10],[910,9,910,10],[911,9,911,10],[912,9,912,10],[913,9,913,10],[914,9,914,10],[915,9,915,10],[916,9,916,10],[917,9,917,10],[918,9,918,10],[919,9,919,10],[920,9,920,10],[921,9,921,10],[922,9,922,10],[923,9,923,10],[924,9,924,10],[925,9,925,10],[926,9,926,10],[927,9,927,10],[928,9,928,10],[929,9,929,10],[930,9,930,10],[931,9,931,10],[932,9,932,10],[933,9,933,10],[934,9,934,10],[935,9,935,10],[936,9,936,10],[937,9,937,10],[938,9,938,10],[939,9,939,10],[940,9,940,10],[941,9,941,10]],"merged_total":2042,"flags":["merged_cut"]}
[null,null,null,null,null,null,{"$f":"Instructions!N1","v":"Tax Measure to Support Print Media Companies\n(2020-02 version)"}]
["Appendix A1 – Employee Movement \nList of Employees Covered"]
["(Appendix A1 is an integral part of this application for an employee certificate )"]
[null,"Complete this appendix for all employees for whom a claim is being made who are no longer employed by the corporation or partnership on the date this application is signed and who had worked for 40 weeks since hiring. "]
[null,"Name of the corporation or partnership",null,null,null,null,"File number",null,"Fiscal year"]
[null,{"$f":"IF('Application-Media'!A6=\"\",\"\",'Application-Media'!A6)","v":""},null,null,null,null,{"$f":"IF('Application-Media'!U8=\"\",\"\",'Application-Media'!U8)","v":""},"from",{"$f":"IF('Application-Media'!I44=\"\",\"\",'Application-Media'!I44)","v":""},"to",{"$f":"IF('Application-Media'!Q44=\"\",\"\",'Application-Media'!Q44)","v":""}]
[null,null,null,null,null,null,null,null,"(yyyy-mm-dd)",null,"(yyyy-mm-dd)"]
[]
["Names of employees who left and who had worked less than 40 weeks since hiring1","Position\n(must correspond to the title entered in the job description and on the organization chart)",null,"Termination date\n(yyyy-mm-dd)","Reason for termination",null,"Employee replaced? (select)","Name of replacement2 if any","If the employee was not replaced, specify reason",null,"First day of work for replacement"]
[]
["As follows:                                    Last name (1 space) First name"]
[null,null,null,null,null,null,null,null,null,null,null,null,null,null,null,null,null,null,null,null,null,null,null,null,null,{"$f":"IF(ISBLANK($F12),AND($E12>=$D12,$E12>=DATE(2008,3,14)),AND($E12>=$D12,$E12>=DATE(2008,3,14),$E12<=$F12))","v":false}]
[null,null,null,null,null,null,null,null,null,null,null,null,null,null,null,null,null,null,null,null,null,null,null,null,null,{"$f":"IF(ISBLANK($F13),AND($E13>=$D13,$E13>=DATE(2008,3,14)),AND($E13>=$D13,$E13>=DATE(2008,3,14),$E13<=$F13))","v":false}]
[]
[]
[]
[]
[null,null,null,null,null,null,null,null,null,null,null,null,null,null,null,null,null,null,null,null,null,null,null,null,null,{"$f":"IF(ISBLANK($F18),AND($E18>=$D18,$E18>=DATE(2008,3,14)),AND($E18>=$D18,$E18>=DATE(2008,3,14),$E18<=$F18))","v":false}]
[null,null,null,null,null,null,null,null,null,null,null,null,null,null,null,null,null,null,null,null,null,null,null,null,null,{"$f":"IF(ISBLANK($F19),AND($E19>=$D19,$E19>=DATE(2008,3,14)),AND($E19>=$D19,$E19>=DATE(2008,3,14),$E19<=$F19))","v":false}]
[]
[]
[]
[]
[]
[null,null,null,null,null,null,null,null,null,null,null,null,null,null,null,null,null,null,null,null,null,null,null,null,null,{"$f":"IF(ISBLANK($F25),AND($E25>=$D25,$E25>=DATE(2008,3,14)),AND($E25>=$D25,$E25>=DATE(2008,3,14),$E25<=$F25))","v":false}]
[null,null,null,null,null,null,null,null,null,null,null,null,null,null,null,null,null,null,null,null,null,null,null,null,null,{"$f":"IF(ISBLANK($F26),AND($E26>=$D26,$E26>=DATE(2008,3,14)),AND($E26>=$D26,$E26>=DATE(2008,3,14),$E26<=$F26))","v":false}]
[null,null,null,null,null,null,null,null,null,null,null,null,null,null,null,null,null,null,null,null,null,null,null,null,null,{"$f":"IF(ISBLANK($F27),AND($E27>=$D27,$E27>=DATE(2008,3,14)),AND($E27>=$D27,$E27>=DATE(2008,3,14),$E27<=$F27))","v":false}]
["1. For each employee for whom a claim is being made but who had left as at the date this application is signed, please provide the record of employment."]
["2. If the employee has been replaced, please provide the employment contract for the replacement signed by both parties and a copy of his/her CV provided upon hiring.",null,null,null,null,null,null,null,null,null,null,null,null,null,null,null,null,null,null,null,null,null,null,null,null,{"$f":"IF(ISBLANK($F29),AND($E29>=$D29,$E29>=DATE(2008,3,14)),AND($E29>=$D29,$E29>=DATE(2008,3,14),$E29<=$F29))","v":false}]
[]
["If the number of employees concerned in notes 1 and 2 above is greater than 25, please submit your application without the documents requested. The project manager will contact you as soon as possible to obtain the necessary documents to proceed with the examination of your application. ",null,null,null,null,null,null,null,null,null,null,null,null,null,null,null,null,null,null,null,null,null,null,null,null,{"$f":"IF(ISBLANK($F31),AND($E31>=$D31,$E31>=DATE(2008,3,14)),AND($E31>=$D31,$E31>=DATE(2008,3,14),$E31<=$F31))","v":false}]
[null,null,null,null,null,null,null,null,null,null,null,null,null,null,null,null,null,null,null,null,null,null,null,null,null,false]
[null,null,null,null,null,null,null,null,null,null,null,null,null,null,null,null,null,null,null,null,null,null,null,null,null,false]
[null,null,null,null,null,null,null,null,null,null,null,null,null,null,null,null,null,null,null,null,null,null,null,null,null,false]
[null,null,null,null,null,null,null,null,null,null,null,null,null,null,null,null,null,null,null,null,null,null,null,null,null,false]
[null,null,null,null,null,null,null,null,null,null,null,null,null,null,null,null,null,null,null,null,null,null,null,null,null,false]
[null,null,null,null,null,null,null,null,null,null,null,null,null,null,null,null,null,null,null,null,null,null,null,null,null,false]
[null,null,null,null,null,null,null,null,null,null,null,null,null,null,null,null,null,null,null,null,null,null,null,null,null,false]
[null,null,null,null,null,null,null,null,null,null,null,null,null,null,null,null,null,null,null,null,null,null,null,null,null,false]
[null,null,null,null,null,null,null,null,null,null,null,null,null,null,null,null,null,null,null,null,null,null,null,null,null,false]
[null,null,null,null,null,null,null,null,null,null,null,null,null,null,null,null,null,null,null,null,null,null,null,null,null,false]
[null,null,null,null,null,null,null,null,null,null,null,null,null,null,null,null,null,null,null,null,null,null,null,null,null,false]
[null,null,null,null,null,null,null,null,null,null,null,null,null,null,null,null,null,null,null,null,null,null,null,null,null,false]
[null,null,null,null,null,null,null,null,null,null,null,null,null,null,null,null,null,null,null,null,null,null,null,null,null,false]
[null,null,null,null,null,null,null,null,null,null,null,null,null,null,null,null,null,null,null,null,null,null,null,null,null,false]
[null,null,null,null,null,null,null,null,null,null,null,null,null,null,null,null,null,null,null,null,null,null,null,null,null,false]
[null,null,null,null,null,null,null,null,null,null,null,null,null,null,null,null,null,null,null,null,null,null,null,null,null,false]
["Yes",null,null,null,null,null,null,null,null,null,null,null,null,null,null,null,null,null,null,null,null,null,null,null,null,false]
["No"]

{"sheet":"Appendix B-Media","index":5,"n_rows":3993,"n_cols":19,"rows_kept":3993,"cut":false,"hidden":false,"merged":[[26,9,26,10],[27,9,27,10],[28,9,28,10],[21,9,21,10],[22,9,22,10],[23,9,23,10],[24,9,24,10],[25,9,25,10],[11,14,12,14],[11,15,12,15],[10,12,10,18],[11,16,12,16],[11,18,12,18],[11,17,12,17],[11,12,12,12],[21,3,21,5],[22,3,22,5],[23,3,23,5],[24,3,24,5],[25,3,25,5],[0,14,0,18],[1,12,1,18],[2,12,2,18],[0,3,0,4],[0,6,0,10],[1,1,1,10],[2,1,2,10],[36,3,36,9],[29,3,29,5],[30,3,30,5],[31,3,31,5],[28,3,28,5],[33,3,33,9],[31,6,31,7],[28,6,28,7],[29,6,29,7],[30,6,30,7],[35,3,35,9],[29,9,29,10],[30,9,30,10],[31,9,31,10],[27,3,27,5],[25,6,25,7],[26,6,26,7],[27,6,27,7],[26,3,26,5],[24,6,24,7],[14,6,14,7],[15,6,15,7],[16,6,16,7],[18,6,18,7],[19,6,19,7],[20,6,20,7],[21,6,21,7],[22,6,22,7],[23,6,23,7],[17,6,17,7],[19,3,19,5],[20,3,20,5],[6,3,6,9],[16,3,16,5],[17,3,17,5],[14,3,14,5],[15,3,15,5],[18,3,18,5],[11,9,12,10],[14,9,14,10],[15,9,15,10],[16,9,16,10],[17,9,17,10],[18,9,18,10],[19,9,19,10],[20,9,20,10],[4,12,4,13],[4,18,4,19],[11,1,12,1],[10,3,10,5],[11,3,13,5],[11,6,12,7],[11,8,12,8],[11,2,12,2],[5,1,5,2],[4,1,4,2],[4,9,4,10],[8,4,8,6],[11,11,12,11],[5,12,5,14],[6,12,6,18],[11,13,12,13]]}
[null,null,null,null,null,null,{"$f":"Instructions!N1","v":"Tax Measure to Support Print Media Companies\n(2020-02 version)"},null,null,null,null,null,null,null,{"$f":"Instructions!N1","v":"Tax Measure to Support Print Media Companies\n(2020-02 version)"}]
[null,"Appendix B – Application for Media Certificates\nDescription of the Media Produced and Published by the Corporation or Partnership",null,null,null,null,null,null,null,null,null,null,"Annexe B - Demande d'attestation de média\nDescription du média produit et diffusé par la société ou la société de personnes"]
[null,"(Appendix B forms an integral part of this Application)"]
[]
[null,"Name of the corporation or partnership",null,null,null,null,null,"NEQ",null,"IQ file number",null,null,"Name of the corporation or partnership",null,null,null,"NEQ",null,"IQ file number"]
[null,{"$f":"IF('Application-Media'!A6=\"\",\"\",'Application-Media'!A6)","v":""},null,null,null,null,null,{"$f":"IF('Application-Media'!A8=\"\",\"\",'Application-Media'!A8)","v":""},null,{"$f":"IF('Application-Media'!U8=\"\",\"\",'Application-Media'!U8)","v":""},null,null,{"$f":"B6","v":""},null,null,null,{"$f":"H6","v":""},null,{"$f":"J6","v":""}]
[]
[]
[null,null,null,null,"Fiscal year from",null,null,{"$f":"IF('Application-Media'!I44=\"\",\"\",'Application-Media'!I44)","v":""},"to",{"$f":"IF('Application-Media'!Q44=\"\",\"\",'Application-Media'!Q44)","v":""},null,null,null,null,null,"Fiscal year from",{"$f":"IF('Application-Media'!I44=\"\",\"\",'Application-Media'!I44)","v":""},"to",{"$f":"IF('Application-Media'!Q44=\"\",\"\",'Application-Media'!Q44)","v":""}]
[null,null,null,null,null,null,null,"(yyyy-mm-dd)",null,"(yyyy-mm-dd)",null,null,null,null,null,null,"(yyyy-mm-dd)",null,"(yyyy-mm-dd)"]
[null,null,null,null,null,null,null,null,null,null,null,null,"Content relating to news of general interest: Check off the topics covered by the media (minimum of 3 out of 7 required) "]
[null,"Name of media","IQ eligible media number, if known","Indicate publication method\n(Select)                                                                                                                                                                                                                                                                                                                                                                                                                                                                                                                                                                                                                                                                                                                                                                                                                                                                                                                                                                                                                                                                                                                                                                                                                                                                                                                                                                                                                                                                                                                                                                                ",null,null,"Date of first publication of media                                                       (yyyy-mm-dd)",null,"Have there been significant changes in the media since its last certificate? (select)","Indicate address of the establishment in which the eligible media's newsroom is located",null,"Nom du média","Politics\n","Municipal affairs\n ","International affairs\n","Cultural affairs\n","Business and economy\n","Local-interest news\n\n ","General-interest items\n\n"]
[]
[]
[{"$f":"ROW()","v":15},null,null,null,null,null,null,null,null,null,null,{"$f":"IF(B15=\"\",\"\",B15)","v":""}]
[{"$f":"ROW()","v":16},null,null,null,null,null,null,null,null,null,null,{"$f":"IF(B16=\"\",\"\",B16)","v":""}]
[{"$f":"ROW()","v":17},null,null,null,null,null,null,null,null,null,null,""]
[{"$f":"ROW()","v":18},null,null,null,null,null,null,null,null,null,null,""]
[{"$f":"ROW()","v":19},null,null,null,null,null,null,null,null,null,null,""]
[{"$f":"ROW()","v":20},null,null,null,null,null,null,null,null,null,null,""]
[{"$f":"ROW()","v":21},null,null,null,null,null,null,null,null,null,null,""]
[{"$f":"ROW()","v":22},null,null,null,null,null,null,null,null,null,null,""]
[{"$f":"ROW()","v":23},null,null,null,null,null,null,null,null,null,null,""]
[{"$f":"ROW()","v":24},null,null,null,null,null,null,null,null,null,null,""]
[{"$f":"ROW()","v":25},null,null,null,null,null,null,null,null,null,null,""]
[{"$f":"ROW()","v":26},null,null,null,null,null,null,null,null,null,null,""]
[{"$f":"ROW()","v":27},null,null,null,null,null,null,null,null,null,null,""]
[null,null,null,null,null,null,null,null,null,null,null,""]
[null,null,null,null,null,null,null,null,null,null,null,""]
[{"$f":"ROW()","v":30},null,null,null,null,null,null,null,null,null,null,""]
[{"$f":"ROW()","v":31},null,null,null,null,null,null,null,null,null,null,""]
[{"$f":"ROW()","v":32},null,null,null,null,null,null,null,null,null,null,""]
[{"$f":"ROW()","v":33}]
[{"$f":"ROW()","v":34}]
[{"$f":"ROW()","v":35}]
[{"$f":"ROW()","v":36}]
[{"$f":"ROW()","v":37}]
[{"$f":"ROW()","v":38}]
[{"$f":"ROW()","v":39}]
[{"$f":"ROW()","v":40}]
[{"$f":"ROW()","v":41}]
[{"$f":"ROW()","v":42}]
[{"$f":"ROW()","v":43}]
[{"$f":"ROW()","v":44}]
[{"$f":"ROW()","v":45}]
[{"$f":"ROW()","v":46}]
[{"$f":"ROW()","v":47}]
[{"$f":"ROW()","v":48}]
[{"$f":"ROW()","v":49}]
[{"$f":"ROW()","v":50},"Print media"]
[{"$f":"ROW()","v":51},"Website"]
[{"$f":"ROW()","v":52},"Mobile application dedicated to information"]
[{"$f":"ROW()","v":53}]
[{"$f":"ROW()","v":54},"Yes"]
[{"$f":"ROW()","v":55},"No"]
[{"$f":"ROW()","v":56}]
[{"$f":"ROW()","v":57}]
[{"$f":"ROW()","v":58}]
[{"$f":"ROW()","v":59}]
[{"$f":"ROW()","v":60}]
[{"$f":"ROW()","v":61}]
[{"$f":"ROW()","v":62}]
[{"$f":"ROW()","v":63}]
[{"$f":"ROW()","v":64}]
[{"$f":"ROW()","v":65}]
[{"$f":"ROW()","v":66}]
[{"$f":"ROW()","v":67}]
[{"$f":"ROW()","v":68}]
[{"$f":"ROW()","v":69}]
[{"$f":"ROW()","v":70}]
[{"$f":"ROW()","v":71}]
[{"$f":"ROW()","v":72}]
[{"$f":"ROW()","v":73}]
[{"$f":"ROW()","v":74}]
[{"$f":"ROW()","v":75}]
[{"$f":"ROW()","v":76}]
[{"$f":"ROW()","v":77}]
[{"$f":"ROW()","v":78}]
[{"$f":"ROW()","v":79}]
[{"$f":"ROW()","v":80}]
[{"$f":"ROW()","v":81}]
[{"$f":"ROW()","v":82}]
[{"$f":"ROW()","v":83}]
[{"$f":"ROW()","v":84}]
[{"$f":"ROW()","v":85}]
[{"$f":"ROW()","v":86}]
[{"$f":"ROW()","v":87}]
[{"$f":"ROW()","v":88}]
[{"$f":"ROW()","v":89}]
[{"$f":"ROW()","v":90}]
[{"$f":"ROW()","v":91}]
[{"$f":"ROW()","v":92}]
[{"$f":"ROW()","v":93}]
[{"$f":"ROW()","v":94}]
[{"$f":"ROW()","v":95}]
[{"$f":"ROW()","v":96}]
[{"$f":"ROW()","v":97}]
[{"$f":"ROW()","v":98}]
[{"$f":"ROW()","v":99}]
[{"$f":"ROW()","v":100}]
[{"$f":"ROW()","v":101}]
[{"$f":"ROW()","v":102}]
[{"$f":"ROW()","v":103}]
[{"$f":"ROW()","v":104}]
[{"$f":"ROW()","v":105}]
[{"$f":"ROW()","v":106}]
[{"$f":"ROW()","v":107}]
[{"$f":"ROW()","v":108}]
[{"$f":"ROW()","v":109}]
[{"$f":"ROW()","v":110}]
[{"$f":"ROW()","v":111}]
[{"$f":"ROW()","v":112}]
[{"$f":"ROW()","v":113}]
[{"$f":"ROW()","v":114}]
[{"$f":"ROW()","v":115}]
[{"$f":"ROW()","v":116}]
[{"$f":"ROW()","v":117}]
[{"$f":"ROW()","v":118}]
[{"$f":"ROW()","v":119}]
[{"$f":"ROW()","v":120}]
[{"$f":"ROW()","v":121}]
[{"$f":"ROW()","v":122}]
[{"$f":"ROW()","v":123}]
[{"$f":"ROW()","v":124}]
[{"$f":"ROW()","v":125}]
[{"$f":"ROW()","v":126}]
[{"$f":"ROW()","v":127}]
[{"$f":"ROW()","v":128}]
[{"$f":"ROW()","v":129}]
[{"$f":"ROW()","v":130}]
[{"$f":"ROW()","v":131}]
[{"$f":"ROW()","v":132}]
[{"$f":"ROW()","v":133}]
[{"$f":"ROW()","v":134}]
[{"$f":"ROW()","v":135}]
[{"$f":"ROW()","v":136}]
[{"$f":"ROW()","v":137}]
[{"$f":"ROW()","v":138}]
[{"$f":"ROW()","v":139}]
[{"$f":"ROW()","v":140}]
[{"$f":"ROW()","v":141}]
[{"$f":"ROW()","v":142}]
[{"$f":"ROW()","v":143}]
[{"$f":"ROW()","v":144}]
[{"$f":"ROW()","v":145}]
[{"$f":"ROW()","v":146}]
[{"$f":"ROW()","v":147}]
[{"$f":"ROW()","v":148}]
[{"$f":"ROW()","v":149}]
[{"$f":"ROW()","v":150}]
[{"$f":"ROW()","v":151}]
[{"$f":"ROW()","v":152}]
[{"$f":"ROW()","v":153}]
[{"$f":"ROW()","v":154}]
[{"$f":"ROW()","v":155}]
[{"$f":"ROW()","v":156}]
[{"$f":"ROW()","v":157}]
[{"$f":"ROW()","v":158}]
[{"$f":"ROW()","v":159}]
[{"$f":"ROW()","v":160}]
[{"$f":"ROW()","v":161}]
[{"$f":"ROW()","v":162}]
[{"$f":"ROW()","v":163}]
[{"$f":"ROW()","v":164}]
[{"$f":"ROW()","v":165}]
[{"$f":"ROW()","v":166}]
[{"$f":"ROW()","v":167}]
[{"$f":"ROW()","v":168}]
[{"$f":"ROW()","v":169}]
[{"$f":"ROW()","v":170}]
[{"$f":"ROW()","v":171}]
[{"$f":"ROW()","v":172}]
[{"$f":"ROW()","v":173}]
[{"$f":"ROW()","v":174}]
[{"$f":"ROW()","v":175}]
[{"$f":"ROW()","v":176}]
[{"$f":"ROW()","v":177}]
[{"$f":"ROW()","v":178}]
[{"$f":"ROW()","v":179}]
[{"$f":"ROW()","v":180}]
[{"$f":"ROW()","v":181}]
[{"$f":"ROW()","v":182}]
[{"$f":"ROW()","v":183}]
[{"$f":"ROW()","v":184}]
[{"$f":"ROW()","v":185}]
[{"$f":"ROW()","v":186}]
[{"$f":"ROW()","v":187}]
[{"$f":"ROW()","v":188}]
[{"$f":"ROW()","v":189}]
[{"$f":"ROW()","v":190}]
[{"$f":"ROW()","v":191}]
[{"$f":"ROW()","v":192}]
[{"$f":"ROW()","v":193}]
[{"$f":"ROW()","v":194}]
[{"$f":"ROW()","v":195}]
[{"$f":"ROW()","v":196}]
[{"$f":"ROW()","v":197}]
[{"$f":"ROW()","v":198}]
[{"$f":"ROW()","v":199}]
[{"$f":"ROW()","v":200}]
[{"$f":"ROW()","v":201}]
[{"$f":"ROW()","v":202}]
[{"$f":"ROW()","v":203}]
[{"$f":"ROW()","v":204}]
[{"$f":"ROW()","v":205}]
[{"$f":"ROW()","v":206}]
[{"$f":"ROW()","v":207}]
[{"$f":"ROW()","v":208}]
[{"$f":"ROW()","v":209}]
[{"$f":"ROW()","v":210}]
[{"$f":"ROW()","v":211}]
[{"$f":"ROW()","v":212}]
[{"$f":"ROW()","v":213}]
[{"$f":"ROW()","v":214}]
[{"$f":"ROW()","v":215}]
[{"$f":"ROW()","v":216}]
[{"$f":"ROW()","v":217}]
[{"$f":"ROW()","v":218}]
[{"$f":"ROW()","v":219}]
[{"$f":"ROW()","v":220}]
[{"$f":"ROW()","v":221}]
[{"$f":"ROW()","v":222}]
[{"$f":"ROW()","v":223}]
[{"$f":"ROW()","v":224}]
[{"$f":"ROW()","v":225}]
[{"$f":"ROW()","v":226}]
[{"$f":"ROW()","v":227}]
[{"$f":"ROW()","v":228}]
[{"$f":"ROW()","v":229}]
[{"$f":"ROW()","v":230}]
[{"$f":"ROW()","v":231}]
[{"$f":"ROW()","v":232}]
[{"$f":"ROW()","v":233}]
[{"$f":"ROW()","v":234}]
[{"$f":"ROW()","v":235}]
[{"$f":"ROW()","v":236}]
[{"$f":"ROW()","v":237}]
[{"$f":"ROW()","v":238}]
[{"$f":"ROW()","v":239}]
[{"$f":"ROW()","v":240}]
[{"$f":"ROW()","v":241}]
[{"$f":"ROW()","v":242}]
[{"$f":"ROW()","v":243}]
[{"$f":"ROW()","v":244}]
[{"$f":"ROW()","v":245}]
[{"$f":"ROW()","v":246}]
[{"$f":"ROW()","v":247}]
[{"$f":"ROW()","v":248}]
[{"$f":"ROW()","v":249}]
[{"$f":"ROW()","v":250}]
[{"$f":"ROW()","v":251}]
[{"$f":"ROW()","v":252}]
[{"$f":"ROW()","v":253}]
[{"$f":"ROW()","v":254}]
[{"$f":"ROW()","v":255}]
[{"$f":"ROW()","v":256}]
[{"$f":"ROW()","v":257}]
[{"$f":"ROW()","v":258}]
[{"$f":"ROW()","v":259}]
[{"$f":"ROW()","v":260}]
[{"$f":"ROW()","v":261}]
[{"$f":"ROW()","v":262}]
[{"$f":"ROW()","v":263}]
[{"$f":"ROW()","v":264}]
[{"$f":"ROW()","v":265}]
[{"$f":"ROW()","v":266}]
[{"$f":"ROW()","v":267}]
[{"$f":"ROW()","v":268}]
[{"$f":"ROW()","v":269}]
[{"$f":"ROW()","v":270}]
[{"$f":"ROW()","v":271}]
[{"$f":"ROW()","v":272}]
[{"$f":"ROW()","v":273}]
[{"$f":"ROW()","v":274}]
[{"$f":"ROW()","v":275}]
[{"$f":"ROW()","v":276}]
[{"$f":"ROW()","v":277}]
[{"$f":"ROW()","v":278}]
[{"$f":"ROW()","v":279}]
[{"$f":"ROW()","v":280}]
[{"$f":"ROW()","v":281}]
[{"$f":"ROW()","v":282}]
[{"$f":"ROW()","v":283}]
[{"$f":"ROW()","v":284}]
[{"$f":"ROW()","v":285}]
[{"$f":"ROW()","v":286}]
[{"$f":"ROW()","v":287}]
[{"$f":"ROW()","v":288}]
[{"$f":"ROW()","v":289}]
[{"$f":"ROW()","v":290}]
[{"$f":"ROW()","v":291}]
[{"$f":"ROW()","v":292}]
[{"$f":"ROW()","v":293}]
[{"$f":"ROW()","v":294}]
[{"$f":"ROW()","v":295}]
[{"$f":"ROW()","v":296}]
[{"$f":"ROW()","v":297}]
[{"$f":"ROW()","v":298}]
[{"$f":"ROW()","v":299}]
[{"$f":"ROW()","v":300}]
[{"$f":"ROW()","v":301}]
[{"$f":"ROW()","v":302}]
[{"$f":"ROW()","v":303}]
[{"$f":"ROW()","v":304}]
[{"$f":"ROW()","v":305}]
[{"$f":"ROW()","v":306}]
[{"$f":"ROW()","v":307}]
[{"$f":"ROW()","v":308}]
[{"$f":"ROW()","v":309}]
[{"$f":"ROW()","v":310}]
[{"$f":"ROW()","v":311}]
[{"$f":"ROW()","v":312}]
[{"$f":"ROW()","v":313}]
[{"$f":"ROW()","v":314}]
[{"$f":"ROW()","v":315}]
[{"$f":"ROW()","v":316}]
[{"$f":"ROW()","v":317}]
[{"$f":"ROW()","v":318}]
[{"$f":"ROW()","v":319}]
[{"$f":"ROW()","v":320}]
[{"$f":"ROW()","v":321}]
[{"$f":"ROW()","v":322}]
[{"$f":"ROW()","v":323}]
[{"$f":"ROW()","v":324}]
[{"$f":"ROW()","v":325}]
[{"$f":"ROW()","v":326}]
[{"$f":"ROW()","v":327}]
[{"$f":"ROW()","v":328}]
[{"$f":"ROW()","v":329}]
[{"$f":"ROW()","v":330}]
[{"$f":"ROW()","v":331}]
[{"$f":"ROW()","v":332}]
[{"$f":"ROW()","v":333}]
[{"$f":"ROW()","v":334}]
[{"$f":"ROW()","v":335}]
[{"$f":"ROW()","v":336}]
[{"$f":"ROW()","v":337}]
[{"$f":"ROW()","v":338}]
[{"$f":"ROW()","v":339}]
[{"$f":"ROW()","v":340}]
[{"$f":"ROW()","v":341}]
[{"$f":"ROW()","v":342}]
[{"$f":"ROW()","v":343}]
[{"$f":"ROW()","v":344}]
[{"$f":"ROW()","v":345}]
[{"$f":"ROW()","v":346}]
[{"$f":"ROW()","v":347}]
[{"$f":"ROW()","v":348}]
[{"$f":"ROW()","v":349}]
[{"$f":"ROW()","v":350}]
[{"$f":"ROW()","v":351}]
[{"$f":"ROW()","v":352}]
[{"$f":"ROW()","v":353}]
[{"$f":"ROW()","v":354}]
[{"$f":"ROW()","v":355}]
[{"$f":"ROW()","v":356}]
[{"$f":"ROW()","v":357}]
[{"$f":"ROW()","v":358}]
[{"$f":"ROW()","v":359}]
[{"$f":"ROW()","v":360}]
[{"$f":"ROW()","v":361}]
[{"$f":"ROW()","v":362}]
[{"$f":"ROW()","v":363}]
[{"$f":"ROW()","v":364}]
[{"$f":"ROW()","v":365}]
[{"$f":"ROW()","v":366}]
[{"$f":"ROW()","v":367}]
[{"$f":"ROW()","v":368}]
[{"$f":"ROW()","v":369}]
[{"$f":"ROW()","v":370}]
[{"$f":"ROW()","v":371}]
[{"$f":"ROW()","v":372}]
[{"$f":"ROW()","v":373}]
[{"$f":"ROW()","v":374}]
[{"$f":"ROW()","v":375}]
[{"$f":"ROW()","v":376}]
[{"$f":"ROW()","v":377}]
[{"$f":"ROW()","v":378}]
[{"$f":"ROW()","v":379}]
[{"$f":"ROW()","v":380}]
[{"$f":"ROW()","v":381}]
[{"$f":"ROW()","v":382}]
[{"$f":"ROW()","v":383}]
[{"$f":"ROW()","v":384}]
[{"$f":"ROW()","v":385}]
[{"$f":"ROW()","v":386}]
[{"$f":"ROW()","v":387}]
[{"$f":"ROW()","v":388}]
[{"$f":"ROW()","v":389}]
[{"$f":"ROW()","v":390}]
[{"$f":"ROW()","v":391}]
[{"$f":"ROW()","v":392}]
[{"$f":"ROW()","v":393}]
[{"$f":"ROW()","v":394}]
[{"$f":"ROW()","v":395}]
[{"$f":"ROW()","v":396}]
[{"$f":"ROW()","v":397}]
[{"$f":"ROW()","v":398}]
[{"$f":"ROW()","v":399}]
[{"$f":"ROW()","v":400}]
[{"$f":"ROW()","v":401}]
[{"$f":"ROW()","v":402}]
[{"$f":"ROW()","v":403}]
[{"$f":"ROW()","v":404}]
[{"$f":"ROW()","v":405}]
[{"$f":"ROW()","v":406}]
[{"$f":"ROW()","v":407}]
[{"$f":"ROW()","v":408}]
[{"$f":"ROW()","v":409}]
[{"$f":"ROW()","v":410}]
[{"$f":"ROW()","v":411}]
[{"$f":"ROW()","v":412}]
[{"$f":"ROW()","v":413}]
[{"$f":"ROW()","v":414}]
[{"$f":"ROW()","v":415}]
[{"$f":"ROW()","v":416}]
[{"$f":"ROW()","v":417}]
[{"$f":"ROW()","v":418}]
[{"$f":"ROW()","v":419}]
[{"$f":"ROW()","v":420}]
[{"$f":"ROW()","v":421}]
[{"$f":"ROW()","v":422}]
[{"$f":"ROW()","v":423}]
[{"$f":"ROW()","v":424}]
[{"$f":"ROW()","v":425}]
[{"$f":"ROW()","v":426}]
[{"$f":"ROW()","v":427}]
[{"$f":"ROW()","v":428}]
[{"$f":"ROW()","v":429}]
[{"$f":"ROW()","v":430}]
[{"$f":"ROW()","v":431}]
[{"$f":"ROW()","v":432}]
[{"$f":"ROW()","v":433}]
[{"$f":"ROW()","v":434}]
[{"$f":"ROW()","v":435}]
[{"$f":"ROW()","v":436}]
[{"$f":"ROW()","v":437}]
[{"$f":"ROW()","v":438}]
[{"$f":"ROW()","v":439}]
[{"$f":"ROW()","v":440}]
[{"$f":"ROW()","v":441}]
[{"$f":"ROW()","v":442}]
[{"$f":"ROW()","v":443}]
[{"$f":"ROW()","v":444}]
[{"$f":"ROW()","v":445}]
[{"$f":"ROW()","v":446}]
[{"$f":"ROW()","v":447}]
[{"$f":"ROW()","v":448}]
[{"$f":"ROW()","v":449}]
[{"$f":"ROW()","v":450}]
[{"$f":"ROW()","v":451}]
[{"$f":"ROW()","v":452}]
[{"$f":"ROW()","v":453}]
[{"$f":"ROW()","v":454}]
[{"$f":"ROW()","v":455}]
[{"$f":"ROW()","v":456}]
[{"$f":"ROW()","v":457}]
[{"$f":"ROW()","v":458}]
[{"$f":"ROW()","v":459}]
[{"$f":"ROW()","v":460}]
[{"$f":"ROW()","v":461}]
[{"$f":"ROW()","v":462}]
[{"$f":"ROW()","v":463}]
[{"$f":"ROW()","v":464}]
[{"$f":"ROW()","v":465}]
[{"$f":"ROW()","v":466}]
[{"$f":"ROW()","v":467}]
[{"$f":"ROW()","v":468}]
[{"$f":"ROW()","v":469}]
[{"$f":"ROW()","v":470}]
[{"$f":"ROW()","v":471}]
[{"$f":"ROW()","v":472}]
[{"$f":"ROW()","v":473}]
[{"$f":"ROW()","v":474}]
[{"$f":"ROW()","v":475}]
[{"$f":"ROW()","v":476}]
[{"$f":"ROW()","v":477}]
[{"$f":"ROW()","v":478}]
[{"$f":"ROW()","v":479}]
[{"$f":"ROW()","v":480}]
[{"$f":"ROW()","v":481}]
[{"$f":"ROW()","v":482}]
[{"$f":"ROW()","v":483}]
[{"$f":"ROW()","v":484}]
[{"$f":"ROW()","v":485}]
[{"$f":"ROW()","v":486}]
[{"$f":"ROW()","v":487}]
[{"$f":"ROW()","v":488}]
[{"$f":"ROW()","v":489}]
[{"$f":"ROW()","v":490}]
[{"$f":"ROW()","v":491}]
[{"$f":"ROW()","v":492}]
[{"$f":"ROW()","v":493}]
[{"$f":"ROW()","v":494}]
[{"$f":"ROW()","v":495}]
[{"$f":"ROW()","v":496}]
[{"$f":"ROW()","v":497}]
[{"$f":"ROW()","v":498}]
[{"$f":"ROW()","v":499}]
[{"$f":"ROW()","v":500}]
[{"$f":"ROW()","v":501}]
[{"$f":"ROW()","v":502}]
[{"$f":"ROW()","v":503}]
[{"$f":"ROW()","v":504}]
[{"$f":"ROW()","v":505}]
[{"$f":"ROW()","v":506}]
[{"$f":"ROW()","v":507}]
[{"$f":"ROW()","v":508}]
[{"$f":"ROW()","v":509}]
[{"$f":"ROW()","v":510}]
[{"$f":"ROW()","v":511}]
[{"$f":"ROW()","v":512}]
[{"$f":"ROW()","v":513}]
[{"$f":"ROW()","v":514}]
[{"$f":"ROW()","v":515}]
[{"$f":"ROW()","v":516}]
[{"$f":"ROW()","v":517}]
[{"$f":"ROW()","v":518}]
[{"$f":"ROW()","v":519}]
[{"$f":"ROW()","v":520}]
[{"$f":"ROW()","v":521}]
[{"$f":"ROW()","v":522}]
[{"$f":"ROW()","v":523}]
[{"$f":"ROW()","v":524}]
[{"$f":"ROW()","v":525}]
[{"$f":"ROW()","v":526}]
[{"$f":"ROW()","v":527}]
[{"$f":"ROW()","v":528}]
[{"$f":"ROW()","v":529}]
[{"$f":"ROW()","v":530}]
[{"$f":"ROW()","v":531}]
[{"$f":"ROW()","v":532}]
[{"$f":"ROW()","v":533}]
[{"$f":"ROW()","v":534}]
[{"$f":"ROW()","v":535}]
[{"$f":"ROW()","v":536}]
[{"$f":"ROW()","v":537}]
[{"$f":"ROW()","v":538}]
[{"$f":"ROW()","v":539}]
[{"$f":"ROW()","v":540}]
[{"$f":"ROW()","v":541}]
[{"$f":"ROW()","v":542}]
[{"$f":"ROW()","v":543}]
[{"$f":"ROW()","v":544}]
[{"$f":"ROW()","v":545}]
[{"$f":"ROW()","v":546}]
[{"$f":"ROW()","v":547}]
[{"$f":"ROW()","v":548}]
[{"$f":"ROW()","v":549}]
[{"$f":"ROW()","v":550}]
[{"$f":"ROW()","v":551}]
[{"$f":"ROW()","v":552}]
[{"$f":"ROW()","v":553}]
[{"$f":"ROW()","v":554}]
[{"$f":"ROW()","v":555}]
[{"$f":"ROW()","v":556}]
[{"$f":"ROW()","v":557}]
[{"$f":"ROW()","v":558}]
[{"$f":"ROW()","v":559}]
[{"$f":"ROW()","v":560}]
[{"$f":"ROW()","v":561}]
[{"$f":"ROW()","v":562}]
[{"$f":"ROW()","v":563}]
[{"$f":"ROW()","v":564}]
[{"$f":"ROW()","v":565}]
[{"$f":"ROW()","v":566}]
[{"$f":"ROW()","v":567}]
[{"$f":"ROW()","v":568}]
[{"$f":"ROW()","v":569}]
[{"$f":"ROW()","v":570}]
[{"$f":"ROW()","v":571}]
[{"$f":"ROW()","v":572}]
[{"$f":"ROW()","v":573}]
[{"$f":"ROW()","v":574}]
[{"$f":"ROW()","v":575}]
[{"$f":"ROW()","v":576}]
[{"$f":"ROW()","v":577}]
[{"$f":"ROW()","v":578}]
[{"$f":"ROW()","v":579}]
[{"$f":"ROW()","v":580}]
[{"$f":"ROW()","v":581}]
[{"$f":"ROW()","v":582}]
[{"$f":"ROW()","v":583}]
[{"$f":"ROW()","v":584}]
[{"$f":"ROW()","v":585}]
[{"$f":"ROW()","v":586}]
[{"$f":"ROW()","v":587}]
[{"$f":"ROW()","v":588}]
[{"$f":"ROW()","v":589}]
[{"$f":"ROW()","v":590}]
[{"$f":"ROW()","v":591}]
[{"$f":"ROW()","v":592}]
[{"$f":"ROW()","v":593}]
[{"$f":"ROW()","v":594}]
[{"$f":"ROW()","v":595}]
[{"$f":"ROW()","v":596}]
[{"$f":"ROW()","v":597}]
[{"$f":"ROW()","v":598}]
[{"$f":"ROW()","v":599}]
[{"$f":"ROW()","v":600}]
[{"$f":"ROW()","v":601}]
[{"$f":"ROW()","v":602}]
[{"$f":"ROW()","v":603}]
[{"$f":"ROW()","v":604}]
[{"$f":"ROW()","v":605}]
[{"$f":"ROW()","v":606}]
[{"$f":"ROW()","v":607}]
[{"$f":"ROW()","v":608}]
[{"$f":"ROW()","v":609}]
[{"$f":"ROW()","v":610}]
[{"$f":"ROW()","v":611}]
[{"$f":"ROW()","v":612}]
[{"$f":"ROW()","v":613}]
[{"$f":"ROW()","v":614}]
[{"$f":"ROW()","v":615}]
[{"$f":"ROW()","v":616}]
[{"$f":"ROW()","v":617}]
[{"$f":"ROW()","v":618}]
[{"$f":"ROW()","v":619}]
[{"$f":"ROW()","v":620}]
[{"$f":"ROW()","v":621}]
[{"$f":"ROW()","v":622}]
[{"$f":"ROW()","v":623}]
[{"$f":"ROW()","v":624}]
[{"$f":"ROW()","v":625}]
[{"$f":"ROW()","v":626}]
[{"$f":"ROW()","v":627}]
[{"$f":"ROW()","v":628}]
[{"$f":"ROW()","v":629}]
[{"$f":"ROW()","v":630}]
[{"$f":"ROW()","v":631}]
[{"$f":"ROW()","v":632}]
[{"$f":"ROW()","v":633}]
[{"$f":"ROW()","v":634}]
[{"$f":"ROW()","v":635}]
[{"$f":"ROW()","v":636}]
[{"$f":"ROW()","v":637}]
[{"$f":"ROW()","v":638}]
[{"$f":"ROW()","v":639}]
[{"$f":"ROW()","v":640}]
[{"$f":"ROW()","v":641}]
[{"$f":"ROW()","v":642}]
[{"$f":"ROW()","v":643}]
[{"$f":"ROW()","v":644}]
[{"$f":"ROW()","v":645}]
[{"$f":"ROW()","v":646}]
[{"$f":"ROW()","v":647}]
[{"$f":"ROW()","v":648}]
[{"$f":"ROW()","v":649}]
[{"$f":"ROW()","v":650}]
[{"$f":"ROW()","v":651}]
[{"$f":"ROW()","v":652}]
[{"$f":"ROW()","v":653}]
[{"$f":"ROW()","v":654}]
[{"$f":"ROW()","v":655}]
[{"$f":"ROW()","v":656}]
[{"$f":"ROW()","v":657}]
[{"$f":"ROW()","v":658}]
[{"$f":"ROW()","v":659}]
[{"$f":"ROW()","v":660}]
[{"$f":"ROW()","v":661}]
[{"$f":"ROW()","v":662}]
[{"$f":"ROW()","v":663}]
[{"$f":"ROW()","v":664}]
[{"$f":"ROW()","v":665}]
[{"$f":"ROW()","v":666}]
[{"$f":"ROW()","v":667}]
[{"$f":"ROW()","v":668}]
[{"$f":"ROW()","v":669}]
[{"$f":"ROW()","v":670}]
[{"$f":"ROW()","v":671}]
[{"$f":"ROW()","v":672}]
[{"$f":"ROW()","v":673}]
[{"$f":"ROW()","v":674}]
[{"$f":"ROW()","v":675}]
[{"$f":"ROW()","v":676}]
[{"$f":"ROW()","v":677}]
[{"$f":"ROW()","v":678}]
[{"$f":"ROW()","v":679}]
[{"$f":"ROW()","v":680}]
[{"$f":"ROW()","v":681}]
[{"$f":"ROW()","v":682}]
[{"$f":"ROW()","v":683}]
[{"$f":"ROW()","v":684}]
[{"$f":"ROW()","v":685}]
[{"$f":"ROW()","v":686}]
[{"$f":"ROW()","v":687}]
[{"$f":"ROW()","v":688}]
[{"$f":"ROW()","v":689}]
[{"$f":"ROW()","v":690}]
[{"$f":"ROW()","v":691}]
[{"$f":"ROW()","v":692}]
[{"$f":"ROW()","v":693}]
[{"$f":"ROW()","v":694}]
[{"$f":"ROW()","v":695}]
[{"$f":"ROW()","v":696}]
[{"$f":"ROW()","v":697}]
[{"$f":"ROW()","v":698}]
[{"$f":"ROW()","v":699}]
[{"$f":"ROW()","v":700}]
[{"$f":"ROW()","v":701}]
[{"$f":"ROW()","v":702}]
[{"$f":"ROW()","v":703}]
[{"$f":"ROW()","v":704}]
[{"$f":"ROW()","v":705}]
[{"$f":"ROW()","v":706}]
[{"$f":"ROW()","v":707}]
[{"$f":"ROW()","v":708}]
[{"$f":"ROW()","v":709}]
[{"$f":"ROW()","v":710}]
[{"$f":"ROW()","v":711}]
[{"$f":"ROW()","v":712}]
[{"$f":"ROW()","v":713}]
[{"$f":"ROW()","v":714}]
[{"$f":"ROW()","v":715}]
[{"$f":"ROW()","v":716}]
[{"$f":"ROW()","v":717}]
[{"$f":"ROW()","v":718}]
[{"$f":"ROW()","v":719}]
[{"$f":"ROW()","v":720}]
[{"$f":"ROW()","v":721}]
[{"$f":"ROW()","v":722}]
[{"$f":"ROW()","v":723}]
[{"$f":"ROW()","v":724}]
[{"$f":"ROW()","v":725}]
[{"$f":"ROW()","v":726}]
[{"$f":"ROW()","v":727}]
[{"$f":"ROW()","v":728}]
[{"$f":"ROW()","v":729}]
[{"$f":"ROW()","v":730}]
[{"$f":"ROW()","v":731}]
[{"$f":"ROW()","v":732}]
[{"$f":"ROW()","v":733}]
[{"$f":"ROW()","v":734}]
[{"$f":"ROW()","v":735}]
[{"$f":"ROW()","v":736}]
[{"$f":"ROW()","v":737}]
[{"$f":"ROW()","v":738}]
[{"$f":"ROW()","v":739}]
[{"$f":"ROW()","v":740}]
[{"$f":"ROW()","v":741}]
[{"$f":"ROW()","v":742}]
[{"$f":"ROW()","v":743}]
[{"$f":"ROW()","v":744}]
[{"$f":"ROW()","v":745}]
[{"$f":"ROW()","v":746}]
[{"$f":"ROW()","v":747}]
[{"$f":"ROW()","v":748}]
[{"$f":"ROW()","v":749}]
[{"$f":"ROW()","v":750}]
[{"$f":"ROW()","v":751}]
[{"$f":"ROW()","v":752}]
[{"$f":"ROW()","v":753}]
[{"$f":"ROW()","v":754}]
[{"$f":"ROW()","v":755}]
[{"$f":"ROW()","v":756}]
[{"$f":"ROW()","v":757}]
[{"$f":"ROW()","v":758}]
[{"$f":"ROW()","v":759}]
[{"$f":"ROW()","v":760}]
[{"$f":"ROW()","v":761}]
[{"$f":"ROW()","v":762}]
[{"$f":"ROW()","v":763}]
[{"$f":"ROW()","v":764}]
[{"$f":"ROW()","v":765}]
[{"$f":"ROW()","v":766}]
[{"$f":"ROW()","v":767}]
[{"$f":"ROW()","v":768}]
[{"$f":"ROW()","v":769}]
[{"$f":"ROW()","v":770}]
[{"$f":"ROW()","v":771}]
[{"$f":"ROW()","v":772}]
[{"$f":"ROW()","v":773}]
[{"$f":"ROW()","v":774}]
[{"$f":"ROW()","v":775}]
[{"$f":"ROW()","v":776}]
[{"$f":"ROW()","v":777}]
[{"$f":"ROW()","v":778}]
[{"$f":"ROW()","v":779}]
[{"$f":"ROW()","v":780}]
[{"$f":"ROW()","v":781}]
[{"$f":"ROW()","v":782}]
[{"$f":"ROW()","v":783}]
[{"$f":"ROW()","v":784}]
[{"$f":"ROW()","v":785}]
[{"$f":"ROW()","v":786}]
[{"$f":"ROW()","v":787}]
[{"$f":"ROW()","v":788}]
[{"$f":"ROW()","v":789}]
[{"$f":"ROW()","v":790}]
[{"$f":"ROW()","v":791}]
[{"$f":"ROW()","v":792}]
[{"$f":"ROW()","v":793}]
[{"$f":"ROW()","v":794}]
[{"$f":"ROW()","v":795}]
[{"$f":"ROW()","v":796}]
[{"$f":"ROW()","v":797}]
[{"$f":"ROW()","v":798}]
[{"$f":"ROW()","v":799}]
[{"$f":"ROW()","v":800}]
[{"$f":"ROW()","v":801}]
[{"$f":"ROW()","v":802}]
[{"$f":"ROW()","v":803}]
[{"$f":"ROW()","v":804}]
[{"$f":"ROW()","v":805}]
[{"$f":"ROW()","v":806}]
[{"$f":"ROW()","v":807}]
[{"$f":"ROW()","v":808}]
[{"$f":"ROW()","v":809}]
[{"$f":"ROW()","v":810}]
[{"$f":"ROW()","v":811}]
[{"$f":"ROW()","v":812}]
[{"$f":"ROW()","v":813}]
[{"$f":"ROW()","v":814}]
[{"$f":"ROW()","v":815}]
[{"$f":"ROW()","v":816}]
[{"$f":"ROW()","v":817}]
[{"$f":"ROW()","v":818}]
[{"$f":"ROW()","v":819}]
[{"$f":"ROW()","v":820}]
[{"$f":"ROW()","v":821}]
[{"$f":"ROW()","v":822}]
[{"$f":"ROW()","v":823}]
[{"$f":"ROW()","v":824}]
[{"$f":"ROW()","v":825}]
[{"$f":"ROW()","v":826}]
[{"$f":"ROW()","v":827}]
[{"$f":"ROW()","v":828}]
[{"$f":"ROW()","v":829}]
[{"$f":"ROW()","v":830}]
[{"$f":"ROW()","v":831}]
[{"$f":"ROW()","v":832}]
[{"$f":"ROW()","v":833}]
[{"$f":"ROW()","v":834}]
[{"$f":"ROW()","v":835}]
[{"$f":"ROW()","v":836}]
[{"$f":"ROW()","v":837}]
[{"$f":"ROW()","v":838}]
[{"$f":"ROW()","v":839}]
[{"$f":"ROW()","v":840}]
[{"$f":"ROW()","v":841}]
[{"$f":"ROW()","v":842}]
[{"$f":"ROW()","v":843}]
[{"$f":"ROW()","v":844}]
[{"$f":"ROW()","v":845}]
[{"$f":"ROW()","v":846}]
[{"$f":"ROW()","v":847}]
[{"$f":"ROW()","v":848}]
[{"$f":"ROW()","v":849}]
[{"$f":"ROW()","v":850}]
[{"$f":"ROW()","v":851}]
[{"$f":"ROW()","v":852}]
[{"$f":"ROW()","v":853}]
[{"$f":"ROW()","v":854}]
[{"$f":"ROW()","v":855}]
[{"$f":"ROW()","v":856}]
[{"$f":"ROW()","v":857}]
[{"$f":"ROW()","v":858}]
[{"$f":"ROW()","v":859}]
[{"$f":"ROW()","v":860}]
[{"$f":"ROW()","v":861}]
[{"$f":"ROW()","v":862}]
[{"$f":"ROW()","v":863}]
[{"$f":"ROW()","v":864}]
[{"$f":"ROW()","v":865}]
[{"$f":"ROW()","v":866}]
[{"$f":"ROW()","v":867}]
[{"$f":"ROW()","v":868}]
[{"$f":"ROW()","v":869}]
[{"$f":"ROW()","v":870}]
[{"$f":"ROW()","v":871}]
[{"$f":"ROW()","v":872}]
[{"$f":"ROW()","v":873}]
[{"$f":"ROW()","v":874}]
[{"$f":"ROW()","v":875}]
[{"$f":"ROW()","v":876}]
[{"$f":"ROW()","v":877}]
[{"$f":"ROW()","v":878}]
[{"$f":"ROW()","v":879}]
[{"$f":"ROW()","v":880}]
[{"$f":"ROW()","v":881}]
[{"$f":"ROW()","v":882}]
[{"$f":"ROW()","v":883}]
[{"$f":"ROW()","v":884}]
[{"$f":"ROW()","v":885}]
[{"$f":"ROW()","v":886}]
[{"$f":"ROW()","v":887}]
[{"$f":"ROW()","v":888}]
[{"$f":"ROW()","v":889}]
[{"$f":"ROW()","v":890}]
[{"$f":"ROW()","v":891}]
[{"$f":"ROW()","v":892}]
[{"$f":"ROW()","v":893}]
[{"$f":"ROW()","v":894}]
[{"$f":"ROW()","v":895}]
[{"$f":"ROW()","v":896}]
[{"$f":"ROW()","v":897}]
[{"$f":"ROW()","v":898}]
[{"$f":"ROW()","v":899}]
[{"$f":"ROW()","v":900}]
[{"$f":"ROW()","v":901}]
[{"$f":"ROW()","v":902}]
[{"$f":"ROW()","v":903}]
[{"$f":"ROW()","v":904}]
[{"$f":"ROW()","v":905}]
[{"$f":"ROW()","v":906}]
[{"$f":"ROW()","v":907}]
[{"$f":"ROW()","v":908}]
[{"$f":"ROW()","v":909}]
[{"$f":"ROW()","v":910}]
[{"$f":"ROW()","v":911}]
[{"$f":"ROW()","v":912}]
[{"$f":"ROW()","v":913}]
[{"$f":"ROW()","v":914}]
[{"$f":"ROW()","v":915}]
[{"$f":"ROW()","v":916}]
[{"$f":"ROW()","v":917}]
[{"$f":"ROW()","v":918}]
[{"$f":"ROW()","v":919}]
[{"$f":"ROW()","v":920}]
[{"$f":"ROW()","v":921}]
[{"$f":"ROW()","v":922}]
[{"$f":"ROW()","v":923}]
[{"$f":"ROW()","v":924}]
[{"$f":"ROW()","v":925}]
[{"$f":"ROW()","v":926}]
[{"$f":"ROW()","v":927}]
[{"$f":"ROW()","v":928}]
[{"$f":"ROW()","v":929}]
[{"$f":"ROW()","v":930}]
[{"$f":"ROW()","v":931}]
[{"$f":"ROW()","v":932}]
[{"$f":"ROW()","v":933}]
[{"$f":"ROW()","v":934}]
[{"$f":"ROW()","v":935}]
[{"$f":"ROW()","v":936}]
[{"$f":"ROW()","v":937}]
[{"$f":"ROW()","v":938}]
[{"$f":"ROW()","v":939}]
[{"$f":"ROW()","v":940}]
[{"$f":"ROW()","v":941}]
[{"$f":"ROW()","v":942}]
[{"$f":"ROW()","v":943}]
[{"$f":"ROW()","v":944}]
[{"$f":"ROW()","v":945}]
[{"$f":"ROW()","v":946}]
[{"$f":"ROW()","v":947}]
[{"$f":"ROW()","v":948}]
[{"$f":"ROW()","v":949}]
[{"$f":"ROW()","v":950}]
[{"$f":"ROW()","v":951}]
[{"$f":"ROW()","v":952}]
[{"$f":"ROW()","v":953}]
[{"$f":"ROW()","v":954}]
[{"$f":"ROW()","v":955}]
[{"$f":"ROW()","v":956}]
[{"$f":"ROW()","v":957}]
[{"$f":"ROW()","v":958}]
[{"$f":"ROW()","v":959}]
[{"$f":"ROW()","v":960}]
[{"$f":"ROW()","v":961}]
[{"$f":"ROW()","v":962}]
[{"$f":"ROW()","v":963}]
[{"$f":"ROW()","v":964}]
[{"$f":"ROW()","v":965}]
[{"$f":"ROW()","v":966}]
[{"$f":"ROW()","v":967}]
[{"$f":"ROW()","v":968}]
[{"$f":"ROW()","v":969}]
[{"$f":"ROW()","v":970}]
[{"$f":"ROW()","v":971}]
[{"$f":"ROW()","v":972}]
[{"$f":"ROW()","v":973}]
[{"$f":"ROW()","v":974}]
[{"$f":"ROW()","v":975}]
[{"$f":"ROW()","v":976}]
[{"$f":"ROW()","v":977}]
[{"$f":"ROW()","v":978}]
[{"$f":"ROW()","v":979}]
[{"$f":"ROW()","v":980}]
[{"$f":"ROW()","v":981}]
[{"$f":"ROW()","v":982}]
[{"$f":"ROW()","v":983}]
[{"$f":"ROW()","v":984}]
[{"$f":"ROW()","v":985}]
[{"$f":"ROW()","v":986}]
[{"$f":"ROW()","v":987}]
[{"$f":"ROW()","v":988}]
[{"$f":"ROW()","v":989}]
[{"$f":"ROW()","v":990}]
[{"$f":"ROW()","v":991}]
[{"$f":"ROW()","v":992}]
[{"$f":"ROW()","v":993}]
[{"$f":"ROW()","v":994}]
[{"$f":"ROW()","v":995}]
[{"$f":"ROW()","v":996}]
[{"$f":"ROW()","v":997}]
[{"$f":"ROW()","v":998}]
[{"$f":"ROW()","v":999}]
[{"$f":"ROW()","v":1000}]
[{"$f":"ROW()","v":1001}]
[{"$f":"ROW()","v":1002}]
[{"$f":"ROW()","v":1003}]
[{"$f":"ROW()","v":1004}]
[{"$f":"ROW()","v":1005}]
[{"$f":"ROW()","v":1006}]
[{"$f":"ROW()","v":1007}]
[{"$f":"ROW()","v":1008}]
[{"$f":"ROW()","v":1009}]
[{"$f":"ROW()","v":1010}]
[{"$f":"ROW()","v":1011}]
[{"$f":"ROW()","v":1012}]
[{"$f":"ROW()","v":1013}]
[{"$f":"ROW()","v":1014}]
[{"$f":"ROW()","v":1015}]
[{"$f":"ROW()","v":1016}]
[{"$f":"ROW()","v":1017}]
[{"$f":"ROW()","v":1018}]
[{"$f":"ROW()","v":1019}]
[{"$f":"ROW()","v":1020}]
[{"$f":"ROW()","v":1021}]
[{"$f":"ROW()","v":1022}]
[{"$f":"ROW()","v":1023}]
[{"$f":"ROW()","v":1024}]
[{"$f":"ROW()","v":1025}]
[{"$f":"ROW()","v":1026}]
[{"$f":"ROW()","v":1027}]
[{"$f":"ROW()","v":1028}]
[{"$f":"ROW()","v":1029}]
[{"$f":"ROW()","v":1030}]
[{"$f":"ROW()","v":1031}]
[{"$f":"ROW()","v":1032}]
[{"$f":"ROW()","v":1033}]
[{"$f":"ROW()","v":1034}]
[{"$f":"ROW()","v":1035}]
[{"$f":"ROW()","v":1036}]
[{"$f":"ROW()","v":1037}]
[{"$f":"ROW()","v":1038}]
[{"$f":"ROW()","v":1039}]
[{"$f":"ROW()","v":1040}]
[{"$f":"ROW()","v":1041}]
[{"$f":"ROW()","v":1042}]
[{"$f":"ROW()","v":1043}]
[{"$f":"ROW()","v":1044}]
[{"$f":"ROW()","v":1045}]
[{"$f":"ROW()","v":1046}]
[{"$f":"ROW()","v":1047}]
[{"$f":"ROW()","v":1048}]
[{"$f":"ROW()","v":1049}]
[{"$f":"ROW()","v":1050}]
[{"$f":"ROW()","v":1051}]
[{"$f":"ROW()","v":1052}]
[{"$f":"ROW()","v":1053}]
[{"$f":"ROW()","v":1054}]
[{"$f":"ROW()","v":1055}]
[{"$f":"ROW()","v":1056}]
[{"$f":"ROW()","v":1057}]
[{"$f":"ROW()","v":1058}]
[{"$f":"ROW()","v":1059}]
[{"$f":"ROW()","v":1060}]
[{"$f":"ROW()","v":1061}]
[{"$f":"ROW()","v":1062}]
[{"$f":"ROW()","v":1063}]
[{"$f":"ROW()","v":1064}]
[{"$f":"ROW()","v":1065}]
[{"$f":"ROW()","v":1066}]
[{"$f":"ROW()","v":1067}]
[{"$f":"ROW()","v":1068}]
[{"$f":"ROW()","v":1069}]
[{"$f":"ROW()","v":1070}]
[{"$f":"ROW()","v":1071}]
[{"$f":"ROW()","v":1072}]
[{"$f":"ROW()","v":1073}]
[{"$f":"ROW()","v":1074}]
[{"$f":"ROW()","v":1075}]
[{"$f":"ROW()","v":1076}]
[{"$f":"ROW()","v":1077}]
[{"$f":"ROW()","v":1078}]
[{"$f":"ROW()","v":1079}]
[{"$f":"ROW()","v":1080}]
[{"$f":"ROW()","v":1081}]
[{"$f":"ROW()","v":1082}]
[{"$f":"ROW()","v":1083}]
[{"$f":"ROW()","v":1084}]
[{"$f":"ROW()","v":1085}]
[{"$f":"ROW()","v":1086}]
[{"$f":"ROW()","v":1087}]
[{"$f":"ROW()","v":1088}]
[{"$f":"ROW()","v":1089}]
[{"$f":"ROW()","v":1090}]
[{"$f":"ROW()","v":1091}]
[{"$f":"ROW()","v":1092}]
[{"$f":"ROW()","v":1093}]
[{"$f":"ROW()","v":1094}]
[{"$f":"ROW()","v":1095}]
[{"$f":"ROW()","v":1096}]
[{"$f":"ROW()","v":1097}]
[{"$f":"ROW()","v":1098}]
[{"$f":"ROW()","v":1099}]
[{"$f":"ROW()","v":1100}]
[{"$f":"ROW()","v":1101}]
[{"$f":"ROW()","v":1102}]
[{"$f":"ROW()","v":1103}]
[{"$f":"ROW()","v":1104}]
[{"$f":"ROW()","v":1105}]
[{"$f":"ROW()","v":1106}]
[{"$f":"ROW()","v":1107}]
[{"$f":"ROW()","v":1108}]
[{"$f":"ROW()","v":1109}]
[{"$f":"ROW()","v":1110}]
[{"$f":"ROW()","v":1111}]
[{"$f":"ROW()","v":1112}]
[{"$f":"ROW()","v":1113}]
[{"$f":"ROW()","v":1114}]
[{"$f":"ROW()","v":1115}]
[{"$f":"ROW()","v":1116}]
[{"$f":"ROW()","v":1117}]
[{"$f":"ROW()","v":1118}]
[{"$f":"ROW()","v":1119}]
[{"$f":"ROW()","v":1120}]
[{"$f":"ROW()","v":1121}]
[{"$f":"ROW()","v":1122}]
[{"$f":"ROW()","v":1123}]
[{"$f":"ROW()","v":1124}]
[{"$f":"ROW()","v":1125}]
[{"$f":"ROW()","v":1126}]
[{"$f":"ROW()","v":1127}]
[{"$f":"ROW()","v":1128}]
[{"$f":"ROW()","v":1129}]
[{"$f":"ROW()","v":1130}]
[{"$f":"ROW()","v":1131}]
[{"$f":"ROW()","v":1132}]
[{"$f":"ROW()","v":1133}]
[{"$f":"ROW()","v":1134}]
[{"$f":"ROW()","v":1135}]
[{"$f":"ROW()","v":1136}]
[{"$f":"ROW()","v":1137}]
[{"$f":"ROW()","v":1138}]
[{"$f":"ROW()","v":1139}]
[{"$f":"ROW()","v":1140}]
[{"$f":"ROW()","v":1141}]
[{"$f":"ROW()","v":1142}]
[{"$f":"ROW()","v":1143}]
[{"$f":"ROW()","v":1144}]
[{"$f":"ROW()","v":1145}]
[{"$f":"ROW()","v":1146}]
[{"$f":"ROW()","v":1147}]
[{"$f":"ROW()","v":1148}]
[{"$f":"ROW()","v":1149}]
[{"$f":"ROW()","v":1150}]
[{"$f":"ROW()","v":1151}]
[{"$f":"ROW()","v":1152}]
[{"$f":"ROW()","v":1153}]
[{"$f":"ROW()","v":1154}]
[{"$f":"ROW()","v":1155}]
[{"$f":"ROW()","v":1156}]
[{"$f":"ROW()","v":1157}]
[{"$f":"ROW()","v":1158}]
[{"$f":"ROW()","v":1159}]
[{"$f":"ROW()","v":1160}]
[{"$f":"ROW()","v":1161}]
[{"$f":"ROW()","v":1162}]
[{"$f":"ROW()","v":1163}]
[{"$f":"ROW()","v":1164}]
[{"$f":"ROW()","v":1165}]
[{"$f":"ROW()","v":1166}]
[{"$f":"ROW()","v":1167}]
[{"$f":"ROW()","v":1168}]
[{"$f":"ROW()","v":1169}]
[{"$f":"ROW()","v":1170}]
[{"$f":"ROW()","v":1171}]
[{"$f":"ROW()","v":1172}]
[{"$f":"ROW()","v":1173}]
[{"$f":"ROW()","v":1174}]
[{"$f":"ROW()","v":1175}]
[{"$f":"ROW()","v":1176}]
[{"$f":"ROW()","v":1177}]
[{"$f":"ROW()","v":1178}]
[{"$f":"ROW()","v":1179}]
[{"$f":"ROW()","v":1180}]
[{"$f":"ROW()","v":1181}]
[{"$f":"ROW()","v":1182}]
[{"$f":"ROW()","v":1183}]
[{"$f":"ROW()","v":1184}]
[{"$f":"ROW()","v":1185}]
[{"$f":"ROW()","v":1186}]
[{"$f":"ROW()","v":1187}]
[{"$f":"ROW()","v":1188}]
[{"$f":"ROW()","v":1189}]
[{"$f":"ROW()","v":1190}]
[{"$f":"ROW()","v":1191}]
[{"$f":"ROW()","v":1192}]
[{"$f":"ROW()","v":1193}]
[{"$f":"ROW()","v":1194}]
[{"$f":"ROW()","v":1195}]
[{"$f":"ROW()","v":1196}]
[{"$f":"ROW()","v":1197}]
[{"$f":"ROW()","v":1198}]
[{"$f":"ROW()","v":1199}]
[{"$f":"ROW()","v":1200}]
[{"$f":"ROW()","v":1201}]
[{"$f":"ROW()","v":1202}]
[{"$f":"ROW()","v":1203}]
[{"$f":"ROW()","v":1204}]
[{"$f":"ROW()","v":1205}]
[{"$f":"ROW()","v":1206}]
[{"$f":"ROW()","v":1207}]
[{"$f":"ROW()","v":1208}]
[{"$f":"ROW()","v":1209}]
[{"$f":"ROW()","v":1210}]
[{"$f":"ROW()","v":1211}]
[{"$f":"ROW()","v":1212}]
[{"$f":"ROW()","v":1213}]
[{"$f":"ROW()","v":1214}]
[{"$f":"ROW()","v":1215}]
[{"$f":"ROW()","v":1216}]
[{"$f":"ROW()","v":1217}]
[{"$f":"ROW()","v":1218}]
[{"$f":"ROW()","v":1219}]
[{"$f":"ROW()","v":1220}]
[{"$f":"ROW()","v":1221}]
[{"$f":"ROW()","v":1222}]
[{"$f":"ROW()","v":1223}]
[{"$f":"ROW()","v":1224}]
[{"$f":"ROW()","v":1225}]
[{"$f":"ROW()","v":1226}]
[{"$f":"ROW()","v":1227}]
[{"$f":"ROW()","v":1228}]
[{"$f":"ROW()","v":1229}]
[{"$f":"ROW()","v":1230}]
[{"$f":"ROW()","v":1231}]
[{"$f":"ROW()","v":1232}]
[{"$f":"ROW()","v":1233}]
[{"$f":"ROW()","v":1234}]
[{"$f":"ROW()","v":1235}]
[{"$f":"ROW()","v":1236}]
[{"$f":"ROW()","v":1237}]
[{"$f":"ROW()","v":1238}]
[{"$f":"ROW()","v":1239}]
[{"$f":"ROW()","v":1240}]
[{"$f":"ROW()","v":1241}]
[{"$f":"ROW()","v":1242}]
[{"$f":"ROW()","v":1243}]
[{"$f":"ROW()","v":1244}]
[{"$f":"ROW()","v":1245}]
[{"$f":"ROW()","v":1246}]
[{"$f":"ROW()","v":1247}]
[{"$f":"ROW()","v":1248}]
[{"$f":"ROW()","v":1249}]
[{"$f":"ROW()","v":1250}]
[{"$f":"ROW()","v":1251}]
[{"$f":"ROW()","v":1252}]
[{"$f":"ROW()","v":1253}]
[{"$f":"ROW()","v":1254}]
[{"$f":"ROW()","v":1255}]
[{"$f":"ROW()","v":1256}]
[{"$f":"ROW()","v":1257}]
[{"$f":"ROW()","v":1258}]
[{"$f":"ROW()","v":1259}]
[{"$f":"ROW()","v":1260}]
[{"$f":"ROW()","v":1261}]
[{"$f":"ROW()","v":1262}]
[{"$f":"ROW()","v":1263}]
[{"$f":"ROW()","v":1264}]
[{"$f":"ROW()","v":1265}]
[{"$f":"ROW()","v":1266}]
[{"$f":"ROW()","v":1267}]
[{"$f":"ROW()","v":1268}]
[{"$f":"ROW()","v":1269}]
[{"$f":"ROW()","v":1270}]
[{"$f":"ROW()","v":1271}]
[{"$f":"ROW()","v":1272}]
[{"$f":"ROW()","v":1273}]
[{"$f":"ROW()","v":1274}]
[{"$f":"ROW()","v":1275}]
[{"$f":"ROW()","v":1276}]
[{"$f":"ROW()","v":1277}]
[{"$f":"ROW()","v":1278}]
[{"$f":"ROW()","v":1279}]
[{"$f":"ROW()","v":1280}]
[{"$f":"ROW()","v":1281}]
[{"$f":"ROW()","v":1282}]
[{"$f":"ROW()","v":1283}]
[{"$f":"ROW()","v":1284}]
[{"$f":"ROW()","v":1285}]
[{"$f":"ROW()","v":1286}]
[{"$f":"ROW()","v":1287}]
[{"$f":"ROW()","v":1288}]
[{"$f":"ROW()","v":1289}]
[{"$f":"ROW()","v":1290}]
[{"$f":"ROW()","v":1291}]
[{"$f":"ROW()","v":1292}]
[{"$f":"ROW()","v":1293}]
[{"$f":"ROW()","v":1294}]
[{"$f":"ROW()","v":1295}]
[{"$f":"ROW()","v":1296}]
[{"$f":"ROW()","v":1297}]
[{"$f":"ROW()","v":1298}]
[{"$f":"ROW()","v":1299}]
[{"$f":"ROW()","v":1300}]
[{"$f":"ROW()","v":1301}]
[{"$f":"ROW()","v":1302}]
[{"$f":"ROW()","v":1303}]
[{"$f":"ROW()","v":1304}]
[{"$f":"ROW()","v":1305}]
[{"$f":"ROW()","v":1306}]
[{"$f":"ROW()","v":1307}]
[{"$f":"ROW()","v":1308}]
[{"$f":"ROW()","v":1309}]
[{"$f":"ROW()","v":1310}]
[{"$f":"ROW()","v":1311}]
[{"$f":"ROW()","v":1312}]
[{"$f":"ROW()","v":1313}]
[{"$f":"ROW()","v":1314}]
[{"$f":"ROW()","v":1315}]
[{"$f":"ROW()","v":1316}]
[{"$f":"ROW()","v":1317}]
[{"$f":"ROW()","v":1318}]
[{"$f":"ROW()","v":1319}]
[{"$f":"ROW()","v":1320}]
[{"$f":"ROW()","v":1321}]
[{"$f":"ROW()","v":1322}]
[{"$f":"ROW()","v":1323}]
[{"$f":"ROW()","v":1324}]
[{"$f":"ROW()","v":1325}]
[{"$f":"ROW()","v":1326}]
[{"$f":"ROW()","v":1327}]
[{"$f":"ROW()","v":1328}]
[{"$f":"ROW()","v":1329}]
[{"$f":"ROW()","v":1330}]
[{"$f":"ROW()","v":1331}]
[{"$f":"ROW()","v":1332}]
[{"$f":"ROW()","v":1333}]
[{"$f":"ROW()","v":1334}]
[{"$f":"ROW()","v":1335}]
[{"$f":"ROW()","v":1336}]
[{"$f":"ROW()","v":1337}]
[{"$f":"ROW()","v":1338}]
[{"$f":"ROW()","v":1339}]
[{"$f":"ROW()","v":1340}]
[{"$f":"ROW()","v":1341}]
[{"$f":"ROW()","v":1342}]
[{"$f":"ROW()","v":1343}]
[{"$f":"ROW()","v":1344}]
[{"$f":"ROW()","v":1345}]
[{"$f":"ROW()","v":1346}]
[{"$f":"ROW()","v":1347}]
[{"$f":"ROW()","v":1348}]
[{"$f":"ROW()","v":1349}]
[{"$f":"ROW()","v":1350}]
[{"$f":"ROW()","v":1351}]
[{"$f":"ROW()","v":1352}]
[{"$f":"ROW()","v":1353}]
[{"$f":"ROW()","v":1354}]
[{"$f":"ROW()","v":1355}]
[{"$f":"ROW()","v":1356}]
[{"$f":"ROW()","v":1357}]
[{"$f":"ROW()","v":1358}]
[{"$f":"ROW()","v":1359}]
[{"$f":"ROW()","v":1360}]
[{"$f":"ROW()","v":1361}]
[{"$f":"ROW()","v":1362}]
[{"$f":"ROW()","v":1363}]
[{"$f":"ROW()","v":1364}]
[{"$f":"ROW()","v":1365}]
[{"$f":"ROW()","v":1366}]
[{"$f":"ROW()","v":1367}]
[{"$f":"ROW()","v":1368}]
[{"$f":"ROW()","v":1369}]
[{"$f":"ROW()","v":1370}]
[{"$f":"ROW()","v":1371}]
[{"$f":"ROW()","v":1372}]
[{"$f":"ROW()","v":1373}]
[{"$f":"ROW()","v":1374}]
[{"$f":"ROW()","v":1375}]
[{"$f":"ROW()","v":1376}]
[{"$f":"ROW()","v":1377}]
[{"$f":"ROW()","v":1378}]
[{"$f":"ROW()","v":1379}]
[{"$f":"ROW()","v":1380}]
[{"$f":"ROW()","v":1381}]
[{"$f":"ROW()","v":1382}]
[{"$f":"ROW()","v":1383}]
[{"$f":"ROW()","v":1384}]
[{"$f":"ROW()","v":1385}]
[{"$f":"ROW()","v":1386}]
[{"$f":"ROW()","v":1387}]
[{"$f":"ROW()","v":1388}]
[{"$f":"ROW()","v":1389}]
[{"$f":"ROW()","v":1390}]
[{"$f":"ROW()","v":1391}]
[{"$f":"ROW()","v":1392}]
[{"$f":"ROW()","v":1393}]
[{"$f":"ROW()","v":1394}]
[{"$f":"ROW()","v":1395}]
[{"$f":"ROW()","v":1396}]
[{"$f":"ROW()","v":1397}]
[{"$f":"ROW()","v":1398}]
[{"$f":"ROW()","v":1399}]
[{"$f":"ROW()","v":1400}]
[{"$f":"ROW()","v":1401}]
[{"$f":"ROW()","v":1402}]
[{"$f":"ROW()","v":1403}]
[{"$f":"ROW()","v":1404}]
[{"$f":"ROW()","v":1405}]
[{"$f":"ROW()","v":1406}]
[{"$f":"ROW()","v":1407}]
[{"$f":"ROW()","v":1408}]
[{"$f":"ROW()","v":1409}]
[{"$f":"ROW()","v":1410}]
[{"$f":"ROW()","v":1411}]
[{"$f":"ROW()","v":1412}]
[{"$f":"ROW()","v":1413}]
[{"$f":"ROW()","v":1414}]
[{"$f":"ROW()","v":1415}]
[{"$f":"ROW()","v":1416}]
[{"$f":"ROW()","v":1417}]
[{"$f":"ROW()","v":1418}]
[{"$f":"ROW()","v":1419}]
[{"$f":"ROW()","v":1420}]
[{"$f":"ROW()","v":1421}]
[{"$f":"ROW()","v":1422}]
[{"$f":"ROW()","v":1423}]
[{"$f":"ROW()","v":1424}]
[{"$f":"ROW()","v":1425}]
[{"$f":"ROW()","v":1426}]
[{"$f":"ROW()","v":1427}]
[{"$f":"ROW()","v":1428}]
[{"$f":"ROW()","v":1429}]
[{"$f":"ROW()","v":1430}]
[{"$f":"ROW()","v":1431}]
[{"$f":"ROW()","v":1432}]
[{"$f":"ROW()","v":1433}]
[{"$f":"ROW()","v":1434}]
[{"$f":"ROW()","v":1435}]
[{"$f":"ROW()","v":1436}]
[{"$f":"ROW()","v":1437}]
[{"$f":"ROW()","v":1438}]
[{"$f":"ROW()","v":1439}]
[{"$f":"ROW()","v":1440}]
[{"$f":"ROW()","v":1441}]
[{"$f":"ROW()","v":1442}]
[{"$f":"ROW()","v":1443}]
[{"$f":"ROW()","v":1444}]
[{"$f":"ROW()","v":1445}]
[{"$f":"ROW()","v":1446}]
[{"$f":"ROW()","v":1447}]
[{"$f":"ROW()","v":1448}]
[{"$f":"ROW()","v":1449}]
[{"$f":"ROW()","v":1450}]
[{"$f":"ROW()","v":1451}]
[{"$f":"ROW()","v":1452}]
[{"$f":"ROW()","v":1453}]
[{"$f":"ROW()","v":1454}]
[{"$f":"ROW()","v":1455}]
[{"$f":"ROW()","v":1456}]
[{"$f":"ROW()","v":1457}]
[{"$f":"ROW()","v":1458}]
[{"$f":"ROW()","v":1459}]
[{"$f":"ROW()","v":1460}]
[{"$f":"ROW()","v":1461}]
[{"$f":"ROW()","v":1462}]
[{"$f":"ROW()","v":1463}]
[{"$f":"ROW()","v":1464}]
[{"$f":"ROW()","v":1465}]
[{"$f":"ROW()","v":1466}]
[{"$f":"ROW()","v":1467}]
[{"$f":"ROW()","v":1468}]
[{"$f":"ROW()","v":1469}]
[{"$f":"ROW()","v":1470}]
[{"$f":"ROW()","v":1471}]
[{"$f":"ROW()","v":1472}]
[{"$f":"ROW()","v":1473}]
[{"$f":"ROW()","v":1474}]
[{"$f":"ROW()","v":1475}]
[{"$f":"ROW()","v":1476}]
[{"$f":"ROW()","v":1477}]
[{"$f":"ROW()","v":1478}]
[{"$f":"ROW()","v":1479}]
[{"$f":"ROW()","v":1480}]
[{"$f":"ROW()","v":1481}]
[{"$f":"ROW()","v":1482}]
[{"$f":"ROW()","v":1483}]
[{"$f":"ROW()","v":1484}]
[{"$f":"ROW()","v":1485}]
[{"$f":"ROW()","v":1486}]
[{"$f":"ROW()","v":1487}]
[{"$f":"ROW()","v":1488}]
[{"$f":"ROW()","v":1489}]
[{"$f":"ROW()","v":1490}]
[{"$f":"ROW()","v":1491}]
[{"$f":"ROW()","v":1492}]
[{"$f":"ROW()","v":1493}]
[{"$f":"ROW()","v":1494}]
[{"$f":"ROW()","v":1495}]
[{"$f":"ROW()","v":1496}]
[{"$f":"ROW()","v":1497}]
[{"$f":"ROW()","v":1498}]
[{"$f":"ROW()","v":1499}]
[{"$f":"ROW()","v":1500}]
[{"$f":"ROW()","v":1501}]
[{"$f":"ROW()","v":1502}]
[{"$f":"ROW()","v":1503}]
[{"$f":"ROW()","v":1504}]
[{"$f":"ROW()","v":1505}]
[{"$f":"ROW()","v":1506}]
[{"$f":"ROW()","v":1507}]
[{"$f":"ROW()","v":1508}]
[{"$f":"ROW()","v":1509}]
[{"$f":"ROW()","v":1510}]
[{"$f":"ROW()","v":1511}]
[{"$f":"ROW()","v":1512}]
[{"$f":"ROW()","v":1513}]
[{"$f":"ROW()","v":1514}]
[{"$f":"ROW()","v":1515}]
[{"$f":"ROW()","v":1516}]
[{"$f":"ROW()","v":1517}]
[{"$f":"ROW()","v":1518}]
[{"$f":"ROW()","v":1519}]
[{"$f":"ROW()","v":1520}]
[{"$f":"ROW()","v":1521}]
[{"$f":"ROW()","v":1522}]
[{"$f":"ROW()","v":1523}]
[{"$f":"ROW()","v":1524}]
[{"$f":"ROW()","v":1525}]
[{"$f":"ROW()","v":1526}]
[{"$f":"ROW()","v":1527}]
[{"$f":"ROW()","v":1528}]
[{"$f":"ROW()","v":1529}]
[{"$f":"ROW()","v":1530}]
[{"$f":"ROW()","v":1531}]
[{"$f":"ROW()","v":1532}]
[{"$f":"ROW()","v":1533}]
[{"$f":"ROW()","v":1534}]
[{"$f":"ROW()","v":1535}]
[{"$f":"ROW()","v":1536}]
[{"$f":"ROW()","v":1537}]
[{"$f":"ROW()","v":1538}]
[{"$f":"ROW()","v":1539}]
[{"$f":"ROW()","v":1540}]
[{"$f":"ROW()","v":1541}]
[{"$f":"ROW()","v":1542}]
[{"$f":"ROW()","v":1543}]
[{"$f":"ROW()","v":1544}]
[{"$f":"ROW()","v":1545}]
[{"$f":"ROW()","v":1546}]
[{"$f":"ROW()","v":1547}]
[{"$f":"ROW()","v":1548}]
[{"$f":"ROW()","v":1549}]
[{"$f":"ROW()","v":1550}]
[{"$f":"ROW()","v":1551}]
[{"$f":"ROW()","v":1552}]
[{"$f":"ROW()","v":1553}]
[{"$f":"ROW()","v":1554}]
[{"$f":"ROW()","v":1555}]
[{"$f":"ROW()","v":1556}]
[{"$f":"ROW()","v":1557}]
[{"$f":"ROW()","v":1558}]
[{"$f":"ROW()","v":1559}]
[{"$f":"ROW()","v":1560}]
[{"$f":"ROW()","v":1561}]
[{"$f":"ROW()","v":1562}]
[{"$f":"ROW()","v":1563}]
[{"$f":"ROW()","v":1564}]
[{"$f":"ROW()","v":1565}]
[{"$f":"ROW()","v":1566}]
[{"$f":"ROW()","v":1567}]
[{"$f":"ROW()","v":1568}]
[{"$f":"ROW()","v":1569}]
[{"$f":"ROW()","v":1570}]
[{"$f":"ROW()","v":1571}]
[{"$f":"ROW()","v":1572}]
[{"$f":"ROW()","v":1573}]
[{"$f":"ROW()","v":1574}]
[{"$f":"ROW()","v":1575}]
[{"$f":"ROW()","v":1576}]
[{"$f":"ROW()","v":1577}]
[{"$f":"ROW()","v":1578}]
[{"$f":"ROW()","v":1579}]
[{"$f":"ROW()","v":1580}]
[{"$f":"ROW()","v":1581}]
[{"$f":"ROW()","v":1582}]
[{"$f":"ROW()","v":1583}]
[{"$f":"ROW()","v":1584}]
[{"$f":"ROW()","v":1585}]
[{"$f":"ROW()","v":1586}]
[{"$f":"ROW()","v":1587}]
[{"$f":"ROW()","v":1588}]
[{"$f":"ROW()","v":1589}]
[{"$f":"ROW()","v":1590}]
[{"$f":"ROW()","v":1591}]
[{"$f":"ROW()","v":1592}]
[{"$f":"ROW()","v":1593}]
[{"$f":"ROW()","v":1594}]
[{"$f":"ROW()","v":1595}]
[{"$f":"ROW()","v":1596}]
[{"$f":"ROW()","v":1597}]
[{"$f":"ROW()","v":1598}]
[{"$f":"ROW()","v":1599}]
[{"$f":"ROW()","v":1600}]
[{"$f":"ROW()","v":1601}]
[{"$f":"ROW()","v":1602}]
[{"$f":"ROW()","v":1603}]
[{"$f":"ROW()","v":1604}]
[{"$f":"ROW()","v":1605}]
[{"$f":"ROW()","v":1606}]
[{"$f":"ROW()","v":1607}]
[{"$f":"ROW()","v":1608}]
[{"$f":"ROW()","v":1609}]
[{"$f":"ROW()","v":1610}]
[{"$f":"ROW()","v":1611}]
[{"$f":"ROW()","v":1612}]
[{"$f":"ROW()","v":1613}]
[{"$f":"ROW()","v":1614}]
[{"$f":"ROW()","v":1615}]
[{"$f":"ROW()","v":1616}]
[{"$f":"ROW()","v":1617}]
[{"$f":"ROW()","v":1618}]
[{"$f":"ROW()","v":1619}]
[{"$f":"ROW()","v":1620}]
[{"$f":"ROW()","v":1621}]
[{"$f":"ROW()","v":1622}]
[{"$f":"ROW()","v":1623}]
[{"$f":"ROW()","v":1624}]
[{"$f":"ROW()","v":1625}]
[{"$f":"ROW()","v":1626}]
[{"$f":"ROW()","v":1627}]
[{"$f":"ROW()","v":1628}]
[{"$f":"ROW()","v":1629}]
[{"$f":"ROW()","v":1630}]
[{"$f":"ROW()","v":1631}]
[{"$f":"ROW()","v":1632}]
[{"$f":"ROW()","v":1633}]
[{"$f":"ROW()","v":1634}]
[{"$f":"ROW()","v":1635}]
[{"$f":"ROW()","v":1636}]
[{"$f":"ROW()","v":1637}]
[{"$f":"ROW()","v":1638}]
[{"$f":"ROW()","v":1639}]
[{"$f":"ROW()","v":1640}]
[{"$f":"ROW()","v":1641}]
[{"$f":"ROW()","v":1642}]
[{"$f":"ROW()","v":1643}]
[{"$f":"ROW()","v":1644}]
[{"$f":"ROW()","v":1645}]
[{"$f":"ROW()","v":1646}]
[{"$f":"ROW()","v":1647}]
[{"$f":"ROW()","v":1648}]
[{"$f":"ROW()","v":1649}]
[{"$f":"ROW()","v":1650}]
[{"$f":"ROW()","v":1651}]
[{"$f":"ROW()","v":1652}]
[{"$f":"ROW()","v":1653}]
[{"$f":"ROW()","v":1654}]
[{"$f":"ROW()","v":1655}]
[{"$f":"ROW()","v":1656}]
[{"$f":"ROW()","v":1657}]
[{"$f":"ROW()","v":1658}]
[{"$f":"ROW()","v":1659}]
[{"$f":"ROW()","v":1660}]
[{"$f":"ROW()","v":1661}]
[{"$f":"ROW()","v":1662}]
[{"$f":"ROW()","v":1663}]
[{"$f":"ROW()","v":1664}]
[{"$f":"ROW()","v":1665}]
[{"$f":"ROW()","v":1666}]
[{"$f":"ROW()","v":1667}]
[{"$f":"ROW()","v":1668}]
[{"$f":"ROW()","v":1669}]
[{"$f":"ROW()","v":1670}]
[{"$f":"ROW()","v":1671}]
[{"$f":"ROW()","v":1672}]
[{"$f":"ROW()","v":1673}]
[{"$f":"ROW()","v":1674}]
[{"$f":"ROW()","v":1675}]
[{"$f":"ROW()","v":1676}]
[{"$f":"ROW()","v":1677}]
[{"$f":"ROW()","v":1678}]
[{"$f":"ROW()","v":1679}]
[{"$f":"ROW()","v":1680}]
[{"$f":"ROW()","v":1681}]
[{"$f":"ROW()","v":1682}]
[{"$f":"ROW()","v":1683}]
[{"$f":"ROW()","v":1684}]
[{"$f":"ROW()","v":1685}]
[{"$f":"ROW()","v":1686}]
[{"$f":"ROW()","v":1687}]
[{"$f":"ROW()","v":1688}]
[{"$f":"ROW()","v":1689}]
[{"$f":"ROW()","v":1690}]
[{"$f":"ROW()","v":1691}]
[{"$f":"ROW()","v":1692}]
[{"$f":"ROW()","v":1693}]
[{"$f":"ROW()","v":1694}]
[{"$f":"ROW()","v":1695}]
[{"$f":"ROW()","v":1696}]
[{"$f":"ROW()","v":1697}]
[{"$f":"ROW()","v":1698}]
[{"$f":"ROW()","v":1699}]
[{"$f":"ROW()","v":1700}]
[{"$f":"ROW()","v":1701}]
[{"$f":"ROW()","v":1702}]
[{"$f":"ROW()","v":1703}]
[{"$f":"ROW()","v":1704}]
[{"$f":"ROW()","v":1705}]
[{"$f":"ROW()","v":1706}]
[{"$f":"ROW()","v":1707}]
[{"$f":"ROW()","v":1708}]
[{"$f":"ROW()","v":1709}]
[{"$f":"ROW()","v":1710}]
[{"$f":"ROW()","v":1711}]
[{"$f":"ROW()","v":1712}]
[{"$f":"ROW()","v":1713}]
[{"$f":"ROW()","v":1714}]
[{"$f":"ROW()","v":1715}]
[{"$f":"ROW()","v":1716}]
[{"$f":"ROW()","v":1717}]
[{"$f":"ROW()","v":1718}]
[{"$f":"ROW()","v":1719}]
[{"$f":"ROW()","v":1720}]
[{"$f":"ROW()","v":1721}]
[{"$f":"ROW()","v":1722}]
[{"$f":"ROW()","v":1723}]
[{"$f":"ROW()","v":1724}]
[{"$f":"ROW()","v":1725}]
[{"$f":"ROW()","v":1726}]
[{"$f":"ROW()","v":1727}]
[{"$f":"ROW()","v":1728}]
[{"$f":"ROW()","v":1729}]
[{"$f":"ROW()","v":1730}]
[{"$f":"ROW()","v":1731}]
[{"$f":"ROW()","v":1732}]
[{"$f":"ROW()","v":1733}]
[{"$f":"ROW()","v":1734}]
[{"$f":"ROW()","v":1735}]
[{"$f":"ROW()","v":1736}]
[{"$f":"ROW()","v":1737}]
[{"$f":"ROW()","v":1738}]
[{"$f":"ROW()","v":1739}]
[{"$f":"ROW()","v":1740}]
[{"$f":"ROW()","v":1741}]
[{"$f":"ROW()","v":1742}]
[{"$f":"ROW()","v":1743}]
[{"$f":"ROW()","v":1744}]
[{"$f":"ROW()","v":1745}]
[{"$f":"ROW()","v":1746}]
[{"$f":"ROW()","v":1747}]
[{"$f":"ROW()","v":1748}]
[{"$f":"ROW()","v":1749}]
[{"$f":"ROW()","v":1750}]
[{"$f":"ROW()","v":1751}]
[{"$f":"ROW()","v":1752}]
[{"$f":"ROW()","v":1753}]
[{"$f":"ROW()","v":1754}]
[{"$f":"ROW()","v":1755}]
[{"$f":"ROW()","v":1756}]
[{"$f":"ROW()","v":1757}]
[{"$f":"ROW()","v":1758}]
[{"$f":"ROW()","v":1759}]
[{"$f":"ROW()","v":1760}]
[{"$f":"ROW()","v":1761}]
[{"$f":"ROW()","v":1762}]
[{"$f":"ROW()","v":1763}]
[{"$f":"ROW()","v":1764}]
[{"$f":"ROW()","v":1765}]
[{"$f":"ROW()","v":1766}]
[{"$f":"ROW()","v":1767}]
[{"$f":"ROW()","v":1768}]
[{"$f":"ROW()","v":1769}]
[{"$f":"ROW()","v":1770}]
[{"$f":"ROW()","v":1771}]
[{"$f":"ROW()","v":1772}]
[{"$f":"ROW()","v":1773}]
[{"$f":"ROW()","v":1774}]
[{"$f":"ROW()","v":1775}]
[{"$f":"ROW()","v":1776}]
[{"$f":"ROW()","v":1777}]
[{"$f":"ROW()","v":1778}]
[{"$f":"ROW()","v":1779}]
[{"$f":"ROW()","v":1780}]
[{"$f":"ROW()","v":1781}]
[{"$f":"ROW()","v":1782}]
[{"$f":"ROW()","v":1783}]
[{"$f":"ROW()","v":1784}]
[{"$f":"ROW()","v":1785}]
[{"$f":"ROW()","v":1786}]
[{"$f":"ROW()","v":1787}]
[{"$f":"ROW()","v":1788}]
[{"$f":"ROW()","v":1789}]
[{"$f":"ROW()","v":1790}]
[{"$f":"ROW()","v":1791}]
[{"$f":"ROW()","v":1792}]
[{"$f":"ROW()","v":1793}]
[{"$f":"ROW()","v":1794}]
[{"$f":"ROW()","v":1795}]
[{"$f":"ROW()","v":1796}]
[{"$f":"ROW()","v":1797}]
[{"$f":"ROW()","v":1798}]
[{"$f":"ROW()","v":1799}]
[{"$f":"ROW()","v":1800}]
[{"$f":"ROW()","v":1801}]
[{"$f":"ROW()","v":1802}]
[{"$f":"ROW()","v":1803}]
[{"$f":"ROW()","v":1804}]
[{"$f":"ROW()","v":1805}]
[{"$f":"ROW()","v":1806}]
[{"$f":"ROW()","v":1807}]
[{"$f":"ROW()","v":1808}]
[{"$f":"ROW()","v":1809}]
[{"$f":"ROW()","v":1810}]
[{"$f":"ROW()","v":1811}]
[{"$f":"ROW()","v":1812}]
[{"$f":"ROW()","v":1813}]
[{"$f":"ROW()","v":1814}]
[{"$f":"ROW()","v":1815}]
[{"$f":"ROW()","v":1816}]
[{"$f":"ROW()","v":1817}]
[{"$f":"ROW()","v":1818}]
[{"$f":"ROW()","v":1819}]
[{"$f":"ROW()","v":1820}]
[{"$f":"ROW()","v":1821}]
[{"$f":"ROW()","v":1822}]
[{"$f":"ROW()","v":1823}]
[{"$f":"ROW()","v":1824}]
[{"$f":"ROW()","v":1825}]
[{"$f":"ROW()","v":1826}]
[{"$f":"ROW()","v":1827}]
[{"$f":"ROW()","v":1828}]
[{"$f":"ROW()","v":1829}]
[{"$f":"ROW()","v":1830}]
[{"$f":"ROW()","v":1831}]
[{"$f":"ROW()","v":1832}]
[{"$f":"ROW()","v":1833}]
[{"$f":"ROW()","v":1834}]
[{"$f":"ROW()","v":1835}]
[{"$f":"ROW()","v":1836}]
[{"$f":"ROW()","v":1837}]
[{"$f":"ROW()","v":1838}]
[{"$f":"ROW()","v":1839}]
[{"$f":"ROW()","v":1840}]
[{"$f":"ROW()","v":1841}]
[{"$f":"ROW()","v":1842}]
[{"$f":"ROW()","v":1843}]
[{"$f":"ROW()","v":1844}]
[{"$f":"ROW()","v":1845}]
[{"$f":"ROW()","v":1846}]
[{"$f":"ROW()","v":1847}]
[{"$f":"ROW()","v":1848}]
[{"$f":"ROW()","v":1849}]
[{"$f":"ROW()","v":1850}]
[{"$f":"ROW()","v":1851}]
[{"$f":"ROW()","v":1852}]
[{"$f":"ROW()","v":1853}]
[{"$f":"ROW()","v":1854}]
[{"$f":"ROW()","v":1855}]
[{"$f":"ROW()","v":1856}]
[{"$f":"ROW()","v":1857}]
[{"$f":"ROW()","v":1858}]
[{"$f":"ROW()","v":1859}]
[{"$f":"ROW()","v":1860}]
[{"$f":"ROW()","v":1861}]
[{"$f":"ROW()","v":1862}]
[{"$f":"ROW()","v":1863}]
[{"$f":"ROW()","v":1864}]
[{"$f":"ROW()","v":1865}]
[{"$f":"ROW()","v":1866}]
[{"$f":"ROW()","v":1867}]
[{"$f":"ROW()","v":1868}]
[{"$f":"ROW()","v":1869}]
[{"$f":"ROW()","v":1870}]
[{"$f":"ROW()","v":1871}]
[{"$f":"ROW()","v":1872}]
[{"$f":"ROW()","v":1873}]
[{"$f":"ROW()","v":1874}]
[{"$f":"ROW()","v":1875}]
[{"$f":"ROW()","v":1876}]
[{"$f":"ROW()","v":1877}]
[{"$f":"ROW()","v":1878}]
[{"$f":"ROW()","v":1879}]
[{"$f":"ROW()","v":1880}]
[{"$f":"ROW()","v":1881}]
[{"$f":"ROW()","v":1882}]
[{"$f":"ROW()","v":1883}]
[{"$f":"ROW()","v":1884}]
[{"$f":"ROW()","v":1885}]
[{"$f":"ROW()","v":1886}]
[{"$f":"ROW()","v":1887}]
[{"$f":"ROW()","v":1888}]
[{"$f":"ROW()","v":1889}]
[{"$f":"ROW()","v":1890}]
[{"$f":"ROW()","v":1891}]
[{"$f":"ROW()","v":1892}]
[{"$f":"ROW()","v":1893}]
[{"$f":"ROW()","v":1894}]
[{"$f":"ROW()","v":1895}]
[{"$f":"ROW()","v":1896}]
[{"$f":"ROW()","v":1897}]
[{"$f":"ROW()","v":1898}]
[{"$f":"ROW()","v":1899}]
[{"$f":"ROW()","v":1900}]
[{"$f":"ROW()","v":1901}]
[{"$f":"ROW()","v":1902}]
[{"$f":"ROW()","v":1903}]
[{"$f":"ROW()","v":1904}]
[{"$f":"ROW()","v":1905}]
[{"$f":"ROW()","v":1906}]
[{"$f":"ROW()","v":1907}]
[{"$f":"ROW()","v":1908}]
[{"$f":"ROW()","v":1909}]
[{"$f":"ROW()","v":1910}]
[{"$f":"ROW()","v":1911}]
[{"$f":"ROW()","v":1912}]
[{"$f":"ROW()","v":1913}]
[{"$f":"ROW()","v":1914}]
[{"$f":"ROW()","v":1915}]
[{"$f":"ROW()","v":1916}]
[{"$f":"ROW()","v":1917}]
[{"$f":"ROW()","v":1918}]
[{"$f":"ROW()","v":1919}]
[{"$f":"ROW()","v":1920}]
[{"$f":"ROW()","v":1921}]
[{"$f":"ROW()","v":1922}]
[{"$f":"ROW()","v":1923}]
[{"$f":"ROW()","v":1924}]
[{"$f":"ROW()","v":1925}]
[{"$f":"ROW()","v":1926}]
[{"$f":"ROW()","v":1927}]
[{"$f":"ROW()","v":1928}]
[{"$f":"ROW()","v":1929}]
[{"$f":"ROW()","v":1930}]
[{"$f":"ROW()","v":1931}]
[{"$f":"ROW()","v":1932}]
[{"$f":"ROW()","v":1933}]
[{"$f":"ROW()","v":1934}]
[{"$f":"ROW()","v":1935}]
[{"$f":"ROW()","v":1936}]
[{"$f":"ROW()","v":1937}]
[{"$f":"ROW()","v":1938}]
[{"$f":"ROW()","v":1939}]
[{"$f":"ROW()","v":1940}]
[{"$f":"ROW()","v":1941}]
[{"$f":"ROW()","v":1942}]
[{"$f":"ROW()","v":1943}]
[{"$f":"ROW()","v":1944}]
[{"$f":"ROW()","v":1945}]
[{"$f":"ROW()","v":1946}]
[{"$f":"ROW()","v":1947}]
[{"$f":"ROW()","v":1948}]
[{"$f":"ROW()","v":1949}]
[{"$f":"ROW()","v":1950}]
[{"$f":"ROW()","v":1951}]
[{"$f":"ROW()","v":1952}]
[{"$f":"ROW()","v":1953}]
[{"$f":"ROW()","v":1954}]
[{"$f":"ROW()","v":1955}]
[{"$f":"ROW()","v":1956}]
[{"$f":"ROW()","v":1957}]
[{"$f":"ROW()","v":1958}]
[{"$f":"ROW()","v":1959}]
[{"$f":"ROW()","v":1960}]
[{"$f":"ROW()","v":1961}]
[{"$f":"ROW()","v":1962}]
[{"$f":"ROW()","v":1963}]
[{"$f":"ROW()","v":1964}]
[{"$f":"ROW()","v":1965}]
[{"$f":"ROW()","v":1966}]
[{"$f":"ROW()","v":1967}]
[{"$f":"ROW()","v":1968}]
[{"$f":"ROW()","v":1969}]
[{"$f":"ROW()","v":1970}]
[{"$f":"ROW()","v":1971}]
[{"$f":"ROW()","v":1972}]
[{"$f":"ROW()","v":1973}]
[{"$f":"ROW()","v":1974}]
[{"$f":"ROW()","v":1975}]
[{"$f":"ROW()","v":1976}]
[{"$f":"ROW()","v":1977}]
[{"$f":"ROW()","v":1978}]
[{"$f":"ROW()","v":1979}]
[{"$f":"ROW()","v":1980}]
[{"$f":"ROW()","v":1981}]
[{"$f":"ROW()","v":1982}]
[{"$f":"ROW()","v":1983}]
[{"$f":"ROW()","v":1984}]
[{"$f":"ROW()","v":1985}]
[{"$f":"ROW()","v":1986}]
[{"$f":"ROW()","v":1987}]
[{"$f":"ROW()","v":1988}]
[{"$f":"ROW()","v":1989}]
[{"$f":"ROW()","v":1990}]
[{"$f":"ROW()","v":1991}]
[{"$f":"ROW()","v":1992}]
[{"$f":"ROW()","v":1993}]
[{"$f":"ROW()","v":1994}]
[{"$f":"ROW()","v":1995}]
[{"$f":"ROW()","v":1996}]
[{"$f":"ROW()","v":1997}]
[{"$f":"ROW()","v":1998}]
[{"$f":"ROW()","v":1999}]
[{"$f":"ROW()","v":2000}]
[{"$f":"ROW()","v":2001}]
[{"$f":"ROW()","v":2002}]
[{"$f":"ROW()","v":2003}]
[{"$f":"ROW()","v":2004}]
[{"$f":"ROW()","v":2005}]
[{"$f":"ROW()","v":2006}]
[{"$f":"ROW()","v":2007}]
[{"$f":"ROW()","v":2008}]
[{"$f":"ROW()","v":2009}]
[{"$f":"ROW()","v":2010}]
[{"$f":"ROW()","v":2011}]
[{"$f":"ROW()","v":2012}]
[{"$f":"ROW()","v":2013}]
[{"$f":"ROW()","v":2014}]
[{"$f":"ROW()","v":2015}]
[{"$f":"ROW()","v":2016}]
[{"$f":"ROW()","v":2017}]
[{"$f":"ROW()","v":2018}]
[{"$f":"ROW()","v":2019}]
[{"$f":"ROW()","v":2020}]
[{"$f":"ROW()","v":2021}]
[{"$f":"ROW()","v":2022}]
[{"$f":"ROW()","v":2023}]
[{"$f":"ROW()","v":2024}]
[{"$f":"ROW()","v":2025}]
[{"$f":"ROW()","v":2026}]
[{"$f":"ROW()","v":2027}]
[{"$f":"ROW()","v":2028}]
[{"$f":"ROW()","v":2029}]
[{"$f":"ROW()","v":2030}]
[{"$f":"ROW()","v":2031}]
[{"$f":"ROW()","v":2032}]
[{"$f":"ROW()","v":2033}]
[{"$f":"ROW()","v":2034}]
[{"$f":"ROW()","v":2035}]
[{"$f":"ROW()","v":2036}]
[{"$f":"ROW()","v":2037}]
[{"$f":"ROW()","v":2038}]
[{"$f":"ROW()","v":2039}]
[{"$f":"ROW()","v":2040}]
[{"$f":"ROW()","v":2041}]
[{"$f":"ROW()","v":2042}]
[{"$f":"ROW()","v":2043}]
[{"$f":"ROW()","v":2044}]
[{"$f":"ROW()","v":2045}]
[{"$f":"ROW()","v":2046}]
[{"$f":"ROW()","v":2047}]
[{"$f":"ROW()","v":2048}]
[{"$f":"ROW()","v":2049}]
[{"$f":"ROW()","v":2050}]
[{"$f":"ROW()","v":2051}]
[{"$f":"ROW()","v":2052}]
[{"$f":"ROW()","v":2053}]
[{"$f":"ROW()","v":2054}]
[{"$f":"ROW()","v":2055}]
[{"$f":"ROW()","v":2056}]
[{"$f":"ROW()","v":2057}]
[{"$f":"ROW()","v":2058}]
[{"$f":"ROW()","v":2059}]
[{"$f":"ROW()","v":2060}]
[{"$f":"ROW()","v":2061}]
[{"$f":"ROW()","v":2062}]
[{"$f":"ROW()","v":2063}]
[{"$f":"ROW()","v":2064}]
[{"$f":"ROW()","v":2065}]
[{"$f":"ROW()","v":2066}]
[{"$f":"ROW()","v":2067}]
[{"$f":"ROW()","v":2068}]
[{"$f":"ROW()","v":2069}]
[{"$f":"ROW()","v":2070}]
[{"$f":"ROW()","v":2071}]
[{"$f":"ROW()","v":2072}]
[{"$f":"ROW()","v":2073}]
[{"$f":"ROW()","v":2074}]
[{"$f":"ROW()","v":2075}]
[{"$f":"ROW()","v":2076}]
[{"$f":"ROW()","v":2077}]
[{"$f":"ROW()","v":2078}]
[{"$f":"ROW()","v":2079}]
[{"$f":"ROW()","v":2080}]
[{"$f":"ROW()","v":2081}]
[{"$f":"ROW()","v":2082}]
[{"$f":"ROW()","v":2083}]
[{"$f":"ROW()","v":2084}]
[{"$f":"ROW()","v":2085}]
[{"$f":"ROW()","v":2086}]
[{"$f":"ROW()","v":2087}]
[{"$f":"ROW()","v":2088}]
[{"$f":"ROW()","v":2089}]
[{"$f":"ROW()","v":2090}]
[{"$f":"ROW()","v":2091}]
[{"$f":"ROW()","v":2092}]
[{"$f":"ROW()","v":2093}]
[{"$f":"ROW()","v":2094}]
[{"$f":"ROW()","v":2095}]
[{"$f":"ROW()","v":2096}]
[{"$f":"ROW()","v":2097}]
[{"$f":"ROW()","v":2098}]
[{"$f":"ROW()","v":2099}]
[{"$f":"ROW()","v":2100}]
[{"$f":"ROW()","v":2101}]
[{"$f":"ROW()","v":2102}]
[{"$f":"ROW()","v":2103}]
[{"$f":"ROW()","v":2104}]
[{"$f":"ROW()","v":2105}]
[{"$f":"ROW()","v":2106}]
[{"$f":"ROW()","v":2107}]
[{"$f":"ROW()","v":2108}]
[{"$f":"ROW()","v":2109}]
[{"$f":"ROW()","v":2110}]
[{"$f":"ROW()","v":2111}]
[{"$f":"ROW()","v":2112}]
[{"$f":"ROW()","v":2113}]
[{"$f":"ROW()","v":2114}]
[{"$f":"ROW()","v":2115}]
[{"$f":"ROW()","v":2116}]
[{"$f":"ROW()","v":2117}]
[{"$f":"ROW()","v":2118}]
[{"$f":"ROW()","v":2119}]
[{"$f":"ROW()","v":2120}]
[{"$f":"ROW()","v":2121}]
[{"$f":"ROW()","v":2122}]
[{"$f":"ROW()","v":2123}]
[{"$f":"ROW()","v":2124}]
[{"$f":"ROW()","v":2125}]
[{"$f":"ROW()","v":2126}]
[{"$f":"ROW()","v":2127}]
[{"$f":"ROW()","v":2128}]
[{"$f":"ROW()","v":2129}]
[{"$f":"ROW()","v":2130}]
[{"$f":"ROW()","v":2131}]
[{"$f":"ROW()","v":2132}]
[{"$f":"ROW()","v":2133}]
[{"$f":"ROW()","v":2134}]
[{"$f":"ROW()","v":2135}]
[{"$f":"ROW()","v":2136}]
[{"$f":"ROW()","v":2137}]
[{"$f":"ROW()","v":2138}]
[{"$f":"ROW()","v":2139}]
[{"$f":"ROW()","v":2140}]
[{"$f":"ROW()","v":2141}]
[{"$f":"ROW()","v":2142}]
[{"$f":"ROW()","v":2143}]
[{"$f":"ROW()","v":2144}]
[{"$f":"ROW()","v":2145}]
[{"$f":"ROW()","v":2146}]
[{"$f":"ROW()","v":2147}]
[{"$f":"ROW()","v":2148}]
[{"$f":"ROW()","v":2149}]
[{"$f":"ROW()","v":2150}]
[{"$f":"ROW()","v":2151}]
[{"$f":"ROW()","v":2152}]
[{"$f":"ROW()","v":2153}]
[{"$f":"ROW()","v":2154}]
[{"$f":"ROW()","v":2155}]
[{"$f":"ROW()","v":2156}]
[{"$f":"ROW()","v":2157}]
[{"$f":"ROW()","v":2158}]
[{"$f":"ROW()","v":2159}]
[{"$f":"ROW()","v":2160}]
[{"$f":"ROW()","v":2161}]
[{"$f":"ROW()","v":2162}]
[{"$f":"ROW()","v":2163}]
[{"$f":"ROW()","v":2164}]
[{"$f":"ROW()","v":2165}]
[{"$f":"ROW()","v":2166}]
[{"$f":"ROW()","v":2167}]
[{"$f":"ROW()","v":2168}]
[{"$f":"ROW()","v":2169}]
[{"$f":"ROW()","v":2170}]
[{"$f":"ROW()","v":2171}]
[{"$f":"ROW()","v":2172}]
[{"$f":"ROW()","v":2173}]
[{"$f":"ROW()","v":2174}]
[{"$f":"ROW()","v":2175}]
[{"$f":"ROW()","v":2176}]
[{"$f":"ROW()","v":2177}]
[{"$f":"ROW()","v":2178}]
[{"$f":"ROW()","v":2179}]
[{"$f":"ROW()","v":2180}]
[{"$f":"ROW()","v":2181}]
[{"$f":"ROW()","v":2182}]
[{"$f":"ROW()","v":2183}]
[{"$f":"ROW()","v":2184}]
[{"$f":"ROW()","v":2185}]
[{"$f":"ROW()","v":2186}]
[{"$f":"ROW()","v":2187}]
[{"$f":"ROW()","v":2188}]
[{"$f":"ROW()","v":2189}]
[{"$f":"ROW()","v":2190}]
[{"$f":"ROW()","v":2191}]
[{"$f":"ROW()","v":2192}]
[{"$f":"ROW()","v":2193}]
[{"$f":"ROW()","v":2194}]
[{"$f":"ROW()","v":2195}]
[{"$f":"ROW()","v":2196}]
[{"$f":"ROW()","v":2197}]
[{"$f":"ROW()","v":2198}]
[{"$f":"ROW()","v":2199}]
[{"$f":"ROW()","v":2200}]
[{"$f":"ROW()","v":2201}]
[{"$f":"ROW()","v":2202}]
[{"$f":"ROW()","v":2203}]
[{"$f":"ROW()","v":2204}]
[{"$f":"ROW()","v":2205}]
[{"$f":"ROW()","v":2206}]
[{"$f":"ROW()","v":2207}]
[{"$f":"ROW()","v":2208}]
[{"$f":"ROW()","v":2209}]
[{"$f":"ROW()","v":2210}]
[{"$f":"ROW()","v":2211}]
[{"$f":"ROW()","v":2212}]
[{"$f":"ROW()","v":2213}]
[{"$f":"ROW()","v":2214}]
[{"$f":"ROW()","v":2215}]
[{"$f":"ROW()","v":2216}]
[{"$f":"ROW()","v":2217}]
[{"$f":"ROW()","v":2218}]
[{"$f":"ROW()","v":2219}]
[{"$f":"ROW()","v":2220}]
[{"$f":"ROW()","v":2221}]
[{"$f":"ROW()","v":2222}]
[{"$f":"ROW()","v":2223}]
[{"$f":"ROW()","v":2224}]
[{"$f":"ROW()","v":2225}]
[{"$f":"ROW()","v":2226}]
[{"$f":"ROW()","v":2227}]
[{"$f":"ROW()","v":2228}]
[{"$f":"ROW()","v":2229}]
[{"$f":"ROW()","v":2230}]
[{"$f":"ROW()","v":2231}]
[{"$f":"ROW()","v":2232}]
[{"$f":"ROW()","v":2233}]
[{"$f":"ROW()","v":2234}]
[{"$f":"ROW()","v":2235}]
[{"$f":"ROW()","v":2236}]
[{"$f":"ROW()","v":2237}]
[{"$f":"ROW()","v":2238}]
[{"$f":"ROW()","v":2239}]
[{"$f":"ROW()","v":2240}]
[{"$f":"ROW()","v":2241}]
[{"$f":"ROW()","v":2242}]
[{"$f":"ROW()","v":2243}]
[{"$f":"ROW()","v":2244}]
[{"$f":"ROW()","v":2245}]
[{"$f":"ROW()","v":2246}]
[{"$f":"ROW()","v":2247}]
[{"$f":"ROW()","v":2248}]
[{"$f":"ROW()","v":2249}]
[{"$f":"ROW()","v":2250}]
[{"$f":"ROW()","v":2251}]
[{"$f":"ROW()","v":2252}]
[{"$f":"ROW()","v":2253}]
[{"$f":"ROW()","v":2254}]
[{"$f":"ROW()","v":2255}]
[{"$f":"ROW()","v":2256}]
[{"$f":"ROW()","v":2257}]
[{"$f":"ROW()","v":2258}]
[{"$f":"ROW()","v":2259}]
[{"$f":"ROW()","v":2260}]
[{"$f":"ROW()","v":2261}]
[{"$f":"ROW()","v":2262}]
[{"$f":"ROW()","v":2263}]
[{"$f":"ROW()","v":2264}]
[{"$f":"ROW()","v":2265}]
[{"$f":"ROW()","v":2266}]
[{"$f":"ROW()","v":2267}]
[{"$f":"ROW()","v":2268}]
[{"$f":"ROW()","v":2269}]
[{"$f":"ROW()","v":2270}]
[{"$f":"ROW()","v":2271}]
[{"$f":"ROW()","v":2272}]
[{"$f":"ROW()","v":2273}]
[{"$f":"ROW()","v":2274}]
[{"$f":"ROW()","v":2275}]
[{"$f":"ROW()","v":2276}]
[{"$f":"ROW()","v":2277}]
[{"$f":"ROW()","v":2278}]
[{"$f":"ROW()","v":2279}]
[{"$f":"ROW()","v":2280}]
[{"$f":"ROW()","v":2281}]
[{"$f":"ROW()","v":2282}]
[{"$f":"ROW()","v":2283}]
[{"$f":"ROW()","v":2284}]
[{"$f":"ROW()","v":2285}]
[{"$f":"ROW()","v":2286}]
[{"$f":"ROW()","v":2287}]
[{"$f":"ROW()","v":2288}]
[{"$f":"ROW()","v":2289}]
[{"$f":"ROW()","v":2290}]
[{"$f":"ROW()","v":2291}]
[{"$f":"ROW()","v":2292}]
[{"$f":"ROW()","v":2293}]
[{"$f":"ROW()","v":2294}]
[{"$f":"ROW()","v":2295}]
[{"$f":"ROW()","v":2296}]
[{"$f":"ROW()","v":2297}]
[{"$f":"ROW()","v":2298}]
[{"$f":"ROW()","v":2299}]
[{"$f":"ROW()","v":2300}]
[{"$f":"ROW()","v":2301}]
[{"$f":"ROW()","v":2302}]
[{"$f":"ROW()","v":2303}]
[{"$f":"ROW()","v":2304}]
[{"$f":"ROW()","v":2305}]
[{"$f":"ROW()","v":2306}]
[{"$f":"ROW()","v":2307}]
[{"$f":"ROW()","v":2308}]
[{"$f":"ROW()","v":2309}]
[{"$f":"ROW()","v":2310}]
[{"$f":"ROW()","v":2311}]
[{"$f":"ROW()","v":2312}]
[{"$f":"ROW()","v":2313}]
[{"$f":"ROW()","v":2314}]
[{"$f":"ROW()","v":2315}]
[{"$f":"ROW()","v":2316}]
[{"$f":"ROW()","v":2317}]
[{"$f":"ROW()","v":2318}]
[{"$f":"ROW()","v":2319}]
[{"$f":"ROW()","v":2320}]
[{"$f":"ROW()","v":2321}]
[{"$f":"ROW()","v":2322}]
[{"$f":"ROW()","v":2323}]
[{"$f":"ROW()","v":2324}]
[{"$f":"ROW()","v":2325}]
[{"$f":"ROW()","v":2326}]
[{"$f":"ROW()","v":2327}]
[{"$f":"ROW()","v":2328}]
[{"$f":"ROW()","v":2329}]
[{"$f":"ROW()","v":2330}]
[{"$f":"ROW()","v":2331}]
[{"$f":"ROW()","v":2332}]
[{"$f":"ROW()","v":2333}]
[{"$f":"ROW()","v":2334}]
[{"$f":"ROW()","v":2335}]
[{"$f":"ROW()","v":2336}]
[{"$f":"ROW()","v":2337}]
[{"$f":"ROW()","v":2338}]
[{"$f":"ROW()","v":2339}]
[{"$f":"ROW()","v":2340}]
[{"$f":"ROW()","v":2341}]
[{"$f":"ROW()","v":2342}]
[{"$f":"ROW()","v":2343}]
[{"$f":"ROW()","v":2344}]
[{"$f":"ROW()","v":2345}]
[{"$f":"ROW()","v":2346}]
[{"$f":"ROW()","v":2347}]
[{"$f":"ROW()","v":2348}]
[{"$f":"ROW()","v":2349}]
[{"$f":"ROW()","v":2350}]
[{"$f":"ROW()","v":2351}]
[{"$f":"ROW()","v":2352}]
[{"$f":"ROW()","v":2353}]
[{"$f":"ROW()","v":2354}]
[{"$f":"ROW()","v":2355}]
[{"$f":"ROW()","v":2356}]
[{"$f":"ROW()","v":2357}]
[{"$f":"ROW()","v":2358}]
[{"$f":"ROW()","v":2359}]
[{"$f":"ROW()","v":2360}]
[{"$f":"ROW()","v":2361}]
[{"$f":"ROW()","v":2362}]
[{"$f":"ROW()","v":2363}]
[{"$f":"ROW()","v":2364}]
[{"$f":"ROW()","v":2365}]
[{"$f":"ROW()","v":2366}]
[{"$f":"ROW()","v":2367}]
[{"$f":"ROW()","v":2368}]
[{"$f":"ROW()","v":2369}]
[{"$f":"ROW()","v":2370}]
[{"$f":"ROW()","v":2371}]
[{"$f":"ROW()","v":2372}]
[{"$f":"ROW()","v":2373}]
[{"$f":"ROW()","v":2374}]
[{"$f":"ROW()","v":2375}]
[{"$f":"ROW()","v":2376}]
[{"$f":"ROW()","v":2377}]
[{"$f":"ROW()","v":2378}]
[{"$f":"ROW()","v":2379}]
[{"$f":"ROW()","v":2380}]
[{"$f":"ROW()","v":2381}]
[{"$f":"ROW()","v":2382}]
[{"$f":"ROW()","v":2383}]
[{"$f":"ROW()","v":2384}]
[{"$f":"ROW()","v":2385}]
[{"$f":"ROW()","v":2386}]
[{"$f":"ROW()","v":2387}]
[{"$f":"ROW()","v":2388}]
[{"$f":"ROW()","v":2389}]
[{"$f":"ROW()","v":2390}]
[{"$f":"ROW()","v":2391}]
[{"$f":"ROW()","v":2392}]
[{"$f":"ROW()","v":2393}]
[{"$f":"ROW()","v":2394}]
[{"$f":"ROW()","v":2395}]
[{"$f":"ROW()","v":2396}]
[{"$f":"ROW()","v":2397}]
[{"$f":"ROW()","v":2398}]
[{"$f":"ROW()","v":2399}]
[{"$f":"ROW()","v":2400}]
[{"$f":"ROW()","v":2401}]
[{"$f":"ROW()","v":2402}]
[{"$f":"ROW()","v":2403}]
[{"$f":"ROW()","v":2404}]
[{"$f":"ROW()","v":2405}]
[{"$f":"ROW()","v":2406}]
[{"$f":"ROW()","v":2407}]
[{"$f":"ROW()","v":2408}]
[{"$f":"ROW()","v":2409}]
[{"$f":"ROW()","v":2410}]
[{"$f":"ROW()","v":2411}]
[{"$f":"ROW()","v":2412}]
[{"$f":"ROW()","v":2413}]
[{"$f":"ROW()","v":2414}]
[{"$f":"ROW()","v":2415}]
[{"$f":"ROW()","v":2416}]
[{"$f":"ROW()","v":2417}]
[{"$f":"ROW()","v":2418}]
[{"$f":"ROW()","v":2419}]
[{"$f":"ROW()","v":2420}]
[{"$f":"ROW()","v":2421}]
[{"$f":"ROW()","v":2422}]
[{"$f":"ROW()","v":2423}]
[{"$f":"ROW()","v":2424}]
[{"$f":"ROW()","v":2425}]
[{"$f":"ROW()","v":2426}]
[{"$f":"ROW()","v":2427}]
[{"$f":"ROW()","v":2428}]
[{"$f":"ROW()","v":2429}]
[{"$f":"ROW()","v":2430}]
[{"$f":"ROW()","v":2431}]
[{"$f":"ROW()","v":2432}]
[{"$f":"ROW()","v":2433}]
[{"$f":"ROW()","v":2434}]
[{"$f":"ROW()","v":2435}]
[{"$f":"ROW()","v":2436}]
[{"$f":"ROW()","v":2437}]
[{"$f":"ROW()","v":2438}]
[{"$f":"ROW()","v":2439}]
[{"$f":"ROW()","v":2440}]
[{"$f":"ROW()","v":2441}]
[{"$f":"ROW()","v":2442}]
[{"$f":"ROW()","v":2443}]
[{"$f":"ROW()","v":2444}]
[{"$f":"ROW()","v":2445}]
[{"$f":"ROW()","v":2446}]
[{"$f":"ROW()","v":2447}]
[{"$f":"ROW()","v":2448}]
[{"$f":"ROW()","v":2449}]
[{"$f":"ROW()","v":2450}]
[{"$f":"ROW()","v":2451}]
[{"$f":"ROW()","v":2452}]
[{"$f":"ROW()","v":2453}]
[{"$f":"ROW()","v":2454}]
[{"$f":"ROW()","v":2455}]
[{"$f":"ROW()","v":2456}]
[{"$f":"ROW()","v":2457}]
[{"$f":"ROW()","v":2458}]
[{"$f":"ROW()","v":2459}]
[{"$f":"ROW()","v":2460}]
[{"$f":"ROW()","v":2461}]
[{"$f":"ROW()","v":2462}]
[{"$f":"ROW()","v":2463}]
[{"$f":"ROW()","v":2464}]
[{"$f":"ROW()","v":2465}]
[{"$f":"ROW()","v":2466}]
[{"$f":"ROW()","v":2467}]
[{"$f":"ROW()","v":2468}]
[{"$f":"ROW()","v":2469}]
[{"$f":"ROW()","v":2470}]
[{"$f":"ROW()","v":2471}]
[{"$f":"ROW()","v":2472}]
[{"$f":"ROW()","v":2473}]
[{"$f":"ROW()","v":2474}]
[{"$f":"ROW()","v":2475}]
[{"$f":"ROW()","v":2476}]
[{"$f":"ROW()","v":2477}]
[{"$f":"ROW()","v":2478}]
[{"$f":"ROW()","v":2479}]
[{"$f":"ROW()","v":2480}]
[{"$f":"ROW()","v":2481}]
[{"$f":"ROW()","v":2482}]
[{"$f":"ROW()","v":2483}]
[{"$f":"ROW()","v":2484}]
[{"$f":"ROW()","v":2485}]
[{"$f":"ROW()","v":2486}]
[{"$f":"ROW()","v":2487}]
[{"$f":"ROW()","v":2488}]
[{"$f":"ROW()","v":2489}]
[{"$f":"ROW()","v":2490}]
[{"$f":"ROW()","v":2491}]
[{"$f":"ROW()","v":2492}]
[{"$f":"ROW()","v":2493}]
[{"$f":"ROW()","v":2494}]
[{"$f":"ROW()","v":2495}]
[{"$f":"ROW()","v":2496}]
[{"$f":"ROW()","v":2497}]
[{"$f":"ROW()","v":2498}]
[{"$f":"ROW()","v":2499}]
[{"$f":"ROW()","v":2500}]
[{"$f":"ROW()","v":2501}]
[{"$f":"ROW()","v":2502}]
[{"$f":"ROW()","v":2503}]
[{"$f":"ROW()","v":2504}]
[{"$f":"ROW()","v":2505}]
[{"$f":"ROW()","v":2506}]
[{"$f":"ROW()","v":2507}]
[{"$f":"ROW()","v":2508}]
[{"$f":"ROW()","v":2509}]
[{"$f":"ROW()","v":2510}]
[{"$f":"ROW()","v":2511}]
[{"$f":"ROW()","v":2512}]
[{"$f":"ROW()","v":2513}]
[{"$f":"ROW()","v":2514}]
[{"$f":"ROW()","v":2515}]
[{"$f":"ROW()","v":2516}]
[{"$f":"ROW()","v":2517}]
[{"$f":"ROW()","v":2518}]
[{"$f":"ROW()","v":2519}]
[{"$f":"ROW()","v":2520}]
[{"$f":"ROW()","v":2521}]
[{"$f":"ROW()","v":2522}]
[{"$f":"ROW()","v":2523}]
[{"$f":"ROW()","v":2524}]
[{"$f":"ROW()","v":2525}]
[{"$f":"ROW()","v":2526}]
[{"$f":"ROW()","v":2527}]
[{"$f":"ROW()","v":2528}]
[{"$f":"ROW()","v":2529}]
[{"$f":"ROW()","v":2530}]
[{"$f":"ROW()","v":2531}]
[{"$f":"ROW()","v":2532}]
[{"$f":"ROW()","v":2533}]
[{"$f":"ROW()","v":2534}]
[{"$f":"ROW()","v":2535}]
[{"$f":"ROW()","v":2536}]
[{"$f":"ROW()","v":2537}]
[{"$f":"ROW()","v":2538}]
[{"$f":"ROW()","v":2539}]
[{"$f":"ROW()","v":2540}]
[{"$f":"ROW()","v":2541}]
[{"$f":"ROW()","v":2542}]
[{"$f":"ROW()","v":2543}]
[{"$f":"ROW()","v":2544}]
[{"$f":"ROW()","v":2545}]
[{"$f":"ROW()","v":2546}]
[{"$f":"ROW()","v":2547}]
[{"$f":"ROW()","v":2548}]
[{"$f":"ROW()","v":2549}]
[{"$f":"ROW()","v":2550}]
[{"$f":"ROW()","v":2551}]
[{"$f":"ROW()","v":2552}]
[{"$f":"ROW()","v":2553}]
[{"$f":"ROW()","v":2554}]
[{"$f":"ROW()","v":2555}]
[{"$f":"ROW()","v":2556}]
[{"$f":"ROW()","v":2557}]
[{"$f":"ROW()","v":2558}]
[{"$f":"ROW()","v":2559}]
[{"$f":"ROW()","v":2560}]
[{"$f":"ROW()","v":2561}]
[{"$f":"ROW()","v":2562}]
[{"$f":"ROW()","v":2563}]
[{"$f":"ROW()","v":2564}]
[{"$f":"ROW()","v":2565}]
[{"$f":"ROW()","v":2566}]
[{"$f":"ROW()","v":2567}]
[{"$f":"ROW()","v":2568}]
[{"$f":"ROW()","v":2569}]
[{"$f":"ROW()","v":2570}]
[{"$f":"ROW()","v":2571}]
[{"$f":"ROW()","v":2572}]
[{"$f":"ROW()","v":2573}]
[{"$f":"ROW()","v":2574}]
[{"$f":"ROW()","v":2575}]
[{"$f":"ROW()","v":2576}]
[{"$f":"ROW()","v":2577}]
[{"$f":"ROW()","v":2578}]
[{"$f":"ROW()","v":2579}]
[{"$f":"ROW()","v":2580}]
[{"$f":"ROW()","v":2581}]
[{"$f":"ROW()","v":2582}]
[{"$f":"ROW()","v":2583}]
[{"$f":"ROW()","v":2584}]
[{"$f":"ROW()","v":2585}]
[{"$f":"ROW()","v":2586}]
[{"$f":"ROW()","v":2587}]
[{"$f":"ROW()","v":2588}]
[{"$f":"ROW()","v":2589}]
[{"$f":"ROW()","v":2590}]
[{"$f":"ROW()","v":2591}]
[{"$f":"ROW()","v":2592}]
[{"$f":"ROW()","v":2593}]
[{"$f":"ROW()","v":2594}]
[{"$f":"ROW()","v":2595}]
[{"$f":"ROW()","v":2596}]
[{"$f":"ROW()","v":2597}]
[{"$f":"ROW()","v":2598}]
[{"$f":"ROW()","v":2599}]
[{"$f":"ROW()","v":2600}]
[{"$f":"ROW()","v":2601}]
[{"$f":"ROW()","v":2602}]
[{"$f":"ROW()","v":2603}]
[{"$f":"ROW()","v":2604}]
[{"$f":"ROW()","v":2605}]
[{"$f":"ROW()","v":2606}]
[{"$f":"ROW()","v":2607}]
[{"$f":"ROW()","v":2608}]
[{"$f":"ROW()","v":2609}]
[{"$f":"ROW()","v":2610}]
[{"$f":"ROW()","v":2611}]
[{"$f":"ROW()","v":2612}]
[{"$f":"ROW()","v":2613}]
[{"$f":"ROW()","v":2614}]
[{"$f":"ROW()","v":2615}]
[{"$f":"ROW()","v":2616}]
[{"$f":"ROW()","v":2617}]
[{"$f":"ROW()","v":2618}]
[{"$f":"ROW()","v":2619}]
[{"$f":"ROW()","v":2620}]
[{"$f":"ROW()","v":2621}]
[{"$f":"ROW()","v":2622}]
[{"$f":"ROW()","v":2623}]
[{"$f":"ROW()","v":2624}]
[{"$f":"ROW()","v":2625}]
[{"$f":"ROW()","v":2626}]
[{"$f":"ROW()","v":2627}]
[{"$f":"ROW()","v":2628}]
[{"$f":"ROW()","v":2629}]
[{"$f":"ROW()","v":2630}]
[{"$f":"ROW()","v":2631}]
[{"$f":"ROW()","v":2632}]
[{"$f":"ROW()","v":2633}]
[{"$f":"ROW()","v":2634}]
[{"$f":"ROW()","v":2635}]
[{"$f":"ROW()","v":2636}]
[{"$f":"ROW()","v":2637}]
[{"$f":"ROW()","v":2638}]
[{"$f":"ROW()","v":2639}]
[{"$f":"ROW()","v":2640}]
[{"$f":"ROW()","v":2641}]
[{"$f":"ROW()","v":2642}]
[{"$f":"ROW()","v":2643}]
[{"$f":"ROW()","v":2644}]
[{"$f":"ROW()","v":2645}]
[{"$f":"ROW()","v":2646}]
[{"$f":"ROW()","v":2647}]
[{"$f":"ROW()","v":2648}]
[{"$f":"ROW()","v":2649}]
[{"$f":"ROW()","v":2650}]
[{"$f":"ROW()","v":2651}]
[{"$f":"ROW()","v":2652}]
[{"$f":"ROW()","v":2653}]
[{"$f":"ROW()","v":2654}]
[{"$f":"ROW()","v":2655}]
[{"$f":"ROW()","v":2656}]
[{"$f":"ROW()","v":2657}]
[{"$f":"ROW()","v":2658}]
[{"$f":"ROW()","v":2659}]
[{"$f":"ROW()","v":2660}]
[{"$f":"ROW()","v":2661}]
[{"$f":"ROW()","v":2662}]
[{"$f":"ROW()","v":2663}]
[{"$f":"ROW()","v":2664}]
[{"$f":"ROW()","v":2665}]
[{"$f":"ROW()","v":2666}]
[{"$f":"ROW()","v":2667}]
[{"$f":"ROW()","v":2668}]
[{"$f":"ROW()","v":2669}]
[{"$f":"ROW()","v":2670}]
[{"$f":"ROW()","v":2671}]
[{"$f":"ROW()","v":2672}]
[{"$f":"ROW()","v":2673}]
[{"$f":"ROW()","v":2674}]
[{"$f":"ROW()","v":2675}]
[{"$f":"ROW()","v":2676}]
[{"$f":"ROW()","v":2677}]
[{"$f":"ROW()","v":2678}]
[{"$f":"ROW()","v":2679}]
[{"$f":"ROW()","v":2680}]
[{"$f":"ROW()","v":2681}]
[{"$f":"ROW()","v":2682}]
[{"$f":"ROW()","v":2683}]
[{"$f":"ROW()","v":2684}]
[{"$f":"ROW()","v":2685}]
[{"$f":"ROW()","v":2686}]
[{"$f":"ROW()","v":2687}]
[{"$f":"ROW()","v":2688}]
[{"$f":"ROW()","v":2689}]
[{"$f":"ROW()","v":2690}]
[{"$f":"ROW()","v":2691}]
[{"$f":"ROW()","v":2692}]
[{"$f":"ROW()","v":2693}]
[{"$f":"ROW()","v":2694}]
[{"$f":"ROW()","v":2695}]
[{"$f":"ROW()","v":2696}]
[{"$f":"ROW()","v":2697}]
[{"$f":"ROW()","v":2698}]
[{"$f":"ROW()","v":2699}]
[{"$f":"ROW()","v":2700}]
[{"$f":"ROW()","v":2701}]
[{"$f":"ROW()","v":2702}]
[{"$f":"ROW()","v":2703}]
[{"$f":"ROW()","v":2704}]
[{"$f":"ROW()","v":2705}]
[{"$f":"ROW()","v":2706}]
[{"$f":"ROW()","v":2707}]
[{"$f":"ROW()","v":2708}]
[{"$f":"ROW()","v":2709}]
[{"$f":"ROW()","v":2710}]
[{"$f":"ROW()","v":2711}]
[{"$f":"ROW()","v":2712}]
[{"$f":"ROW()","v":2713}]
[{"$f":"ROW()","v":2714}]
[{"$f":"ROW()","v":2715}]
[{"$f":"ROW()","v":2716}]
[{"$f":"ROW()","v":2717}]
[{"$f":"ROW()","v":2718}]
[{"$f":"ROW()","v":2719}]
[{"$f":"ROW()","v":2720}]
[{"$f":"ROW()","v":2721}]
[{"$f":"ROW()","v":2722}]
[{"$f":"ROW()","v":2723}]
[{"$f":"ROW()","v":2724}]
[{"$f":"ROW()","v":2725}]
[{"$f":"ROW()","v":2726}]
[{"$f":"ROW()","v":2727}]
[{"$f":"ROW()","v":2728}]
[{"$f":"ROW()","v":2729}]
[{"$f":"ROW()","v":2730}]
[{"$f":"ROW()","v":2731}]
[{"$f":"ROW()","v":2732}]
[{"$f":"ROW()","v":2733}]
[{"$f":"ROW()","v":2734}]
[{"$f":"ROW()","v":2735}]
[{"$f":"ROW()","v":2736}]
[{"$f":"ROW()","v":2737}]
[{"$f":"ROW()","v":2738}]
[{"$f":"ROW()","v":2739}]
[{"$f":"ROW()","v":2740}]
[{"$f":"ROW()","v":2741}]
[{"$f":"ROW()","v":2742}]
[{"$f":"ROW()","v":2743}]
[{"$f":"ROW()","v":2744}]
[{"$f":"ROW()","v":2745}]
[{"$f":"ROW()","v":2746}]
[{"$f":"ROW()","v":2747}]
[{"$f":"ROW()","v":2748}]
[{"$f":"ROW()","v":2749}]
[{"$f":"ROW()","v":2750}]
[{"$f":"ROW()","v":2751}]
[{"$f":"ROW()","v":2752}]
[{"$f":"ROW()","v":2753}]
[{"$f":"ROW()","v":2754}]
[{"$f":"ROW()","v":2755}]
[{"$f":"ROW()","v":2756}]
[{"$f":"ROW()","v":2757}]
[{"$f":"ROW()","v":2758}]
[{"$f":"ROW()","v":2759}]
[{"$f":"ROW()","v":2760}]
[{"$f":"ROW()","v":2761}]
[{"$f":"ROW()","v":2762}]
[{"$f":"ROW()","v":2763}]
[{"$f":"ROW()","v":2764}]
[{"$f":"ROW()","v":2765}]
[{"$f":"ROW()","v":2766}]
[{"$f":"ROW()","v":2767}]
[{"$f":"ROW()","v":2768}]
[{"$f":"ROW()","v":2769}]
[{"$f":"ROW()","v":2770}]
[{"$f":"ROW()","v":2771}]
[{"$f":"ROW()","v":2772}]
[{"$f":"ROW()","v":2773}]
[{"$f":"ROW()","v":2774}]
[{"$f":"ROW()","v":2775}]
[{"$f":"ROW()","v":2776}]
[{"$f":"ROW()","v":2777}]
[{"$f":"ROW()","v":2778}]
[{"$f":"ROW()","v":2779}]
[{"$f":"ROW()","v":2780}]
[{"$f":"ROW()","v":2781}]
[{"$f":"ROW()","v":2782}]
[{"$f":"ROW()","v":2783}]
[{"$f":"ROW()","v":2784}]
[{"$f":"ROW()","v":2785}]
[{"$f":"ROW()","v":2786}]
[{"$f":"ROW()","v":2787}]
[{"$f":"ROW()","v":2788}]
[{"$f":"ROW()","v":2789}]
[{"$f":"ROW()","v":2790}]
[{"$f":"ROW()","v":2791}]
[{"$f":"ROW()","v":2792}]
[{"$f":"ROW()","v":2793}]
[{"$f":"ROW()","v":2794}]
[{"$f":"ROW()","v":2795}]
[{"$f":"ROW()","v":2796}]
[{"$f":"ROW()","v":2797}]
[{"$f":"ROW()","v":2798}]
[{"$f":"ROW()","v":2799}]
[{"$f":"ROW()","v":2800}]
[{"$f":"ROW()","v":2801}]
[{"$f":"ROW()","v":2802}]
[{"$f":"ROW()","v":2803}]
[{"$f":"ROW()","v":2804}]
[{"$f":"ROW()","v":2805}]
[{"$f":"ROW()","v":2806}]
[{"$f":"ROW()","v":2807}]
[{"$f":"ROW()","v":2808}]
[{"$f":"ROW()","v":2809}]
[{"$f":"ROW()","v":2810}]
[{"$f":"ROW()","v":2811}]
[{"$f":"ROW()","v":2812}]
[{"$f":"ROW()","v":2813}]
[{"$f":"ROW()","v":2814}]
[{"$f":"ROW()","v":2815}]
[{"$f":"ROW()","v":2816}]
[{"$f":"ROW()","v":2817}]
[{"$f":"ROW()","v":2818}]
[{"$f":"ROW()","v":2819}]
[{"$f":"ROW()","v":2820}]
[{"$f":"ROW()","v":2821}]
[{"$f":"ROW()","v":2822}]
[{"$f":"ROW()","v":2823}]
[{"$f":"ROW()","v":2824}]
[{"$f":"ROW()","v":2825}]
[{"$f":"ROW()","v":2826}]
[{"$f":"ROW()","v":2827}]
[{"$f":"ROW()","v":2828}]
[{"$f":"ROW()","v":2829}]
[{"$f":"ROW()","v":2830}]
[{"$f":"ROW()","v":2831}]
[{"$f":"ROW()","v":2832}]
[{"$f":"ROW()","v":2833}]
[{"$f":"ROW()","v":2834}]
[{"$f":"ROW()","v":2835}]
[{"$f":"ROW()","v":2836}]
[{"$f":"ROW()","v":2837}]
[{"$f":"ROW()","v":2838}]
[{"$f":"ROW()","v":2839}]
[{"$f":"ROW()","v":2840}]
[{"$f":"ROW()","v":2841}]
[{"$f":"ROW()","v":2842}]
[{"$f":"ROW()","v":2843}]
[{"$f":"ROW()","v":2844}]
[{"$f":"ROW()","v":2845}]
[{"$f":"ROW()","v":2846}]
[{"$f":"ROW()","v":2847}]
[{"$f":"ROW()","v":2848}]
[{"$f":"ROW()","v":2849}]
[{"$f":"ROW()","v":2850}]
[{"$f":"ROW()","v":2851}]
[{"$f":"ROW()","v":2852}]
[{"$f":"ROW()","v":2853}]
[{"$f":"ROW()","v":2854}]
[{"$f":"ROW()","v":2855}]
[{"$f":"ROW()","v":2856}]
[{"$f":"ROW()","v":2857}]
[{"$f":"ROW()","v":2858}]
[{"$f":"ROW()","v":2859}]
[{"$f":"ROW()","v":2860}]
[{"$f":"ROW()","v":2861}]
[{"$f":"ROW()","v":2862}]
[{"$f":"ROW()","v":2863}]
[{"$f":"ROW()","v":2864}]
[{"$f":"ROW()","v":2865}]
[{"$f":"ROW()","v":2866}]
[{"$f":"ROW()","v":2867}]
[{"$f":"ROW()","v":2868}]
[{"$f":"ROW()","v":2869}]
[{"$f":"ROW()","v":2870}]
[{"$f":"ROW()","v":2871}]
[{"$f":"ROW()","v":2872}]
[{"$f":"ROW()","v":2873}]
[{"$f":"ROW()","v":2874}]
[{"$f":"ROW()","v":2875}]
[{"$f":"ROW()","v":2876}]
[{"$f":"ROW()","v":2877}]
[{"$f":"ROW()","v":2878}]
[{"$f":"ROW()","v":2879}]
[{"$f":"ROW()","v":2880}]
[{"$f":"ROW()","v":2881}]
[{"$f":"ROW()","v":2882}]
[{"$f":"ROW()","v":2883}]
[{"$f":"ROW()","v":2884}]
[{"$f":"ROW()","v":2885}]
[{"$f":"ROW()","v":2886}]
[{"$f":"ROW()","v":2887}]
[{"$f":"ROW()","v":2888}]
[{"$f":"ROW()","v":2889}]
[{"$f":"ROW()","v":2890}]
[{"$f":"ROW()","v":2891}]
[{"$f":"ROW()","v":2892}]
[{"$f":"ROW()","v":2893}]
[{"$f":"ROW()","v":2894}]
[{"$f":"ROW()","v":2895}]
[{"$f":"ROW()","v":2896}]
[{"$f":"ROW()","v":2897}]
[{"$f":"ROW()","v":2898}]
[{"$f":"ROW()","v":2899}]
[{"$f":"ROW()","v":2900}]
[{"$f":"ROW()","v":2901}]
[{"$f":"ROW()","v":2902}]
[{"$f":"ROW()","v":2903}]
[{"$f":"ROW()","v":2904}]
[{"$f":"ROW()","v":2905}]
[{"$f":"ROW()","v":2906}]
[{"$f":"ROW()","v":2907}]
[{"$f":"ROW()","v":2908}]
[{"$f":"ROW()","v":2909}]
[{"$f":"ROW()","v":2910}]
[{"$f":"ROW()","v":2911}]
[{"$f":"ROW()","v":2912}]
[{"$f":"ROW()","v":2913}]
[{"$f":"ROW()","v":2914}]
[{"$f":"ROW()","v":2915}]
[{"$f":"ROW()","v":2916}]
[{"$f":"ROW()","v":2917}]
[{"$f":"ROW()","v":2918}]
[{"$f":"ROW()","v":2919}]
[{"$f":"ROW()","v":2920}]
[{"$f":"ROW()","v":2921}]
[{"$f":"ROW()","v":2922}]
[{"$f":"ROW()","v":2923}]
[{"$f":"ROW()","v":2924}]
[{"$f":"ROW()","v":2925}]
[{"$f":"ROW()","v":2926}]
[{"$f":"ROW()","v":2927}]
[{"$f":"ROW()","v":2928}]
[{"$f":"ROW()","v":2929}]
[{"$f":"ROW()","v":2930}]
[{"$f":"ROW()","v":2931}]
[{"$f":"ROW()","v":2932}]
[{"$f":"ROW()","v":2933}]
[{"$f":"ROW()","v":2934}]
[{"$f":"ROW()","v":2935}]
[{"$f":"ROW()","v":2936}]
[{"$f":"ROW()","v":2937}]
[{"$f":"ROW()","v":2938}]
[{"$f":"ROW()","v":2939}]
[{"$f":"ROW()","v":2940}]
[{"$f":"ROW()","v":2941}]
[{"$f":"ROW()","v":2942}]
[{"$f":"ROW()","v":2943}]
[{"$f":"ROW()","v":2944}]
[{"$f":"ROW()","v":2945}]
[{"$f":"ROW()","v":2946}]
[{"$f":"ROW()","v":2947}]
[{"$f":"ROW()","v":2948}]
[{"$f":"ROW()","v":2949}]
[{"$f":"ROW()","v":2950}]
[{"$f":"ROW()","v":2951}]
[{"$f":"ROW()","v":2952}]
[{"$f":"ROW()","v":2953}]
[{"$f":"ROW()","v":2954}]
[{"$f":"ROW()","v":2955}]
[{"$f":"ROW()","v":2956}]
[{"$f":"ROW()","v":2957}]
[{"$f":"ROW()","v":2958}]
[{"$f":"ROW()","v":2959}]
[{"$f":"ROW()","v":2960}]
[{"$f":"ROW()","v":2961}]
[{"$f":"ROW()","v":2962}]
[{"$f":"ROW()","v":2963}]
[{"$f":"ROW()","v":2964}]
[{"$f":"ROW()","v":2965}]
[{"$f":"ROW()","v":2966}]
[{"$f":"ROW()","v":2967}]
[{"$f":"ROW()","v":2968}]
[{"$f":"ROW()","v":2969}]
[{"$f":"ROW()","v":2970}]
[{"$f":"ROW()","v":2971}]
[{"$f":"ROW()","v":2972}]
[{"$f":"ROW()","v":2973}]
[{"$f":"ROW()","v":2974}]
[{"$f":"ROW()","v":2975}]
[{"$f":"ROW()","v":2976}]
[{"$f":"ROW()","v":2977}]
[{"$f":"ROW()","v":2978}]
[{"$f":"ROW()","v":2979}]
[{"$f":"ROW()","v":2980}]
[{"$f":"ROW()","v":2981}]
[{"$f":"ROW()","v":2982}]
[{"$f":"ROW()","v":2983}]
[{"$f":"ROW()","v":2984}]
[{"$f":"ROW()","v":2985}]
[{"$f":"ROW()","v":2986}]
[{"$f":"ROW()","v":2987}]
[{"$f":"ROW()","v":2988}]
[{"$f":"ROW()","v":2989}]
[{"$f":"ROW()","v":2990}]
[{"$f":"ROW()","v":2991}]
[{"$f":"ROW()","v":2992}]
[{"$f":"ROW()","v":2993}]
[{"$f":"ROW()","v":2994}]
[{"$f":"ROW()","v":2995}]
[{"$f":"ROW()","v":2996}]
[{"$f":"ROW()","v":2997}]
[{"$f":"ROW()","v":2998}]
[{"$f":"ROW()","v":2999}]
[{"$f":"ROW()","v":3000}]
[{"$f":"ROW()","v":3001}]
[{"$f":"ROW()","v":3002}]
[{"$f":"ROW()","v":3003}]
[{"$f":"ROW()","v":3004}]
[{"$f":"ROW()","v":3005}]
[{"$f":"ROW()","v":3006}]
[{"$f":"ROW()","v":3007}]
[{"$f":"ROW()","v":3008}]
[{"$f":"ROW()","v":3009}]
[{"$f":"ROW()","v":3010}]
[{"$f":"ROW()","v":3011}]
[{"$f":"ROW()","v":3012}]
[{"$f":"ROW()","v":3013}]
[{"$f":"ROW()","v":3014}]
[{"$f":"ROW()","v":3015}]
[{"$f":"ROW()","v":3016}]
[{"$f":"ROW()","v":3017}]
[{"$f":"ROW()","v":3018}]
[{"$f":"ROW()","v":3019}]
[{"$f":"ROW()","v":3020}]
[{"$f":"ROW()","v":3021}]
[{"$f":"ROW()","v":3022}]
[{"$f":"ROW()","v":3023}]
[{"$f":"ROW()","v":3024}]
[{"$f":"ROW()","v":3025}]
[{"$f":"ROW()","v":3026}]
[{"$f":"ROW()","v":3027}]
[{"$f":"ROW()","v":3028}]
[{"$f":"ROW()","v":3029}]
[{"$f":"ROW()","v":3030}]
[{"$f":"ROW()","v":3031}]
[{"$f":"ROW()","v":3032}]
[{"$f":"ROW()","v":3033}]
[{"$f":"ROW()","v":3034}]
[{"$f":"ROW()","v":3035}]
[{"$f":"ROW()","v":3036}]
[{"$f":"ROW()","v":3037}]
[{"$f":"ROW()","v":3038}]
[{"$f":"ROW()","v":3039}]
[{"$f":"ROW()","v":3040}]
[{"$f":"ROW()","v":3041}]
[{"$f":"ROW()","v":3042}]
[{"$f":"ROW()","v":3043}]
[{"$f":"ROW()","v":3044}]
[{"$f":"ROW()","v":3045}]
[{"$f":"ROW()","v":3046}]
[{"$f":"ROW()","v":3047}]
[{"$f":"ROW()","v":3048}]
[{"$f":"ROW()","v":3049}]
[{"$f":"ROW()","v":3050}]
[{"$f":"ROW()","v":3051}]
[{"$f":"ROW()","v":3052}]
[{"$f":"ROW()","v":3053}]
[{"$f":"ROW()","v":3054}]
[{"$f":"ROW()","v":3055}]
[{"$f":"ROW()","v":3056}]
[{"$f":"ROW()","v":3057}]
[{"$f":"ROW()","v":3058}]
[{"$f":"ROW()","v":3059}]
[{"$f":"ROW()","v":3060}]
[{"$f":"ROW()","v":3061}]
[{"$f":"ROW()","v":3062}]
[{"$f":"ROW()","v":3063}]
[{"$f":"ROW()","v":3064}]
[{"$f":"ROW()","v":3065}]
[{"$f":"ROW()","v":3066}]
[{"$f":"ROW()","v":3067}]
[{"$f":"ROW()","v":3068}]
[{"$f":"ROW()","v":3069}]
[{"$f":"ROW()","v":3070}]
[{"$f":"ROW()","v":3071}]
[{"$f":"ROW()","v":3072}]
[{"$f":"ROW()","v":3073}]
[{"$f":"ROW()","v":3074}]
[{"$f":"ROW()","v":3075}]
[{"$f":"ROW()","v":3076}]
[{"$f":"ROW()","v":3077}]
[{"$f":"ROW()","v":3078}]
[{"$f":"ROW()","v":3079}]
[{"$f":"ROW()","v":3080}]
[{"$f":"ROW()","v":3081}]
[{"$f":"ROW()","v":3082}]
[{"$f":"ROW()","v":3083}]
[{"$f":"ROW()","v":3084}]
[{"$f":"ROW()","v":3085}]
[{"$f":"ROW()","v":3086}]
[{"$f":"ROW()","v":3087}]
[{"$f":"ROW()","v":3088}]
[{"$f":"ROW()","v":3089}]
[{"$f":"ROW()","v":3090}]
[{"$f":"ROW()","v":3091}]
[{"$f":"ROW()","v":3092}]
[{"$f":"ROW()","v":3093}]
[{"$f":"ROW()","v":3094}]
[{"$f":"ROW()","v":3095}]
[{"$f":"ROW()","v":3096}]
[{"$f":"ROW()","v":3097}]
[{"$f":"ROW()","v":3098}]
[{"$f":"ROW()","v":3099}]
[{"$f":"ROW()","v":3100}]
[{"$f":"ROW()","v":3101}]
[{"$f":"ROW()","v":3102}]
[{"$f":"ROW()","v":3103}]
[{"$f":"ROW()","v":3104}]
[{"$f":"ROW()","v":3105}]
[{"$f":"ROW()","v":3106}]
[{"$f":"ROW()","v":3107}]
[{"$f":"ROW()","v":3108}]
[{"$f":"ROW()","v":3109}]
[{"$f":"ROW()","v":3110}]
[{"$f":"ROW()","v":3111}]
[{"$f":"ROW()","v":3112}]
[{"$f":"ROW()","v":3113}]
[{"$f":"ROW()","v":3114}]
[{"$f":"ROW()","v":3115}]
[{"$f":"ROW()","v":3116}]
[{"$f":"ROW()","v":3117}]
[{"$f":"ROW()","v":3118}]
[{"$f":"ROW()","v":3119}]
[{"$f":"ROW()","v":3120}]
[{"$f":"ROW()","v":3121}]
[{"$f":"ROW()","v":3122}]
[{"$f":"ROW()","v":3123}]
[{"$f":"ROW()","v":3124}]
[{"$f":"ROW()","v":3125}]
[{"$f":"ROW()","v":3126}]
[{"$f":"ROW()","v":3127}]
[{"$f":"ROW()","v":3128}]
[{"$f":"ROW()","v":3129}]
[{"$f":"ROW()","v":3130}]
[{"$f":"ROW()","v":3131}]
[{"$f":"ROW()","v":3132}]
[{"$f":"ROW()","v":3133}]
[{"$f":"ROW()","v":3134}]
[{"$f":"ROW()","v":3135}]
[{"$f":"ROW()","v":3136}]
[{"$f":"ROW()","v":3137}]
[{"$f":"ROW()","v":3138}]
[{"$f":"ROW()","v":3139}]
[{"$f":"ROW()","v":3140}]
[{"$f":"ROW()","v":3141}]
[{"$f":"ROW()","v":3142}]
[{"$f":"ROW()","v":3143}]
[{"$f":"ROW()","v":3144}]
[{"$f":"ROW()","v":3145}]
[{"$f":"ROW()","v":3146}]
[{"$f":"ROW()","v":3147}]
[{"$f":"ROW()","v":3148}]
[{"$f":"ROW()","v":3149}]
[{"$f":"ROW()","v":3150}]
[{"$f":"ROW()","v":3151}]
[{"$f":"ROW()","v":3152}]
[{"$f":"ROW()","v":3153}]
[{"$f":"ROW()","v":3154}]
[{"$f":"ROW()","v":3155}]
[{"$f":"ROW()","v":3156}]
[{"$f":"ROW()","v":3157}]
[{"$f":"ROW()","v":3158}]
[{"$f":"ROW()","v":3159}]
[{"$f":"ROW()","v":3160}]
[{"$f":"ROW()","v":3161}]
[{"$f":"ROW()","v":3162}]
[{"$f":"ROW()","v":3163}]
[{"$f":"ROW()","v":3164}]
[{"$f":"ROW()","v":3165}]
[{"$f":"ROW()","v":3166}]
[{"$f":"ROW()","v":3167}]
[{"$f":"ROW()","v":3168}]
[{"$f":"ROW()","v":3169}]
[{"$f":"ROW()","v":3170}]
[{"$f":"ROW()","v":3171}]
[{"$f":"ROW()","v":3172}]
[{"$f":"ROW()","v":3173}]
[{"$f":"ROW()","v":3174}]
[{"$f":"ROW()","v":3175}]
[{"$f":"ROW()","v":3176}]
[{"$f":"ROW()","v":3177}]
[{"$f":"ROW()","v":3178}]
[{"$f":"ROW()","v":3179}]
[{"$f":"ROW()","v":3180}]
[{"$f":"ROW()","v":3181}]
[{"$f":"ROW()","v":3182}]
[{"$f":"ROW()","v":3183}]
[{"$f":"ROW()","v":3184}]
[{"$f":"ROW()","v":3185}]
[{"$f":"ROW()","v":3186}]
[{"$f":"ROW()","v":3187}]
[{"$f":"ROW()","v":3188}]
[{"$f":"ROW()","v":3189}]
[{"$f":"ROW()","v":3190}]
[{"$f":"ROW()","v":3191}]
[{"$f":"ROW()","v":3192}]
[{"$f":"ROW()","v":3193}]
[{"$f":"ROW()","v":3194}]
[{"$f":"ROW()","v":3195}]
[{"$f":"ROW()","v":3196}]
[{"$f":"ROW()","v":3197}]
[{"$f":"ROW()","v":3198}]
[{"$f":"ROW()","v":3199}]
[{"$f":"ROW()","v":3200}]
[{"$f":"ROW()","v":3201}]
[{"$f":"ROW()","v":3202}]
[{"$f":"ROW()","v":3203}]
[{"$f":"ROW()","v":3204}]
[{"$f":"ROW()","v":3205}]
[{"$f":"ROW()","v":3206}]
[{"$f":"ROW()","v":3207}]
[{"$f":"ROW()","v":3208}]
[{"$f":"ROW()","v":3209}]
[{"$f":"ROW()","v":3210}]
[{"$f":"ROW()","v":3211}]
[{"$f":"ROW()","v":3212}]
[{"$f":"ROW()","v":3213}]
[{"$f":"ROW()","v":3214}]
[{"$f":"ROW()","v":3215}]
[{"$f":"ROW()","v":3216}]
[{"$f":"ROW()","v":3217}]
[{"$f":"ROW()","v":3218}]
[{"$f":"ROW()","v":3219}]
[{"$f":"ROW()","v":3220}]
[{"$f":"ROW()","v":3221}]
[{"$f":"ROW()","v":3222}]
[{"$f":"ROW()","v":3223}]
[{"$f":"ROW()","v":3224}]
[{"$f":"ROW()","v":3225}]
[{"$f":"ROW()","v":3226}]
[{"$f":"ROW()","v":3227}]
[{"$f":"ROW()","v":3228}]
[{"$f":"ROW()","v":3229}]
[{"$f":"ROW()","v":3230}]
[{"$f":"ROW()","v":3231}]
[{"$f":"ROW()","v":3232}]
[{"$f":"ROW()","v":3233}]
[{"$f":"ROW()","v":3234}]
[{"$f":"ROW()","v":3235}]
[{"$f":"ROW()","v":3236}]
[{"$f":"ROW()","v":3237}]
[{"$f":"ROW()","v":3238}]
[{"$f":"ROW()","v":3239}]
[{"$f":"ROW()","v":3240}]
[{"$f":"ROW()","v":3241}]
[{"$f":"ROW()","v":3242}]
[{"$f":"ROW()","v":3243}]
[{"$f":"ROW()","v":3244}]
[{"$f":"ROW()","v":3245}]
[{"$f":"ROW()","v":3246}]
[{"$f":"ROW()","v":3247}]
[{"$f":"ROW()","v":3248}]
[{"$f":"ROW()","v":3249}]
[{"$f":"ROW()","v":3250}]
[{"$f":"ROW()","v":3251}]
[{"$f":"ROW()","v":3252}]
[{"$f":"ROW()","v":3253}]
[{"$f":"ROW()","v":3254}]
[{"$f":"ROW()","v":3255}]
[{"$f":"ROW()","v":3256}]
[{"$f":"ROW()","v":3257}]
[{"$f":"ROW()","v":3258}]
[{"$f":"ROW()","v":3259}]
[{"$f":"ROW()","v":3260}]
[{"$f":"ROW()","v":3261}]
[{"$f":"ROW()","v":3262}]
[{"$f":"ROW()","v":3263}]
[{"$f":"ROW()","v":3264}]
[{"$f":"ROW()","v":3265}]
[{"$f":"ROW()","v":3266}]
[{"$f":"ROW()","v":3267}]
[{"$f":"ROW()","v":3268}]
[{"$f":"ROW()","v":3269}]
[{"$f":"ROW()","v":3270}]
[{"$f":"ROW()","v":3271}]
[{"$f":"ROW()","v":3272}]
[{"$f":"ROW()","v":3273}]
[{"$f":"ROW()","v":3274}]
[{"$f":"ROW()","v":3275}]
[{"$f":"ROW()","v":3276}]
[{"$f":"ROW()","v":3277}]
[{"$f":"ROW()","v":3278}]
[{"$f":"ROW()","v":3279}]
[{"$f":"ROW()","v":3280}]
[{"$f":"ROW()","v":3281}]
[{"$f":"ROW()","v":3282}]
[{"$f":"ROW()","v":3283}]
[{"$f":"ROW()","v":3284}]
[{"$f":"ROW()","v":3285}]
[{"$f":"ROW()","v":3286}]
[{"$f":"ROW()","v":3287}]
[{"$f":"ROW()","v":3288}]
[{"$f":"ROW()","v":3289}]
[{"$f":"ROW()","v":3290}]
[{"$f":"ROW()","v":3291}]
[{"$f":"ROW()","v":3292}]
[{"$f":"ROW()","v":3293}]
[{"$f":"ROW()","v":3294}]
[{"$f":"ROW()","v":3295}]
[{"$f":"ROW()","v":3296}]
[{"$f":"ROW()","v":3297}]
[{"$f":"ROW()","v":3298}]
[{"$f":"ROW()","v":3299}]
[{"$f":"ROW()","v":3300}]
[{"$f":"ROW()","v":3301}]
[{"$f":"ROW()","v":3302}]
[{"$f":"ROW()","v":3303}]
[{"$f":"ROW()","v":3304}]
[{"$f":"ROW()","v":3305}]
[{"$f":"ROW()","v":3306}]
[{"$f":"ROW()","v":3307}]
[{"$f":"ROW()","v":3308}]
[{"$f":"ROW()","v":3309}]
[{"$f":"ROW()","v":3310}]
[{"$f":"ROW()","v":3311}]
[{"$f":"ROW()","v":3312}]
[{"$f":"ROW()","v":3313}]
[{"$f":"ROW()","v":3314}]
[{"$f":"ROW()","v":3315}]
[{"$f":"ROW()","v":3316}]
[{"$f":"ROW()","v":3317}]
[{"$f":"ROW()","v":3318}]
[{"$f":"ROW()","v":3319}]
[{"$f":"ROW()","v":3320}]
[{"$f":"ROW()","v":3321}]
[{"$f":"ROW()","v":3322}]
[{"$f":"ROW()","v":3323}]
[{"$f":"ROW()","v":3324}]
[{"$f":"ROW()","v":3325}]
[{"$f":"ROW()","v":3326}]
[{"$f":"ROW()","v":3327}]
[{"$f":"ROW()","v":3328}]
[{"$f":"ROW()","v":3329}]
[{"$f":"ROW()","v":3330}]
[{"$f":"ROW()","v":3331}]
[{"$f":"ROW()","v":3332}]
[{"$f":"ROW()","v":3333}]
[{"$f":"ROW()","v":3334}]
[{"$f":"ROW()","v":3335}]
[{"$f":"ROW()","v":3336}]
[{"$f":"ROW()","v":3337}]
[{"$f":"ROW()","v":3338}]
[{"$f":"ROW()","v":3339}]
[{"$f":"ROW()","v":3340}]
[{"$f":"ROW()","v":3341}]
[{"$f":"ROW()","v":3342}]
[{"$f":"ROW()","v":3343}]
[{"$f":"ROW()","v":3344}]
[{"$f":"ROW()","v":3345}]
[{"$f":"ROW()","v":3346}]
[{"$f":"ROW()","v":3347}]
[{"$f":"ROW()","v":3348}]
[{"$f":"ROW()","v":3349}]
[{"$f":"ROW()","v":3350}]
[{"$f":"ROW()","v":3351}]
[{"$f":"ROW()","v":3352}]
[{"$f":"ROW()","v":3353}]
[{"$f":"ROW()","v":3354}]
[{"$f":"ROW()","v":3355}]
[{"$f":"ROW()","v":3356}]
[{"$f":"ROW()","v":3357}]
[{"$f":"ROW()","v":3358}]
[{"$f":"ROW()","v":3359}]
[{"$f":"ROW()","v":3360}]
[{"$f":"ROW()","v":3361}]
[{"$f":"ROW()","v":3362}]
[{"$f":"ROW()","v":3363}]
[{"$f":"ROW()","v":3364}]
[{"$f":"ROW()","v":3365}]
[{"$f":"ROW()","v":3366}]
[{"$f":"ROW()","v":3367}]
[{"$f":"ROW()","v":3368}]
[{"$f":"ROW()","v":3369}]
[{"$f":"ROW()","v":3370}]
[{"$f":"ROW()","v":3371}]
[{"$f":"ROW()","v":3372}]
[{"$f":"ROW()","v":3373}]
[{"$f":"ROW()","v":3374}]
[{"$f":"ROW()","v":3375}]
[{"$f":"ROW()","v":3376}]
[{"$f":"ROW()","v":3377}]
[{"$f":"ROW()","v":3378}]
[{"$f":"ROW()","v":3379}]
[{"$f":"ROW()","v":3380}]
[{"$f":"ROW()","v":3381}]
[{"$f":"ROW()","v":3382}]
[{"$f":"ROW()","v":3383}]
[{"$f":"ROW()","v":3384}]
[{"$f":"ROW()","v":3385}]
[{"$f":"ROW()","v":3386}]
[{"$f":"ROW()","v":3387}]
[{"$f":"ROW()","v":3388}]
[{"$f":"ROW()","v":3389}]
[{"$f":"ROW()","v":3390}]
[{"$f":"ROW()","v":3391}]
[{"$f":"ROW()","v":3392}]
[{"$f":"ROW()","v":3393}]
[{"$f":"ROW()","v":3394}]
[{"$f":"ROW()","v":3395}]
[{"$f":"ROW()","v":3396}]
[{"$f":"ROW()","v":3397}]
[{"$f":"ROW()","v":3398}]
[{"$f":"ROW()","v":3399}]
[{"$f":"ROW()","v":3400}]
[{"$f":"ROW()","v":3401}]
[{"$f":"ROW()","v":3402}]
[{"$f":"ROW()","v":3403}]
[{"$f":"ROW()","v":3404}]
[{"$f":"ROW()","v":3405}]
[{"$f":"ROW()","v":3406}]
[{"$f":"ROW()","v":3407}]
[{"$f":"ROW()","v":3408}]
[{"$f":"ROW()","v":3409}]
[{"$f":"ROW()","v":3410}]
[{"$f":"ROW()","v":3411}]
[{"$f":"ROW()","v":3412}]
[{"$f":"ROW()","v":3413}]
[{"$f":"ROW()","v":3414}]
[{"$f":"ROW()","v":3415}]
[{"$f":"ROW()","v":3416}]
[{"$f":"ROW()","v":3417}]
[{"$f":"ROW()","v":3418}]
[{"$f":"ROW()","v":3419}]
[{"$f":"ROW()","v":3420}]
[{"$f":"ROW()","v":3421}]
[{"$f":"ROW()","v":3422}]
[{"$f":"ROW()","v":3423}]
[{"$f":"ROW()","v":3424}]
[{"$f":"ROW()","v":3425}]
[{"$f":"ROW()","v":3426}]
[{"$f":"ROW()","v":3427}]
[{"$f":"ROW()","v":3428}]
[{"$f":"ROW()","v":3429}]
[{"$f":"ROW()","v":3430}]
[{"$f":"ROW()","v":3431}]
[{"$f":"ROW()","v":3432}]
[{"$f":"ROW()","v":3433}]
[{"$f":"ROW()","v":3434}]
[{"$f":"ROW()","v":3435}]
[{"$f":"ROW()","v":3436}]
[{"$f":"ROW()","v":3437}]
[{"$f":"ROW()","v":3438}]
[{"$f":"ROW()","v":3439}]
[{"$f":"ROW()","v":3440}]
[{"$f":"ROW()","v":3441}]
[{"$f":"ROW()","v":3442}]
[{"$f":"ROW()","v":3443}]
[{"$f":"ROW()","v":3444}]
[{"$f":"ROW()","v":3445}]
[{"$f":"ROW()","v":3446}]
[{"$f":"ROW()","v":3447}]
[{"$f":"ROW()","v":3448}]
[{"$f":"ROW()","v":3449}]
[{"$f":"ROW()","v":3450}]
[{"$f":"ROW()","v":3451}]
[{"$f":"ROW()","v":3452}]
[{"$f":"ROW()","v":3453}]
[{"$f":"ROW()","v":3454}]
[{"$f":"ROW()","v":3455}]
[{"$f":"ROW()","v":3456}]
[{"$f":"ROW()","v":3457}]
[{"$f":"ROW()","v":3458}]
[{"$f":"ROW()","v":3459}]
[{"$f":"ROW()","v":3460}]
[{"$f":"ROW()","v":3461}]
[{"$f":"ROW()","v":3462}]
[{"$f":"ROW()","v":3463}]
[{"$f":"ROW()","v":3464}]
[{"$f":"ROW()","v":3465}]
[{"$f":"ROW()","v":3466}]
[{"$f":"ROW()","v":3467}]
[{"$f":"ROW()","v":3468}]
[{"$f":"ROW()","v":3469}]
[{"$f":"ROW()","v":3470}]
[{"$f":"ROW()","v":3471}]
[{"$f":"ROW()","v":3472}]
[{"$f":"ROW()","v":3473}]
[{"$f":"ROW()","v":3474}]
[{"$f":"ROW()","v":3475}]
[{"$f":"ROW()","v":3476}]
[{"$f":"ROW()","v":3477}]
[{"$f":"ROW()","v":3478}]
[{"$f":"ROW()","v":3479}]
[{"$f":"ROW()","v":3480}]
[{"$f":"ROW()","v":3481}]
[{"$f":"ROW()","v":3482}]
[{"$f":"ROW()","v":3483}]
[{"$f":"ROW()","v":3484}]
[{"$f":"ROW()","v":3485}]
[{"$f":"ROW()","v":3486}]
[{"$f":"ROW()","v":3487}]
[{"$f":"ROW()","v":3488}]
[{"$f":"ROW()","v":3489}]
[{"$f":"ROW()","v":3490}]
[{"$f":"ROW()","v":3491}]
[{"$f":"ROW()","v":3492}]
[{"$f":"ROW()","v":3493}]
[{"$f":"ROW()","v":3494}]
[{"$f":"ROW()","v":3495}]
[{"$f":"ROW()","v":3496}]
[{"$f":"ROW()","v":3497}]
[{"$f":"ROW()","v":3498}]
[{"$f":"ROW()","v":3499}]
[{"$f":"ROW()","v":3500}]
[{"$f":"ROW()","v":3501}]
[{"$f":"ROW()","v":3502}]
[{"$f":"ROW()","v":3503}]
[{"$f":"ROW()","v":3504}]
[{"$f":"ROW()","v":3505}]
[{"$f":"ROW()","v":3506}]
[{"$f":"ROW()","v":3507}]
[{"$f":"ROW()","v":3508}]
[{"$f":"ROW()","v":3509}]
[{"$f":"ROW()","v":3510}]
[{"$f":"ROW()","v":3511}]
[{"$f":"ROW()","v":3512}]
[{"$f":"ROW()","v":3513}]
[{"$f":"ROW()","v":3514}]
[{"$f":"ROW()","v":3515}]
[{"$f":"ROW()","v":3516}]
[{"$f":"ROW()","v":3517}]
[{"$f":"ROW()","v":3518}]
[{"$f":"ROW()","v":3519}]
[{"$f":"ROW()","v":3520}]
[{"$f":"ROW()","v":3521}]
[{"$f":"ROW()","v":3522}]
[{"$f":"ROW()","v":3523}]
[{"$f":"ROW()","v":3524}]
[{"$f":"ROW()","v":3525}]
[{"$f":"ROW()","v":3526}]
[{"$f":"ROW()","v":3527}]
[{"$f":"ROW()","v":3528}]
[{"$f":"ROW()","v":3529}]
[{"$f":"ROW()","v":3530}]
[{"$f":"ROW()","v":3531}]
[{"$f":"ROW()","v":3532}]
[{"$f":"ROW()","v":3533}]
[{"$f":"ROW()","v":3534}]
[{"$f":"ROW()","v":3535}]
[{"$f":"ROW()","v":3536}]
[{"$f":"ROW()","v":3537}]
[{"$f":"ROW()","v":3538}]
[{"$f":"ROW()","v":3539}]
[{"$f":"ROW()","v":3540}]
[{"$f":"ROW()","v":3541}]
[{"$f":"ROW()","v":3542}]
[{"$f":"ROW()","v":3543}]
[{"$f":"ROW()","v":3544}]
[{"$f":"ROW()","v":3545}]
[{"$f":"ROW()","v":3546}]
[{"$f":"ROW()","v":3547}]
[{"$f":"ROW()","v":3548}]
[{"$f":"ROW()","v":3549}]
[{"$f":"ROW()","v":3550}]
[{"$f":"ROW()","v":3551}]
[{"$f":"ROW()","v":3552}]
[{"$f":"ROW()","v":3553}]
[{"$f":"ROW()","v":3554}]
[{"$f":"ROW()","v":3555}]
[{"$f":"ROW()","v":3556}]
[{"$f":"ROW()","v":3557}]
[{"$f":"ROW()","v":3558}]
[{"$f":"ROW()","v":3559}]
[{"$f":"ROW()","v":3560}]
[{"$f":"ROW()","v":3561}]
[{"$f":"ROW()","v":3562}]
[{"$f":"ROW()","v":3563}]
[{"$f":"ROW()","v":3564}]
[{"$f":"ROW()","v":3565}]
[{"$f":"ROW()","v":3566}]
[{"$f":"ROW()","v":3567}]
[{"$f":"ROW()","v":3568}]
[{"$f":"ROW()","v":3569}]
[{"$f":"ROW()","v":3570}]
[{"$f":"ROW()","v":3571}]
[{"$f":"ROW()","v":3572}]
[{"$f":"ROW()","v":3573}]
[{"$f":"ROW()","v":3574}]
[{"$f":"ROW()","v":3575}]
[{"$f":"ROW()","v":3576}]
[{"$f":"ROW()","v":3577}]
[{"$f":"ROW()","v":3578}]
[{"$f":"ROW()","v":3579}]
[{"$f":"ROW()","v":3580}]
[{"$f":"ROW()","v":3581}]
[{"$f":"ROW()","v":3582}]
[{"$f":"ROW()","v":3583}]
[{"$f":"ROW()","v":3584}]
[{"$f":"ROW()","v":3585}]
[{"$f":"ROW()","v":3586}]
[{"$f":"ROW()","v":3587}]
[{"$f":"ROW()","v":3588}]
[{"$f":"ROW()","v":3589}]
[{"$f":"ROW()","v":3590}]
[{"$f":"ROW()","v":3591}]
[{"$f":"ROW()","v":3592}]
[{"$f":"ROW()","v":3593}]
[{"$f":"ROW()","v":3594}]
[{"$f":"ROW()","v":3595}]
[{"$f":"ROW()","v":3596}]
[{"$f":"ROW()","v":3597}]
[{"$f":"ROW()","v":3598}]
[{"$f":"ROW()","v":3599}]
[{"$f":"ROW()","v":3600}]
[{"$f":"ROW()","v":3601}]
[{"$f":"ROW()","v":3602}]
[{"$f":"ROW()","v":3603}]
[{"$f":"ROW()","v":3604}]
[{"$f":"ROW()","v":3605}]
[{"$f":"ROW()","v":3606}]
[{"$f":"ROW()","v":3607}]
[{"$f":"ROW()","v":3608}]
[{"$f":"ROW()","v":3609}]
[{"$f":"ROW()","v":3610}]
[{"$f":"ROW()","v":3611}]
[{"$f":"ROW()","v":3612}]
[{"$f":"ROW()","v":3613}]
[{"$f":"ROW()","v":3614}]
[{"$f":"ROW()","v":3615}]
[{"$f":"ROW()","v":3616}]
[{"$f":"ROW()","v":3617}]
[{"$f":"ROW()","v":3618}]
[{"$f":"ROW()","v":3619}]
[{"$f":"ROW()","v":3620}]
[{"$f":"ROW()","v":3621}]
[{"$f":"ROW()","v":3622}]
[{"$f":"ROW()","v":3623}]
[{"$f":"ROW()","v":3624}]
[{"$f":"ROW()","v":3625}]
[{"$f":"ROW()","v":3626}]
[{"$f":"ROW()","v":3627}]
[{"$f":"ROW()","v":3628}]
[{"$f":"ROW()","v":3629}]
[{"$f":"ROW()","v":3630}]
[{"$f":"ROW()","v":3631}]
[{"$f":"ROW()","v":3632}]
[{"$f":"ROW()","v":3633}]
[{"$f":"ROW()","v":3634}]
[{"$f":"ROW()","v":3635}]
[{"$f":"ROW()","v":3636}]
[{"$f":"ROW()","v":3637}]
[{"$f":"ROW()","v":3638}]
[{"$f":"ROW()","v":3639}]
[{"$f":"ROW()","v":3640}]
[{"$f":"ROW()","v":3641}]
[{"$f":"ROW()","v":3642}]
[{"$f":"ROW()","v":3643}]
[{"$f":"ROW()","v":3644}]
[{"$f":"ROW()","v":3645}]
[{"$f":"ROW()","v":3646}]
[{"$f":"ROW()","v":3647}]
[{"$f":"ROW()","v":3648}]
[{"$f":"ROW()","v":3649}]
[{"$f":"ROW()","v":3650}]
[{"$f":"ROW()","v":3651}]
[{"$f":"ROW()","v":3652}]
[{"$f":"ROW()","v":3653}]
[{"$f":"ROW()","v":3654}]
[{"$f":"ROW()","v":3655}]
[{"$f":"ROW()","v":3656}]
[{"$f":"ROW()","v":3657}]
[{"$f":"ROW()","v":3658}]
[{"$f":"ROW()","v":3659}]
[{"$f":"ROW()","v":3660}]
[{"$f":"ROW()","v":3661}]
[{"$f":"ROW()","v":3662}]
[{"$f":"ROW()","v":3663}]
[{"$f":"ROW()","v":3664}]
[{"$f":"ROW()","v":3665}]
[{"$f":"ROW()","v":3666}]
[{"$f":"ROW()","v":3667}]
[{"$f":"ROW()","v":3668}]
[{"$f":"ROW()","v":3669}]
[{"$f":"ROW()","v":3670}]
[{"$f":"ROW()","v":3671}]
[{"$f":"ROW()","v":3672}]
[{"$f":"ROW()","v":3673}]
[{"$f":"ROW()","v":3674}]
[{"$f":"ROW()","v":3675}]
[{"$f":"ROW()","v":3676}]
[{"$f":"ROW()","v":3677}]
[{"$f":"ROW()","v":3678}]
[{"$f":"ROW()","v":3679}]
[{"$f":"ROW()","v":3680}]
[{"$f":"ROW()","v":3681}]
[{"$f":"ROW()","v":3682}]
[{"$f":"ROW()","v":3683}]
[{"$f":"ROW()","v":3684}]
[{"$f":"ROW()","v":3685}]
[{"$f":"ROW()","v":3686}]
[{"$f":"ROW()","v":3687}]
[{"$f":"ROW()","v":3688}]
[{"$f":"ROW()","v":3689}]
[{"$f":"ROW()","v":3690}]
[{"$f":"ROW()","v":3691}]
[{"$f":"ROW()","v":3692}]
[{"$f":"ROW()","v":3693}]
[{"$f":"ROW()","v":3694}]
[{"$f":"ROW()","v":3695}]
[{"$f":"ROW()","v":3696}]
[{"$f":"ROW()","v":3697}]
[{"$f":"ROW()","v":3698}]
[{"$f":"ROW()","v":3699}]
[{"$f":"ROW()","v":3700}]
[{"$f":"ROW()","v":3701}]
[{"$f":"ROW()","v":3702}]
[{"$f":"ROW()","v":3703}]
[{"$f":"ROW()","v":3704}]
[{"$f":"ROW()","v":3705}]
[{"$f":"ROW()","v":3706}]
[{"$f":"ROW()","v":3707}]
[{"$f":"ROW()","v":3708}]
[{"$f":"ROW()","v":3709}]
[{"$f":"ROW()","v":3710}]
[{"$f":"ROW()","v":3711}]
[{"$f":"ROW()","v":3712}]
[{"$f":"ROW()","v":3713}]
[{"$f":"ROW()","v":3714}]
[{"$f":"ROW()","v":3715}]
[{"$f":"ROW()","v":3716}]
[{"$f":"ROW()","v":3717}]
[{"$f":"ROW()","v":3718}]
[{"$f":"ROW()","v":3719}]
[{"$f":"ROW()","v":3720}]
[{"$f":"ROW()","v":3721}]
[{"$f":"ROW()","v":3722}]
[{"$f":"ROW()","v":3723}]
[{"$f":"ROW()","v":3724}]
[{"$f":"ROW()","v":3725}]
[{"$f":"ROW()","v":3726}]
[{"$f":"ROW()","v":3727}]
[{"$f":"ROW()","v":3728}]
[{"$f":"ROW()","v":3729}]
[{"$f":"ROW()","v":3730}]
[{"$f":"ROW()","v":3731}]
[{"$f":"ROW()","v":3732}]
[{"$f":"ROW()","v":3733}]
[{"$f":"ROW()","v":3734}]
[{"$f":"ROW()","v":3735}]
[{"$f":"ROW()","v":3736}]
[{"$f":"ROW()","v":3737}]
[{"$f":"ROW()","v":3738}]
[{"$f":"ROW()","v":3739}]
[{"$f":"ROW()","v":3740}]
[{"$f":"ROW()","v":3741}]
[{"$f":"ROW()","v":3742}]
[{"$f":"ROW()","v":3743}]
[{"$f":"ROW()","v":3744}]
[{"$f":"ROW()","v":3745}]
[{"$f":"ROW()","v":3746}]
[{"$f":"ROW()","v":3747}]
[{"$f":"ROW()","v":3748}]
[{"$f":"ROW()","v":3749}]
[{"$f":"ROW()","v":3750}]
[{"$f":"ROW()","v":3751}]
[{"$f":"ROW()","v":3752}]
[{"$f":"ROW()","v":3753}]
[{"$f":"ROW()","v":3754}]
[{"$f":"ROW()","v":3755}]
[{"$f":"ROW()","v":3756}]
[{"$f":"ROW()","v":3757}]
[{"$f":"ROW()","v":3758}]
[{"$f":"ROW()","v":3759}]
[{"$f":"ROW()","v":3760}]
[{"$f":"ROW()","v":3761}]
[{"$f":"ROW()","v":3762}]
[{"$f":"ROW()","v":3763}]
[{"$f":"ROW()","v":3764}]
[{"$f":"ROW()","v":3765}]
[{"$f":"ROW()","v":3766}]
[{"$f":"ROW()","v":3767}]
[{"$f":"ROW()","v":3768}]
[{"$f":"ROW()","v":3769}]
[{"$f":"ROW()","v":3770}]
[{"$f":"ROW()","v":3771}]
[{"$f":"ROW()","v":3772}]
[{"$f":"ROW()","v":3773}]
[{"$f":"ROW()","v":3774}]
[{"$f":"ROW()","v":3775}]
[{"$f":"ROW()","v":3776}]
[{"$f":"ROW()","v":3777}]
[{"$f":"ROW()","v":3778}]
[{"$f":"ROW()","v":3779}]
[{"$f":"ROW()","v":3780}]
[{"$f":"ROW()","v":3781}]
[{"$f":"ROW()","v":3782}]
[{"$f":"ROW()","v":3783}]
[{"$f":"ROW()","v":3784}]
[{"$f":"ROW()","v":3785}]
[{"$f":"ROW()","v":3786}]
[{"$f":"ROW()","v":3787}]
[{"$f":"ROW()","v":3788}]
[{"$f":"ROW()","v":3789}]
[{"$f":"ROW()","v":3790}]
[{"$f":"ROW()","v":3791}]
[{"$f":"ROW()","v":3792}]
[{"$f":"ROW()","v":3793}]
[{"$f":"ROW()","v":3794}]
[{"$f":"ROW()","v":3795}]
[{"$f":"ROW()","v":3796}]
[{"$f":"ROW()","v":3797}]
[{"$f":"ROW()","v":3798}]
[{"$f":"ROW()","v":3799}]
[{"$f":"ROW()","v":3800}]
[{"$f":"ROW()","v":3801}]
[{"$f":"ROW()","v":3802}]
[{"$f":"ROW()","v":3803}]
[{"$f":"ROW()","v":3804}]
[{"$f":"ROW()","v":3805}]
[{"$f":"ROW()","v":3806}]
[{"$f":"ROW()","v":3807}]
[{"$f":"ROW()","v":3808}]
[{"$f":"ROW()","v":3809}]
[{"$f":"ROW()","v":3810}]
[{"$f":"ROW()","v":3811}]
[{"$f":"ROW()","v":3812}]
[{"$f":"ROW()","v":3813}]
[{"$f":"ROW()","v":3814}]
[{"$f":"ROW()","v":3815}]
[{"$f":"ROW()","v":3816}]
[{"$f":"ROW()","v":3817}]
[{"$f":"ROW()","v":3818}]
[{"$f":"ROW()","v":3819}]
[{"$f":"ROW()","v":3820}]
[{"$f":"ROW()","v":3821}]
[{"$f":"ROW()","v":3822}]
[{"$f":"ROW()","v":3823}]
[{"$f":"ROW()","v":3824}]
[{"$f":"ROW()","v":3825}]
[{"$f":"ROW()","v":3826}]
[{"$f":"ROW()","v":3827}]
[{"$f":"ROW()","v":3828}]
[{"$f":"ROW()","v":3829}]
[{"$f":"ROW()","v":3830}]
[{"$f":"ROW()","v":3831}]
[{"$f":"ROW()","v":3832}]
[{"$f":"ROW()","v":3833}]
[{"$f":"ROW()","v":3834}]
[{"$f":"ROW()","v":3835}]
[{"$f":"ROW()","v":3836}]
[{"$f":"ROW()","v":3837}]
[{"$f":"ROW()","v":3838}]
[{"$f":"ROW()","v":3839}]
[{"$f":"ROW()","v":3840}]
[{"$f":"ROW()","v":3841}]
[{"$f":"ROW()","v":3842}]
[{"$f":"ROW()","v":3843}]
[{"$f":"ROW()","v":3844}]
[{"$f":"ROW()","v":3845}]
[{"$f":"ROW()","v":3846}]
[{"$f":"ROW()","v":3847}]
[{"$f":"ROW()","v":3848}]
[{"$f":"ROW()","v":3849}]
[{"$f":"ROW()","v":3850}]
[{"$f":"ROW()","v":3851}]
[{"$f":"ROW()","v":3852}]
[{"$f":"ROW()","v":3853}]
[{"$f":"ROW()","v":3854}]
[{"$f":"ROW()","v":3855}]
[{"$f":"ROW()","v":3856}]
[{"$f":"ROW()","v":3857}]
[{"$f":"ROW()","v":3858}]
[{"$f":"ROW()","v":3859}]
[{"$f":"ROW()","v":3860}]
[{"$f":"ROW()","v":3861}]
[{"$f":"ROW()","v":3862}]
[{"$f":"ROW()","v":3863}]
[{"$f":"ROW()","v":3864}]
[{"$f":"ROW()","v":3865}]
[{"$f":"ROW()","v":3866}]
[{"$f":"ROW()","v":3867}]
[{"$f":"ROW()","v":3868}]
[{"$f":"ROW()","v":3869}]
[{"$f":"ROW()","v":3870}]
[{"$f":"ROW()","v":3871}]
[{"$f":"ROW()","v":3872}]
[{"$f":"ROW()","v":3873}]
[{"$f":"ROW()","v":3874}]
[{"$f":"ROW()","v":3875}]
[{"$f":"ROW()","v":3876}]
[{"$f":"ROW()","v":3877}]
[{"$f":"ROW()","v":3878}]
[{"$f":"ROW()","v":3879}]
[{"$f":"ROW()","v":3880}]
[{"$f":"ROW()","v":3881}]
[{"$f":"ROW()","v":3882}]
[{"$f":"ROW()","v":3883}]
[{"$f":"ROW()","v":3884}]
[{"$f":"ROW()","v":3885}]
[{"$f":"ROW()","v":3886}]
[{"$f":"ROW()","v":3887}]
[{"$f":"ROW()","v":3888}]
[{"$f":"ROW()","v":3889}]
[{"$f":"ROW()","v":3890}]
[{"$f":"ROW()","v":3891}]
[{"$f":"ROW()","v":3892}]
[{"$f":"ROW()","v":3893}]
[{"$f":"ROW()","v":3894}]
[{"$f":"ROW()","v":3895}]
[{"$f":"ROW()","v":3896}]
[{"$f":"ROW()","v":3897}]
[{"$f":"ROW()","v":3898}]
[{"$f":"ROW()","v":3899}]
[{"$f":"ROW()","v":3900}]
[{"$f":"ROW()","v":3901}]
[{"$f":"ROW()","v":3902}]
[{"$f":"ROW()","v":3903}]
[{"$f":"ROW()","v":3904}]
[{"$f":"ROW()","v":3905}]
[{"$f":"ROW()","v":3906}]
[{"$f":"ROW()","v":3907}]
[{"$f":"ROW()","v":3908}]
[{"$f":"ROW()","v":3909}]
[{"$f":"ROW()","v":3910}]
[{"$f":"ROW()","v":3911}]
[{"$f":"ROW()","v":3912}]
[{"$f":"ROW()","v":3913}]
[{"$f":"ROW()","v":3914}]
[{"$f":"ROW()","v":3915}]
[{"$f":"ROW()","v":3916}]
[{"$f":"ROW()","v":3917}]
[{"$f":"ROW()","v":3918}]
[{"$f":"ROW()","v":3919}]
[{"$f":"ROW()","v":3920}]
[{"$f":"ROW()","v":3921}]
[{"$f":"ROW()","v":3922}]
[{"$f":"ROW()","v":3923}]
[{"$f":"ROW()","v":3924}]
[{"$f":"ROW()","v":3925}]
[{"$f":"ROW()","v":3926}]
[{"$f":"ROW()","v":3927}]
[{"$f":"ROW()","v":3928}]
[{"$f":"ROW()","v":3929}]
[{"$f":"ROW()","v":3930}]
[{"$f":"ROW()","v":3931}]
[{"$f":"ROW()","v":3932}]
[{"$f":"ROW()","v":3933}]
[{"$f":"ROW()","v":3934}]
[{"$f":"ROW()","v":3935}]
[{"$f":"ROW()","v":3936}]
[{"$f":"ROW()","v":3937}]
[{"$f":"ROW()","v":3938}]
[{"$f":"ROW()","v":3939}]
[{"$f":"ROW()","v":3940}]
[{"$f":"ROW()","v":3941}]
[{"$f":"ROW()","v":3942}]
[{"$f":"ROW()","v":3943}]
[{"$f":"ROW()","v":3944}]
[{"$f":"ROW()","v":3945}]
[{"$f":"ROW()","v":3946}]
[{"$f":"ROW()","v":3947}]
[{"$f":"ROW()","v":3948}]
[{"$f":"ROW()","v":3949}]
[{"$f":"ROW()","v":3950}]
[{"$f":"ROW()","v":3951}]
[{"$f":"ROW()","v":3952}]
[{"$f":"ROW()","v":3953}]
[{"$f":"ROW()","v":3954}]
[{"$f":"ROW()","v":3955}]
[{"$f":"ROW()","v":3956}]
[{"$f":"ROW()","v":3957}]
[{"$f":"ROW()","v":3958}]
[{"$f":"ROW()","v":3959}]
[{"$f":"ROW()","v":3960}]
[{"$f":"ROW()","v":3961}]
[{"$f":"ROW()","v":3962}]
[{"$f":"ROW()","v":3963}]
[{"$f":"ROW()","v":3964}]
[{"$f":"ROW()","v":3965}]
[{"$f":"ROW()","v":3966}]
[{"$f":"ROW()","v":3967}]
[{"$f":"ROW()","v":3968}]
[{"$f":"ROW()","v":3969}]
[{"$f":"ROW()","v":3970}]
[{"$f":"ROW()","v":3971}]
[{"$f":"ROW()","v":3972}]
[{"$f":"ROW()","v":3973}]
[{"$f":"ROW()","v":3974}]
[{"$f":"ROW()","v":3975}]
[{"$f":"ROW()","v":3976}]
[{"$f":"ROW()","v":3977}]
[{"$f":"ROW()","v":3978}]
[{"$f":"ROW()","v":3979}]
[{"$f":"ROW()","v":3980}]
[{"$f":"ROW()","v":3981}]
[{"$f":"ROW()","v":3982}]
[{"$f":"ROW()","v":3983}]
[{"$f":"ROW()","v":3984}]
[{"$f":"ROW()","v":3985}]
[{"$f":"ROW()","v":3986}]
[{"$f":"ROW()","v":3987}]
[{"$f":"ROW()","v":3988}]
[{"$f":"ROW()","v":3989}]
[{"$f":"ROW()","v":3990}]
[{"$f":"ROW()","v":3991}]
[{"$f":"ROW()","v":3992}]
[{"$f":"ROW()","v":3993}]

{"sheet":" Appendix E-Employee","index":6,"n_rows":43,"n_cols":42,"rows_kept":43,"cut":false,"hidden":false,"merged":[[42,0,42,4],[12,2,12,4],[20,2,20,3],[25,2,25,3],[21,2,21,3],[22,2,22,3],[29,2,29,3],[30,2,30,3],[39,2,39,3],[32,2,32,3],[20,0,20,1],[21,0,21,1],[33,2,33,3],[34,2,34,3],[22,0,22,1],[18,2,18,3],[19,2,19,3],[18,0,18,1],[13,2,13,4],[19,0,19,1],[15,1,15,2],[1,0,1,4],[2,0,2,4],[17,0,17,1],[12,0,12,1],[17,2,17,3],[8,0,8,2],[5,0,5,4],[3,0,3,4],[4,0,4,4],[7,0,7,2],[14,0,14,4],[6,0,6,4],[23,2,23,3],[26,0,26,1],[27,0,27,1],[24,2,24,3],[28,0,28,1],[24,0,24,1],[25,0,25,1],[23,0,23,1],[28,2,28,3],[38,0,38,1],[35,0,35,1],[31,2,31,3],[26,2,26,3],[27,2,27,3],[31,0,31,1],[29,0,29,1],[30,0,30,1],[0,1,0,4],[7,17,7,22],[35,2,35,3],[41,0,41,1],[36,0,36,1],[39,0,39,1],[37,0,37,1],[40,2,40,3],[41,2,41,3],[38,2,38,3],[36,2,36,3],[37,2,37,3],[32,0,32,1],[33,0,33,1],[34,0,34,1],[40,0,40,1]]}
[null,{"$f":"Instructions!N1","v":"Tax Measure to Support Print Media Companies\n(2020-02 version)"}]
["Appendix E – Application for Employee Qualification Certificates"]
["Job Description"]
["(Appendix E forms an integral part of the Application for Employee Qualification Certificates)\n\nComplete this appendix for all employees for whom you are claiming the tax credit. Use separate Appendices E for employees of the eligible subsidiary."]
["You must provide a job description for each kind of position covered by your application for a certificate for purposes of the tax credit. Provide only one job description for all employees who hold the exact same position. A job is considered the same when the tasks are the same, in the same percentage. Each position must be described in sufficient detail and must present all the tasks that make it up. Please assign a representative percentage of the time spent on each task for a given position (e.g., do not enter a task representing 100% of the employee's time)."]
["In processing the application, Investissement Québec may require that time sheets, project reports or any other documents supporting the job descriptions be submitted in order to justify the positions for which claims are made. For more information, consult the document entitled \"Guidelines for Task Descriptions on Eligibility Certificate Applications\" on our website at the following address: "]
["https://www.investquebec.com/documents/qc/fichesdetaillees/NouvellesLignesDirectrices_FiscalMeasures.pdf"]
["Name of the corporation or partnership",null,null,null,"IQ file number "]
[{"$f":"IF('Application-Media'!A6:AI6=\"\",\"\",'Application-Media'!A6:AI6)","v":""},null,null,null,{"$f":"IF('Application-Media'!U8=\"\",\"\",'Application-Media'!U8)","v":""}]
[]
["Fiscal year in question",null,{"$f":"IF('Application-Media'!I44=\"\",\"\",'Application-Media'!I44)","v":""},"to",{"$f":"IF('Application-Media'!Q44=\"\",\"\",'Application-Media'!Q44)","v":""}]
[null,null,"(yyyy-mm-dd)",null,"(yyyy-mm-dd)"]
["Job title ",null,"Immediate superior "]
[]
["Job holder(s)"]
[null,"Check if employees are of\nthe eligible subsidiary"]
[]
["Detailed description of tasks",null,"Time spent on\nsuch activities (%)",null,"Reserved for IQ"]
[null,null,null,null,null,null,null,null,null,null,null,null,null,null,null,null,null,null,null,null,null,null,null,null,null,null,null,null,null,null,null,null,null,null,null,null,null,null,null,null,null,{"$f":"A19","v":0}]
[null,null,null,null,null,null,null,null,null,null,null,null,null,null,null,null,null,null,null,null,null,null,null,null,null,null,null,null,null,null,null,null,null,null,null,null,null,null,null,null,null,0]
[null,null,null,null,null,null,null,null,null,null,null,null,null,null,null,null,null,null,null,null,null,null,null,null,null,null,null,null,null,null,null,null,null,null,null,null,null,null,null,null,null,0]
[null,null,null,null,null,null,null,null,null,null,null,null,null,null,null,null,null,null,null,null,null,null,null,null,null,null,null,null,null,null,null,null,null,null,null,null,null,null,null,null,null,0]
[null,null,null,null,null,null,null,null,null,null,null,null,null,null,null,null,null,null,null,null,null,null,null,null,null,null,null,null,null,null,null,null,null,null,null,null,null,null,null,null,null,0]
[null,null,null,null,null,null,null,null,null,null,null,null,null,null,null,null,null,null,null,null,null,null,null,null,null,null,null,null,null,null,null,null,null,null,null,null,null,null,null,null,null,0]
[null,null,null,null,null,null,null,null,null,null,null,null,null,null,null,null,null,null,null,null,null,null,null,null,null,null,null,null,null,null,null,null,null,null,null,null,null,null,null,null,null,0]
[null,null,null,null,null,null,null,null,null,null,null,null,null,null,null,null,null,null,null,null,null,null,null,null,null,null,null,null,null,null,null,null,null,null,null,null,null,null,null,null,null,0]
[null,null,null,null,null,null,null,null,null,null,null,null,null,null,null,null,null,null,null,null,null,null,null,null,null,null,null,null,null,null,null,null,null,null,null,null,null,null,null,null,null,0]
[null,null,null,null,null,null,null,null,null,null,null,null,null,null,null,null,null,null,null,null,null,null,null,null,null,null,null,null,null,null,null,null,null,null,null,null,null,null,null,null,null,0]
[null,null,null,null,null,null,null,null,null,null,null,null,null,null,null,null,null,null,null,null,null,null,null,null,null,null,null,null,null,null,null,null,null,null,null,null,null,null,null,null,null,0]
[null,null,null,null,null,null,null,null,null,null,null,null,null,null,null,null,null,null,null,null,null,null,null,null,null,null,null,null,null,null,null,null,null,null,null,null,null,null,null,null,null,0]
[null,null,null,null,null,null,null,null,null,null,null,null,null,null,null,null,null,null,null,null,null,null,null,null,null,null,null,null,null,null,null,null,null,null,null,null,null,null,null,null,null,0]
[null,null,null,null,null,null,null,null,null,null,null,null,null,null,null,null,null,null,null,null,null,null,null,null,null,null,null,null,null,null,null,null,null,null,null,null,null,null,null,null,null,0]
[null,null,null,null,null,null,null,null,null,null,null,null,null,null,null,null,null,null,null,null,null,null,null,null,null,null,null,null,null,null,null,null,null,null,null,null,null,null,null,null,null,0]
[null,null,null,null,null,null,null,null,null,null,null,null,null,null,null,null,null,null,null,null,null,null,null,null,null,null,null,null,null,null,null,null,null,null,null,null,null,null,null,null,null,0]
[null,null,null,null,null,null,null,null,null,null,null,null,null,null,null,null,null,null,null,null,null,null,null,null,null,null,null,null,null,null,null,null,null,null,null,null,null,null,null,null,null,0]
[null,null,null,null,null,null,null,null,null,null,null,null,null,null,null,null,null,null,null,null,null,null,null,null,null,null,null,null,null,null,null,null,null,null,null,null,null,null,null,null,null,0]
[null,null,null,null,null,null,null,null,null,null,null,null,null,null,null,null,null,null,null,null,null,null,null,null,null,null,null,null,null,null,null,null,null,null,null,null,null,null,null,null,null,{"$f":"A37","v":0}]
[null,null,null,null,null,null,null,null,null,null,null,null,null,null,null,null,null,null,null,null,null,null,null,null,null,null,null,null,null,null,null,null,null,null,null,null,null,null,null,null,null,{"$f":"A38","v":0}]
[null,null,null,null,null,null,null,null,null,null,null,null,null,null,null,null,null,null,null,null,null,null,null,null,null,null,null,null,null,null,null,null,null,null,null,null,null,null,null,null,null,{"$f":"A39","v":0}]
[null,null,null,null,null,null,null,null,null,null,null,null,null,null,null,null,null,null,null,null,null,null,null,null,null,null,null,null,null,null,null,null,null,null,null,null,null,null,null,null,null,{"$f":"A40","v":0}]
[null,null,null,null,null,null,null,null,null,null,null,null,null,null,null,null,null,null,null,null,null,null,null,null,null,null,null,null,null,null,null,null,null,null,null,null,null,null,null,null,null,0]
["Total (must correspond to 100%):",null,{"$f":"SUM(C19:E41)","v":0},null,null,null,null,null,null,null,null,null,null,null,null,null,null,null,null,null,null,null,null,null,null,null,null,null,null,null,null,null,null,null,null,null,null,null,null,null,null,"Total (must correspond to 100%):"]
["The task description is consistent with reality and does not add or remove any responsibilities or tasks that were carried out by the job holder or holders during the fiscal year in question."]

{"sheet":" Appendix E1-Employee","index":7,"n_rows":43,"n_cols":42,"rows_kept":43,"cut":false,"hidden":false,"merged":[[5,0,5,4],[0,1,0,4],[1,0,1,4],[2,0,2,4],[3,0,3,4],[4,0,4,4],[18,0,18,1],[18,2,18,3],[6,0,6,4],[7,0,7,2],[7,17,7,22],[8,0,8,2],[12,0,12,1],[12,2,12,4],[13,2,13,4],[14,0,14,4],[15,1,15,2],[17,0,17,1],[17,2,17,3],[19,0,19,1],[19,2,19,3],[20,0,20,1],[20,2,20,3],[21,0,21,1],[21,2,21,3],[22,0,22,1],[22,2,22,3],[23,0,23,1],[23,2,23,3],[24,0,24,1],[24,2,24,3],[25,0,25,1],[25,2,25,3],[26,0,26,1],[26,2,26,3],[27,0,27,1],[27,2,27,3],[28,0,28,1],[28,2,28,3],[29,0,29,1],[29,2,29,3],[30,0,30,1],[30,2,30,3],[31,0,31,1],[31,2,31,3],[32,0,32,1],[32,2,32,3],[33,0,33,1],[33,2,33,3],[34,0,34,1],[34,2,34,3],[35,0,35,1],[35,2,35,3],[36,0,36,1],[36,2,36,3],[37,0,37,1],[37,2,37,3],[38,0,38,1],[38,2,38,3],[39,0,39,1],[39,2,39,3],[40,0,40,1],[40,2,40,3],[41,0,41,1],[41,2,41,3],[42,0,42,4]]}
[null,{"$f":"Instructions!N1","v":"Tax Measure to Support Print Media Companies\n(2020-02 version)"}]
["Appendix E – Application for Employee Qualification Certificates"]
["Job Description"]
["(Appendix E forms an integral part of the Application for Employee Qualification Certificates)\n\nComplete this appendix for all employees for whom you are claiming the tax credit. Use separate Appendices E for employees of the eligible subsidiary."]
["You must provide a job description for each kind of position covered by your application for a certificate for purposes of the tax credit. Provide only one job description for all employees who hold the exact same position. A job is considered the same when the tasks are the same, in the same percentage. Each position must be described in sufficient detail and must present all the tasks that make it up. Please assign a representative percentage of the time spent on each task for a given position (e.g., do not enter a task representing 100% of the employee's time)."]
["In processing the application, Investissement Québec may require that time sheets, project reports or any other documents supporting the job descriptions be submitted in order to justify the positions for which claims are made. For more information, consult the document entitled \"Guidelines for Task Descriptions on Eligibility Certificate Applications\" on our website at the following address: "]
["https://www.investquebec.com/documents/qc/fichesdetaillees/NouvellesLignesDirectrices_FiscalMeasures.pdf"]
["Name of the corporation or partnership",null,null,null,"IQ file number "]
[{"$f":"IF('Application-Media'!A6:AI6=\"\",\"\",'Application-Media'!A6:AI6)","v":""},null,null,null,{"$f":"IF('Application-Media'!U8=\"\",\"\",'Application-Media'!U8)","v":""}]
[]
["Fiscal year in question",null,{"$f":"IF('Application-Media'!I44=\"\",\"\",'Application-Media'!I44)","v":""},"to",{"$f":"IF('Application-Media'!Q44=\"\",\"\",'Application-Media'!Q44)","v":""}]
[null,null,"(yyyy-mm-dd)",null,"(yyyy-mm-dd)"]
["Job title ",null,"Immediate superior "]
[]
["Job holder(s)"]
[null,"Check if employees are of\nthe eligible subsidiary"]
[]
["Detailed description of tasks",null,"Time spent on\nsuch activities (%)",null,"Reserved for IQ"]
[null,null,null,null,null,null,null,null,null,null,null,null,null,null,null,null,null,null,null,null,null,null,null,null,null,null,null,null,null,null,null,null,null,null,null,null,null,null,null,null,null,{"$f":"A19","v":0}]
[null,null,null,null,null,null,null,null,null,null,null,null,null,null,null,null,null,null,null,null,null,null,null,null,null,null,null,null,null,null,null,null,null,null,null,null,null,null,null,null,null,0]
[null,null,null,null,null,null,null,null,null,null,null,null,null,null,null,null,null,null,null,null,null,null,null,null,null,null,null,null,null,null,null,null,null,null,null,null,null,null,null,null,null,0]
[null,null,null,null,null,null,null,null,null,null,null,null,null,null,null,null,null,null,null,null,null,null,null,null,null,null,null,null,null,null,null,null,null,null,null,null,null,null,null,null,null,0]
[null,null,null,null,null,null,null,null,null,null,null,null,null,null,null,null,null,null,null,null,null,null,null,null,null,null,null,null,null,null,null,null,null,null,null,null,null,null,null,null,null,0]
[null,null,null,null,null,null,null,null,null,null,null,null,null,null,null,null,null,null,null,null,null,null,null,null,null,null,null,null,null,null,null,null,null,null,null,null,null,null,null,null,null,0]
[null,null,null,null,null,null,null,null,null,null,null,null,null,null,null,null,null,null,null,null,null,null,null,null,null,null,null,null,null,null,null,null,null,null,null,null,null,null,null,null,null,0]
[null,null,null,null,null,null,null,null,null,null,null,null,null,null,null,null,null,null,null,null,null,null,null,null,null,null,null,null,null,null,null,null,null,null,null,null,null,null,null,null,null,0]
[null,null,null,null,null,null,null,null,null,null,null,null,null,null,null,null,null,null,null,null,null,null,null,null,null,null,null,null,null,null,null,null,null,null,null,null,null,null,null,null,null,0]
[null,null,null,null,null,null,null,null,null,null,null,null,null,null,null,null,null,null,null,null,null,null,null,null,null,null,null,null,null,null,null,null,null,null,null,null,null,null,null,null,null,0]
[null,null,null,null,null,null,null,null,null,null,null,null,null,null,null,null,null,null,null,null,null,null,null,null,null,null,null,null,null,null,null,null,null,null,null,null,null,null,null,null,null,0]
[null,null,null,null,null,null,null,null,null,null,null,null,null,null,null,null,null,null,null,null,null,null,null,null,null,null,null,null,null,null,null,null,null,null,null,null,null,null,null,null,null,0]
[null,null,null,null,null,null,null,null,null,null,null,null,null,null,null,null,null,null,null,null,null,null,null,null,null,null,null,null,null,null,null,null,null,null,null,null,null,null,null,null,null,0]
[null,null,null,null,null,null,null,null,null,null,null,null,null,null,null,null,null,null,null,null,null,null,null,null,null,null,null,null,null,null,null,null,null,null,null,null,null,null,null,null,null,0]
[null,null,null,null,null,null,null,null,null,null,null,null,null,null,null,null,null,null,null,null,null,null,null,null,null,null,null,null,null,null,null,null,null,null,null,null,null,null,null,null,null,0]
[null,null,null,null,null,null,null,null,null,null,null,null,null,null,null,null,null,null,null,null,null,null,null,null,null,null,null,null,null,null,null,null,null,null,null,null,null,null,null,null,null,0]
[null,null,null,null,null,null,null,null,null,null,null,null,null,null,null,null,null,null,null,null,null,null,null,null,null,null,null,null,null,null,null,null,null,null,null,null,null,null,null,null,null,0]
[null,null,null,null,null,null,null,null,null,null,null,null,null,null,null,null,null,null,null,null,null,null,null,null,null,null,null,null,null,null,null,null,null,null,null,null,null,null,null,null,null,0]
[null,null,null,null,null,null,null,null,null,null,null,null,null,null,null,null,null,null,null,null,null,null,null,null,null,null,null,null,null,null,null,null,null,null,null,null,null,null,null,null,null,{"$f":"A37","v":0}]
[null,null,null,null,null,null,null,null,null,null,null,null,null,null,null,null,null,null,null,null,null,null,null,null,null,null,null,null,null,null,null,null,null,null,null,null,null,null,null,null,null,{"$f":"A38","v":0}]
[null,null,null,null,null,null,null,null,null,null,null,null,null,null,null,null,null,null,null,null,null,null,null,null,null,null,null,null,null,null,null,null,null,null,null,null,null,null,null,null,null,{"$f":"A39","v":0}]
[null,null,null,null,null,null,null,null,null,null,null,null,null,null,null,null,null,null,null,null,null,null,null,null,null,null,null,null,null,null,null,null,null,null,null,null,null,null,null,null,null,{"$f":"A40","v":0}]
[null,null,null,null,null,null,null,null,null,null,null,null,null,null,null,null,null,null,null,null,null,null,null,null,null,null,null,null,null,null,null,null,null,null,null,null,null,null,null,null,null,0]
["Total (must correspond to 100%):",null,{"$f":"SUM(C19:E41)","v":0},null,null,null,null,null,null,null,null,null,null,null,null,null,null,null,null,null,null,null,null,null,null,null,null,null,null,null,null,null,null,null,null,null,null,null,null,null,null,"Total (must correspond to 100%):"]
["The task description is consistent with reality and does not add or remove any responsibilities or tasks that were carried out by the job holder or holders during the fiscal year in question."]

{"sheet":" Appendix E2-Employee","index":8,"n_rows":43,"n_cols":42,"rows_kept":43,"cut":false,"hidden":false,"merged":[[5,0,5,4],[0,1,0,4],[1,0,1,4],[2,0,2,4],[3,0,3,4],[4,0,4,4],[18,0,18,1],[18,2,18,3],[6,0,6,4],[7,0,7,2],[7,17,7,22],[8,0,8,2],[12,0,12,1],[12,2,12,4],[13,2,13,4],[14,0,14,4],[15,1,15,2],[17,0,17,1],[17,2,17,3],[19,0,19,1],[19,2,19,3],[20,0,20,1],[20,2,20,3],[21,0,21,1],[21,2,21,3],[22,0,22,1],[22,2,22,3],[23,0,23,1],[23,2,23,3],[24,0,24,1],[24,2,24,3],[25,0,25,1],[25,2,25,3],[26,0,26,1],[26,2,26,3],[27,0,27,1],[27,2,27,3],[28,0,28,1],[28,2,28,3],[29,0,29,1],[29,2,29,3],[30,0,30,1],[30,2,30,3],[31,0,31,1],[31,2,31,3],[32,0,32,1],[32,2,32,3],[33,0,33,1],[33,2,33,3],[34,0,34,1],[34,2,34,3],[35,0,35,1],[35,2,35,3],[36,0,36,1],[36,2,36,3],[37,0,37,1],[37,2,37,3],[38,0,38,1],[38,2,38,3],[39,0,39,1],[39,2,39,3],[40,0,40,1],[40,2,40,3],[41,0,41,1],[41,2,41,3],[42,0,42,4]]}
[null,{"$f":"Instructions!N1","v":"Tax Measure to Support Print Media Companies\n(2020-02 version)"}]
["Appendix E – Application for Employee Qualification Certificates"]
["Job Description"]
["(Appendix E forms an integral part of the Application for Employee Qualification Certificates)\n\nComplete this appendix for all employees for whom you are claiming the tax credit. Use separate Appendices E for employees of the eligible subsidiary."]
["You must provide a job description for each kind of position covered by your application for a certificate for purposes of the tax credit. Provide only one job description for all employees who hold the exact same position. A job is considered the same when the tasks are the same, in the same percentage. Each position must be described in sufficient detail and must present all the tasks that make it up. Please assign a representative percentage of the time spent on each task for a given position (e.g., do not enter a task representing 100% of the employee's time)."]
["In processing the application, Investissement Québec may require that time sheets, project reports or any other documents supporting the job descriptions be submitted in order to justify the positions for which claims are made. For more information, consult the document entitled \"Guidelines for Task Descriptions on Eligibility Certificate Applications\" on our website at the following address: "]
["https://www.investquebec.com/documents/qc/fichesdetaillees/NouvellesLignesDirectrices_FiscalMeasures.pdf"]
["Name of the corporation or partnership",null,null,null,"IQ file number "]
[{"$f":"IF('Application-Media'!A6:AI6=\"\",\"\",'Application-Media'!A6:AI6)","v":""},null,null,null,{"$f":"IF('Application-Media'!U8=\"\",\"\",'Application-Media'!U8)","v":""}]
[]
["Fiscal year in question",null,{"$f":"IF('Application-Media'!I44=\"\",\"\",'Application-Media'!I44)","v":""},"to",{"$f":"IF('Application-Media'!Q44=\"\",\"\",'Application-Media'!Q44)","v":""}]
[null,null,"(yyyy-mm-dd)",null,"(yyyy-mm-dd)"]
["Job title ",null,"Immediate superior "]
[]
["Job holder(s)"]
[null,"Check if employees are of\nthe eligible subsidiary"]
[]
["Detailed description of tasks",null,"Time spent on\nsuch activities (%)",null,"Reserved for IQ"]
[null,null,null,null,null,null,null,null,null,null,null,null,null,null,null,null,null,null,null,null,null,null,null,null,null,null,null,null,null,null,null,null,null,null,null,null,null,null,null,null,null,{"$f":"A19","v":0}]
[null,null,null,null,null,null,null,null,null,null,null,null,null,null,null,null,null,null,null,null,null,null,null,null,null,null,null,null,null,null,null,null,null,null,null,null,null,null,null,null,null,0]
[null,null,null,null,null,null,null,null,null,null,null,null,null,null,null,null,null,null,null,null,null,null,null,null,null,null,null,null,null,null,null,null,null,null,null,null,null,null,null,null,null,0]
[null,null,null,null,null,null,null,null,null,null,null,null,null,null,null,null,null,null,null,null,null,null,null,null,null,null,null,null,null,null,null,null,null,null,null,null,null,null,null,null,null,0]
[null,null,null,null,null,null,null,null,null,null,null,null,null,null,null,null,null,null,null,null,null,null,null,null,null,null,null,null,null,null,null,null,null,null,null,null,null,null,null,null,null,0]
[null,null,null,null,null,null,null,null,null,null,null,null,null,null,null,null,null,null,null,null,null,null,null,null,null,null,null,null,null,null,null,null,null,null,null,null,null,null,null,null,null,0]
[null,null,null,null,null,null,null,null,null,null,null,null,null,null,null,null,null,null,null,null,null,null,null,null,null,null,null,null,null,null,null,null,null,null,null,null,null,null,null,null,null,0]
[null,null,null,null,null,null,null,null,null,null,null,null,null,null,null,null,null,null,null,null,null,null,null,null,null,null,null,null,null,null,null,null,null,null,null,null,null,null,null,null,null,0]
[null,null,null,null,null,null,null,null,null,null,null,null,null,null,null,null,null,null,null,null,null,null,null,null,null,null,null,null,null,null,null,null,null,null,null,null,null,null,null,null,null,0]
[null,null,null,null,null,null,null,null,null,null,null,null,null,null,null,null,null,null,null,null,null,null,null,null,null,null,null,null,null,null,null,null,null,null,null,null,null,null,null,null,null,0]
[null,null,null,null,null,null,null,null,null,null,null,null,null,null,null,null,null,null,null,null,null,null,null,null,null,null,null,null,null,null,null,null,null,null,null,null,null,null,null,null,null,0]
[null,null,null,null,null,null,null,null,null,null,null,null,null,null,null,null,null,null,null,null,null,null,null,null,null,null,null,null,null,null,null,null,null,null,null,null,null,null,null,null,null,0]
[null,null,null,null,null,null,null,null,null,null,null,null,null,null,null,null,null,null,null,null,null,null,null,null,null,null,null,null,null,null,null,null,null,null,null,null,null,null,null,null,null,0]
[null,null,null,null,null,null,null,null,null,null,null,null,null,null,null,null,null,null,null,null,null,null,null,null,null,null,null,null,null,null,null,null,null,null,null,null,null,null,null,null,null,0]
[null,null,null,null,null,null,null,null,null,null,null,null,null,null,null,null,null,null,null,null,null,null,null,null,null,null,null,null,null,null,null,null,null,null,null,null,null,null,null,null,null,0]
[null,null,null,null,null,null,null,null,null,null,null,null,null,null,null,null,null,null,null,null,null,null,null,null,null,null,null,null,null,null,null,null,null,null,null,null,null,null,null,null,null,0]
[null,null,null,null,null,null,null,null,null,null,null,null,null,null,null,null,null,null,null,null,null,null,null,null,null,null,null,null,null,null,null,null,null,null,null,null,null,null,null,null,null,0]
[null,null,null,null,null,null,null,null,null,null,null,null,null,null,null,null,null,null,null,null,null,null,null,null,null,null,null,null,null,null,null,null,null,null,null,null,null,null,null,null,null,0]
[null,null,null,null,null,null,null,null,null,null,null,null,null,null,null,null,null,null,null,null,null,null,null,null,null,null,null,null,null,null,null,null,null,null,null,null,null,null,null,null,null,{"$f":"A37","v":0}]
[null,null,null,null,null,null,null,null,null,null,null,null,null,null,null,null,null,null,null,null,null,null,null,null,null,null,null,null,null,null,null,null,null,null,null,null,null,null,null,null,null,{"$f":"A38","v":0}]
[null,null,null,null,null,null,null,null,null,null,null,null,null,null,null,null,null,null,null,null,null,null,null,null,null,null,null,null,null,null,null,null,null,null,null,null,null,null,null,null,null,{"$f":"A39","v":0}]
[null,null,null,null,null,null,null,null,null,null,null,null,null,null,null,null,null,null,null,null,null,null,null,null,null,null,null,null,null,null,null,null,null,null,null,null,null,null,null,null,null,{"$f":"A40","v":0}]
[null,null,null,null,null,null,null,null,null,null,null,null,null,null,null,null,null,null,null,null,null,null,null,null,null,null,null,null,null,null,null,null,null,null,null,null,null,null,null,null,null,0]
["Total (must correspond to 100%):",null,{"$f":"SUM(C19:E41)","v":0},null,null,null,null,null,null,null,null,null,null,null,null,null,null,null,null,null,null,null,null,null,null,null,null,null,null,null,null,null,null,null,null,null,null,null,null,null,null,"Total (must correspond to 100%):"]
["The task description is consistent with reality and does not add or remove any responsibilities or tasks that were carried out by the job holder or holders during the fiscal year in question."]

{"sheet":" Appendix E3-Employee","index":9,"n_rows":43,"n_cols":42,"rows_kept":43,"cut":false,"hidden":false,"merged":[[5,0,5,4],[0,1,0,4],[1,0,1,4],[2,0,2,4],[3,0,3,4],[4,0,4,4],[18,0,18,1],[18,2,18,3],[6,0,6,4],[7,0,7,2],[7,17,7,22],[8,0,8,2],[12,0,12,1],[12,2,12,4],[13,2,13,4],[14,0,14,4],[15,1,15,2],[17,0,17,1],[17,2,17,3],[19,0,19,1],[19,2,19,3],[20,0,20,1],[20,2,20,3],[21,0,21,1],[21,2,21,3],[22,0,22,1],[22,2,22,3],[23,0,23,1],[23,2,23,3],[24,0,24,1],[24,2,24,3],[25,0,25,1],[25,2,25,3],[26,0,26,1],[26,2,26,3],[27,0,27,1],[27,2,27,3],[28,0,28,1],[28,2,28,3],[29,0,29,1],[29,2,29,3],[30,0,30,1],[30,2,30,3],[31,0,31,1],[31,2,31,3],[32,0,32,1],[32,2,32,3],[33,0,33,1],[33,2,33,3],[34,0,34,1],[34,2,34,3],[35,0,35,1],[35,2,35,3],[36,0,36,1],[36,2,36,3],[37,0,37,1],[37,2,37,3],[38,0,38,1],[38,2,38,3],[39,0,39,1],[39,2,39,3],[40,0,40,1],[40,2,40,3],[41,0,41,1],[41,2,41,3],[42,0,42,4]]}
[null,{"$f":"Instructions!N1","v":"Tax Measure to Support Print Media Companies\n(2020-02 version)"}]
["Appendix E – Application for Employee Qualification Certificates"]
["Job Description"]
["(Appendix E forms an integral part of the Application for Employee Qualification Certificates)\n\nComplete this appendix for all employees for whom you are claiming the tax credit. Use separate Appendices E for employees of the eligible subsidiary."]
["You must provide a job description for each kind of position covered by your application for a certificate for purposes of the tax credit. Provide only one job description for all employees who hold the exact same position. A job is considered the same when the tasks are the same, in the same percentage. Each position must be described in sufficient detail and must present all the tasks that make it up. Please assign a representative percentage of the time spent on each task for a given position (e.g., do not enter a task representing 100% of the employee's time)."]
["In processing the application, Investissement Québec may require that time sheets, project reports or any other documents supporting the job descriptions be submitted in order to justify the positions for which claims are made. For more information, consult the document entitled \"Guidelines for Task Descriptions on Eligibility Certificate Applications\" on our website at the following address: "]
["https://www.investquebec.com/documents/qc/fichesdetaillees/NouvellesLignesDirectrices_FiscalMeasures.pdf"]
["Name of the corporation or partnership",null,null,null,"IQ file number "]
[{"$f":"IF('Application-Media'!A6:AI6=\"\",\"\",'Application-Media'!A6:AI6)","v":""},null,null,null,{"$f":"IF('Application-Media'!U8=\"\",\"\",'Application-Media'!U8)","v":""}]
[]
["Fiscal year in question",null,{"$f":"IF('Application-Media'!I44=\"\",\"\",'Application-Media'!I44)","v":""},"to",{"$f":"IF('Application-Media'!Q44=\"\",\"\",'Application-Media'!Q44)","v":""}]
[null,null,"(yyyy-mm-dd)",null,"(yyyy-mm-dd)"]
["Job title ",null,"Immediate superior "]
[]
["Job holder(s)"]
[null,"Check if employees are of\nthe eligible subsidiary"]
[]
["Detailed description of tasks",null,"Time spent on\nsuch activities (%)",null,"Reserved for IQ"]
[null,null,null,null,null,null,null,null,null,null,null,null,null,null,null,null,null,null,null,null,null,null,null,null,null,null,null,null,null,null,null,null,null,null,null,null,null,null,null,null,null,{"$f":"A19","v":0}]
[null,null,null,null,null,null,null,null,null,null,null,null,null,null,null,null,null,null,null,null,null,null,null,null,null,null,null,null,null,null,null,null,null,null,null,null,null,null,null,null,null,0]
[null,null,null,null,null,null,null,null,null,null,null,null,null,null,null,null,null,null,null,null,null,null,null,null,null,null,null,null,null,null,null,null,null,null,null,null,null,null,null,null,null,0]
[null,null,null,null,null,null,null,null,null,null,null,null,null,null,null,null,null,null,null,null,null,null,null,null,null,null,null,null,null,null,null,null,null,null,null,null,null,null,null,null,null,0]
[null,null,null,null,null,null,null,null,null,null,null,null,null,null,null,null,null,null,null,null,null,null,null,null,null,null,null,null,null,null,null,null,null,null,null,null,null,null,null,null,null,0]
[null,null,null,null,null,null,null,null,null,null,null,null,null,null,null,null,null,null,null,null,null,null,null,null,null,null,null,null,null,null,null,null,null,null,null,null,null,null,null,null,null,0]
[null,null,null,null,null,null,null,null,null,null,null,null,null,null,null,null,null,null,null,null,null,null,null,null,null,null,null,null,null,null,null,null,null,null,null,null,null,null,null,null,null,0]
[null,null,null,null,null,null,null,null,null,null,null,null,null,null,null,null,null,null,null,null,null,null,null,null,null,null,null,null,null,null,null,null,null,null,null,null,null,null,null,null,null,0]
[null,null,null,null,null,null,null,null,null,null,null,null,null,null,null,null,null,null,null,null,null,null,null,null,null,null,null,null,null,null,null,null,null,null,null,null,null,null,null,null,null,0]
[null,null,null,null,null,null,null,null,null,null,null,null,null,null,null,null,null,null,null,null,null,null,null,null,null,null,null,null,null,null,null,null,null,null,null,null,null,null,null,null,null,0]
[null,null,null,null,null,null,null,null,null,null,null,null,null,null,null,null,null,null,null,null,null,null,null,null,null,null,null,null,null,null,null,null,null,null,null,null,null,null,null,null,null,0]
[null,null,null,null,null,null,null,null,null,null,null,null,null,null,null,null,null,null,null,null,null,null,null,null,null,null,null,null,null,null,null,null,null,null,null,null,null,null,null,null,null,0]
[null,null,null,null,null,null,null,null,null,null,null,null,null,null,null,null,null,null,null,null,null,null,null,null,null,null,null,null,null,null,null,null,null,null,null,null,null,null,null,null,null,0]
[null,null,null,null,null,null,null,null,null,null,null,null,null,null,null,null,null,null,null,null,null,null,null,null,null,null,null,null,null,null,null,null,null,null,null,null,null,null,null,null,null,0]
[null,null,null,null,null,null,null,null,null,null,null,null,null,null,null,null,null,null,null,null,null,null,null,null,null,null,null,null,null,null,null,null,null,null,null,null,null,null,null,null,null,0]
[null,null,null,null,null,null,null,null,null,null,null,null,null,null,null,null,null,null,null,null,null,null,null,null,null,null,null,null,null,null,null,null,null,null,null,null,null,null,null,null,null,0]
[null,null,null,null,null,null,null,null,null,null,null,null,null,null,null,null,null,null,null,null,null,null,null,null,null,null,null,null,null,null,null,null,null,null,null,null,null,null,null,null,null,0]
[null,null,null,null,null,null,null,null,null,null,null,null,null,null,null,null,null,null,null,null,null,null,null,null,null,null,null,null,null,null,null,null,null,null,null,null,null,null,null,null,null,0]
[null,null,null,null,null,null,null,null,null,null,null,null,null,null,null,null,null,null,null,null,null,null,null,null,null,null,null,null,null,null,null,null,null,null,null,null,null,null,null,null,null,{"$f":"A37","v":0}]
[null,null,null,null,null,null,null,null,null,null,null,null,null,null,null,null,null,null,null,null,null,null,null,null,null,null,null,null,null,null,null,null,null,null,null,null,null,null,null,null,null,{"$f":"A38","v":0}]
[null,null,null,null,null,null,null,null,null,null,null,null,null,null,null,null,null,null,null,null,null,null,null,null,null,null,null,null,null,null,null,null,null,null,null,null,null,null,null,null,null,{"$f":"A39","v":0}]
[null,null,null,null,null,null,null,null,null,null,null,null,null,null,null,null,null,null,null,null,null,null,null,null,null,null,null,null,null,null,null,null,null,null,null,null,null,null,null,null,null,{"$f":"A40","v":0}]
[null,null,null,null,null,null,null,null,null,null,null,null,null,null,null,null,null,null,null,null,null,null,null,null,null,null,null,null,null,null,null,null,null,null,null,null,null,null,null,null,null,0]
["Total (must correspond to 100%):",null,{"$f":"SUM(C19:E41)","v":0},null,null,null,null,null,null,null,null,null,null,null,null,null,null,null,null,null,null,null,null,null,null,null,null,null,null,null,null,null,null,null,null,null,null,null,null,null,null,"Total (must correspond to 100%):"]
["The task description is consistent with reality and does not add or remove any responsibilities or tasks that were carried out by the job holder or holders during the fiscal year in question."]

{"sheet":" Appendix E (Example)","index":10,"n_rows":43,"n_cols":42,"rows_kept":43,"cut":false,"hidden":false,"merged":[[5,0,5,4],[0,1,0,4],[1,0,1,4],[2,0,2,4],[3,0,3,4],[4,0,4,4],[18,0,18,1],[18,2,18,3],[6,0,6,4],[7,0,7,2],[7,17,7,22],[8,0,8,2],[12,0,12,1],[12,2,12,4],[13,2,13,4],[14,0,14,4],[15,1,15,2],[17,0,17,1],[17,2,17,3],[19,0,19,1],[19,2,19,3],[20,0,20,1],[20,2,20,3],[21,0,21,1],[21,2,21,3],[22,0,22,1],[23,0,23,1],[23,2,23,3],[24,0,24,1],[24,2,24,3],[25,0,25,1],[26,0,26,1],[26,2,26,3],[27,0,27,1],[27,2,27,3],[28,0,28,1],[28,2,28,3],[29,0,29,1],[29,2,29,3],[30,0,30,1],[30,2,30,3],[31,0,31,1],[31,2,31,3],[32,0,32,1],[32,2,32,3],[33,0,33,1],[33,2,33,3],[34,0,34,1],[34,2,34,3],[35,0,35,1],[35,2,35,3],[36,0,36,1],[36,2,36,3],[37,0,37,1],[37,2,37,3],[38,0,38,1],[38,2,38,3],[39,0,39,1],[39,2,39,3],[40,0,40,1],[40,2,40,3],[41,0,41,1],[41,2,41,3],[42,0,42,4]]}
[null,{"$f":"Instructions!N1","v":"Tax Measure to Support Print Media Companies\n(2020-02 version)"}]
["Appendix E – Application for Employee Qualification Certificates"]
["Job Description"]
["(Appendix E forms an integral part of the Application for Employee Qualification Certificates)\n\nComplete this appendix for all employees for whom you are claiming the tax credit. Use separate Appendices E for employees of the eligible subsidiary."]
["You must provide a job description for each kind of position covered by your application for a certificate for purposes of the tax credit. Provide only one job description for all employees who hold the exact same position. A job is considered the same when the tasks are the same, in the same percentage. Each position must be described in sufficient detail and must present all the tasks that make it up. Please assign a representative percentage of the time spent on each task for a given position (e.g., do not enter a task representing 100% of the employee's time)."]
["In processing the application, Investissement Québec may require that time sheets, project reports or any other documents supporting the job descriptions be submitted in order to justify the positions for which claims are made. For more information, consult the document entitled \"Guidelines for Task Descriptions on Eligibility Certificate Applications\" on our website at the following address: "]
["https://www.investquebec.com/documents/qc/fichesdetaillees/NouvellesLignesDirectrices_FiscalMeasures.pdf"]
["Name of the corporation or partnership",null,null,null,"IQ file number "]
[{"$f":"IF('Application-Media'!A6:AI6=\"\",\"\",'Application-Media'!A6:AI6)","v":""},null,null,null,{"$f":"IF('Application-Media'!U8=\"\",\"\",'Application-Media'!U8)","v":""}]
[]
["Fiscal year in question",null,"2019-01-01","to","2019-12-31"]
[null,null,"(yyyy-mm-dd)",null,"(yyyy-mm-dd)"]
["Job title ",null,"Immediate superior "]
["Journalist ",null,"Mrs. A"]
["Job holder(s)"]
["Jean-Pierre X, Carole Y and Philippe Z","Check if employees are of\nthe eligible subsidiary"]
[]
["Detailed description of tasks",null,"Time spent on\nsuch activities (%)",null,"Reserved for IQ"]
["Research",null,0.25,null,null,null,null,null,null,null,null,null,null,null,null,null,null,null,null,null,null,null,null,null,null,null,null,null,null,null,null,null,null,null,null,null,null,null,null,null,null,{"$f":"A19","v":"Research"}]
[null,null,null,null,null,null,null,null,null,null,null,null,null,null,null,null,null,null,null,null,null,null,null,null,null,null,null,null,null,null,null,null,null,null,null,null,null,null,null,null,null,0]
["Information gathering",null,0.2,null,null,null,null,null,null,null,null,null,null,null,null,null,null,null,null,null,null,null,null,null,null,null,null,null,null,null,null,null,null,null,null,null,null,null,null,null,null,"Information gathering"]
[null,null,null,null,null,null,null,null,null,null,null,null,null,null,null,null,null,null,null,null,null,null,null,null,null,null,null,null,null,null,null,null,null,null,null,null,null,null,null,null,null,0]
[null,null,null,null,null,null,null,null,null,null,null,null,null,null,null,null,null,null,null,null,null,null,null,null,null,null,null,null,null,null,null,null,null,null,null,null,null,null,null,null,null,0]
["Fact checking",null,0.2,null,null,null,null,null,null,null,null,null,null,null,null,null,null,null,null,null,null,null,null,null,null,null,null,null,null,null,null,null,null,null,null,null,null,null,null,null,null,"Fact checking"]
[null,null,null,null,null,null,null,null,null,null,null,null,null,null,null,null,null,null,null,null,null,null,null,null,null,null,null,null,null,null,null,null,null,null,null,null,null,null,null,null,null,0]
[null,null,null,null,null,null,null,null,null,null,null,null,null,null,null,null,null,null,null,null,null,null,null,null,null,null,null,null,null,null,null,null,null,null,null,null,null,null,null,null,null,0]
["Writing",null,0.25,null,null,null,null,null,null,null,null,null,null,null,null,null,null,null,null,null,null,null,null,null,null,null,null,null,null,null,null,null,null,null,null,null,null,null,null,null,null,"Writing"]
[null,null,null,null,null,null,null,null,null,null,null,null,null,null,null,null,null,null,null,null,null,null,null,null,null,null,null,null,null,null,null,null,null,null,null,null,null,null,null,null,null,0]
["Training (internal and external)",null,0.05,null,null,null,null,null,null,null,null,null,null,null,null,null,null,null,null,null,null,null,null,null,null,null,null,null,null,null,null,null,null,null,null,null,null,null,null,null,null,"Training (internal and external)"]
[null,null,null,null,null,null,null,null,null,null,null,null,null,null,null,null,null,null,null,null,null,null,null,null,null,null,null,null,null,null,null,null,null,null,null,null,null,null,null,null,null,0]
["Digital conversion of non-qualifying media",null,0.05,null,null,null,null,null,null,null,null,null,null,null,null,null,null,null,null,null,null,null,null,null,null,null,null,null,null,null,null,null,null,null,null,null,null,null,null,null,null,"Digital conversion of non-qualifying media"]
[null,null,null,null,null,null,null,null,null,null,null,null,null,null,null,null,null,null,null,null,null,null,null,null,null,null,null,null,null,null,null,null,null,null,null,null,null,null,null,null,null,0]
[null,null,null,null,null,null,null,null,null,null,null,null,null,null,null,null,null,null,null,null,null,null,null,null,null,null,null,null,null,null,null,null,null,null,null,null,null,null,null,null,null,0]
[null,null,null,null,null,null,null,null,null,null,null,null,null,null,null,null,null,null,null,null,null,null,null,null,null,null,null,null,null,null,null,null,null,null,null,null,null,null,null,null,null,0]
[null,null,null,null,null,null,null,null,null,null,null,null,null,null,null,null,null,null,null,null,null,null,null,null,null,null,null,null,null,null,null,null,null,null,null,null,null,null,null,null,null,0]
[null,null,null,null,null,null,null,null,null,null,null,null,null,null,null,null,null,null,null,null,null,null,null,null,null,null,null,null,null,null,null,null,null,null,null,null,null,null,null,null,null,0]
[null,null,null,null,null,null,null,null,null,null,null,null,null,null,null,null,null,null,null,null,null,null,null,null,null,null,null,null,null,null,null,null,null,null,null,null,null,null,null,null,null,{"$f":"A37","v":0}]
[null,null,null,null,null,null,null,null,null,null,null,null,null,null,null,null,null,null,null,null,null,null,null,null,null,null,null,null,null,null,null,null,null,null,null,null,null,null,null,null,null,{"$f":"A38","v":0}]
[null,null,null,null,null,null,null,null,null,null,null,null,null,null,null,null,null,null,null,null,null,null,null,null,null,null,null,null,null,null,null,null,null,null,null,null,null,null,null,null,null,{"$f":"A39","v":0}]
[null,null,null,null,null,null,null,null,null,null,null,null,null,null,null,null,null,null,null,null,null,null,null,null,null,null,null,null,null,null,null,null,null,null,null,null,null,null,null,null,null,{"$f":"A40","v":0}]
[null,null,null,null,null,null,null,null,null,null,null,null,null,null,null,null,null,null,null,null,null,null,null,null,null,null,null,null,null,null,null,null,null,null,null,null,null,null,null,null,null,0]
["Total (must correspond to 100%):",null,{"$f":"SUM(C19:E41)","v":1},null,null,null,null,null,null,null,null,null,null,null,null,null,null,null,null,null,null,null,null,null,null,null,null,null,null,null,null,null,null,null,null,null,null,null,null,null,null,"Total (must correspond to 100%):"]
["The task description is consistent with reality and does not add or remove any responsibilities or tasks that were carried out by the job holder or holders during the fiscal year in question."]

{"sheet":"List of Establishments","index":11,"n_rows":9,"n_cols":5,"rows_kept":9,"cut":false,"hidden":false,"merged":[[54,0,54,4],[55,0,55,4],[2,0,2,4],[5,0,5,4],[47,0,47,4],[50,0,50,4],[51,0,51,4],[49,0,49,4],[42,0,42,4],[43,0,43,4],[36,0,36,4],[40,0,40,4],[45,0,45,4],[53,0,53,4],[35,0,35,4],[48,0,48,4],[52,0,52,4],[33,0,33,4],[46,0,46,4],[37,0,37,4],[39,0,39,4],[44,0,44,4],[34,0,34,4],[29,0,29,4],[38,0,38,4],[30,0,30,4],[41,0,41,4],[26,0,26,4],[27,0,27,4],[32,0,32,4],[28,0,28,4],[31,0,31,4],[25,0,25,4],[18,0,18,4],[21,0,21,4],[22,0,22,4],[24,0,24,4],[19,0,19,4],[23,0,23,4],[0,2,0,4],[12,0,12,4],[16,0,16,4],[20,0,20,4],[1,0,1,4],[8,0,8,4],[9,0,9,4],[13,0,13,4],[15,0,15,4],[17,0,17,4],[14,0,14,4],[10,0,10,4],[11,0,11,4],[3,0,3,2],[4,0,4,2]]}
[null,null,{"$f":"Instructions!N1","v":"Tax Measure to Support Print Media Companies\n(2020-02 version)"}]
["Liste des établissements"]
["Dans le cas où la société ou la société de personnes a plus d'un établissement"]
["Nom de la société ou de la société de personnes",null,null,null,"Numéro de dossier IQ"]
[{"$f":"IF('Application-Media'!A6:AI6=\"\",\"\",'Application-Media'!A6:AI6)","v":""},null,null,null,{"$f":"IF('Application-Media'!U8=\"\",\"\",'Application-Media'!U8)","v":""}]
[]
[null,"Exercice financier visé",{"$f":"IF('Application-Media'!I44=\"\",\"\",'Application-Media'!I44)","v":""},"au",{"$f":"IF('Application-Media'!Q44=\"\",\"\",'Application-Media'!Q44)","v":""}]
[null,null,"(aaaa-mm-jj)",null,"(aaaa-mm-jj)"]
["Adresse de tous les établissements"]