Workbook
Name ADateTransmissionDemande: 'Renseignements Gén.à compléter '!$P$6
Name ADateTransmissionDemande: #REF!
Name AideCapital: #REF!
Name ANumeroConfirmationDemande: 'Renseignements Gén.à compléter '!$L$6
Name ANumeroConfirmationDemande: #REF!
Name Avant200612041: #REF!
Name Avant200612041: #REF!
Name Avant200612042: #REF!
Name Avant200612042: #REF!
Name Capital: #REF!
Name Capital: #REF!
Name Credit17Apres: #REF!
Name Credit17Avant: #REF!
Name Credit35: #REF!
Name Credit37: #REF!
Name DateChevauch1: #REF!
Name DateChevauch1: #REF!
Name DateChevauch2: #REF!
Name DateChevauch2: #REF!
Name Ligne300: #REF!
Name Ligne300: #REF!
Name Ligne305: #REF!
Name Ligne305: #REF!
Name Ligne320: #REF!
Name Ligne320: #REF!
Name Ligne340: #REF!
Name Ligne340: #REF!
Name Ligne345: #REF!
Name Ligne345: #REF!
Name LocationMat: #REF!
Name LocationMat: #REF!
Name MoinAide: #REF!
Name MoinAide: #REF!
Name PlafondApplicable: #REF!
Name PlafondApplicable: #REF!
Name Print_Area: Instructions!$A$1:$Q$134
Name Print_Area: 'Renseignements Gén.à compléter '!$A$1:$Q$146
Name Print_Titles: Instructions!$1:$5
Name Print_Titles: 'Renseignements Gén.à compléter '!$1:$4
Name Proxy: #REF!
Name Proxy: #REF!
Name RAdresse1: 'Renseignements Gén.à compléter '!$B$126
Name RAdresse1: #REF!
Name RAdresse10: 'Renseignements Gén.à compléter '!$B$144
Name RAdresse10: #REF!
Name RAdresse1BP: 'Renseignements Gén.à compléter '!$F$17
Name RAdresse1BP: #REF!
Name RAdresse1IF: 'Renseignements Gén.à compléter '!$E$70
Name RAdresse1IF: #REF!
Name RAdresse1PC: 'Renseignements Gén.à compléter '!$G$27
Name RAdresse1PC: #REF!
Name RAdresse1SC: 'Renseignements Gén.à compléter '!$F$12
Name RAdresse1SC: #REF!
Name RAdresse2: 'Renseignements Gén.à compléter '!$B$128
Name RAdresse2: #REF!
Name RAdresse2BP: 'Renseignements Gén.à compléter '!$F$18
Name RAdresse2BP: #REF!
Name RAdresse2IF: 'Renseignements Gén.à compléter '!$E$71
Name RAdresse2IF: #REF!
Name RAdresse2PC: 'Renseignements Gén.à compléter '!$G$28

Sheet Instructions
F1: Financement des crédits d’impôt remboursables à la RS&DE
Q2: Exercice financier débutant après le 25 mars 2025
A3: DEMANDE DE GARANTIE / PRÊT
A4: Instructions
A6: Veuillez remplir le présent formulaire « Demande de garantie / Prêt », qui comprend les onglets « Renseignements généraux – à compléter », « Année 1 – à compléter » et « Année 2 – à compléter » et le faire parvenir à Investissement Québec. Assurez-vous de répondre à toutes les questions et de fournir les renseignements fiscaux demandés. L’onglet « Détail du calcul » vous permet de voir la façon dont les crédits d’impôt sont calculés à l’aide des renseignements soumis. Il ne nécessite aucune entrée de données. La demande de financement couvre une période maximale de deux ans : deux formulaires ont donc été prévus à cet effet. Dans le cas d'une demande portant sur deux ans, chaque année fera l'objet d'une intervention financière distincte. Les champs à remplir dans chaque onglet du formulaire électronique sont en jaune. Les lignes du formulaire font référence aux lignes de la déclaration de revenus des sociétés (T2 et CO-17). Les zones de calcul laissées en blanc sont automatisées. Ces calculs sont fournis à titre indicatif seulement et n’engagent nullement Investissement Québec. Le montant minimal de l'intervention est de 50 000 $, qu'elle soit sous forme de prêt ou de garantie de prêt. Des bulles d’information sont accessibles lorsque des précisions sont nécessaires. Un triangle rouge dans la cellule indique la présence d’une bulle d’information; il suffit d’en approcher le curseur pour l'afficher.
A23: Vous pouvez consulter le document T4088 – Guide pour le formulaire T661 Demande pour les dépenses de recherche scientifique et développement expérimental (RS&DE) sur le site de l’Agence du revenu du Canada (l’« ARC ») pour vous aider à remplir le formulaire.
A24: Notes : Si vous prévoyez demander un crédit d'impôt relatif à l'économie du savoir ou relatif aux entreprises de la presse d'information écrite dans le cadre de votre projet, vous pouvez également compléter le formulaire « Demande de garantie / Prêt - Financement des crédits d'impôt relatif à l'économie du savoir ou aux entreprises de la presse d'information écrite».
A26: Documents complémentaires à fournir Les documents complémentaires suivants sont nécessaires à l’analyse de votre demande et doivent être acheminés au centre d’affaires d’Investissement Québec de votre région : A) s’il s’agit d’une première demande de crédits d’impôt RS&DE, veuillez obtenir une approbation préalable sur vos projets RSDE. Voir la marche à suivre sur le site de l'Agence du revenus du Canada en suivant ce lien: https://www.canada.ca/fr/agencerevenu/services/recherche-scientifique-developpement-experimental-programme-encouragements-fiscaux/demande-approbation-prealable.html B) le formulaire « Déclarations et consentements » et le Questionnaire ESG obtenus auprès d’Investissement Québec, dûment remplis et signés;
A27: C) une description du contenu scientifique de chaque projet de RS&DE comportant notamment (cette description doit compléter la section 1.5 de l’onglet « Renseignements généraux ») : 1) le titre et les principaux objectifs scientifiques ou technologiques du projet RS&DE; 2) le calendrier de réalisation du projet (principales étapes/activités et niveau d’avancement correspondant); 3) la nature des incertitudes scientifiques ou technologiques que le projet vise à résoudre – incertitudes qui ne pouvaient pas être éliminées par la pratique courante; 4) la contribution à l’avancement technologique réalisée à la suite des travaux (nature du produit ou procédé) et l’impact sur les pratiques industrielles courantes et celles de votre entreprise; 5) une explication du contenu scientifique et technologique du projet pour surmonter les incertitudes scientifiques et technologiques; 6) la liste et les qualifications (titre du poste et compétence ou expérience) des personnes participant au projet RS&DE ainsi que le nom du responsable scientifique ou technique avec une copie de son curriculum vitæ; D) le plan d’affaires ou sommaire exécutif, si disponible, contenant : une présentation de l’entreprise et de son équipe, clientèle visée, stratégies marketing, produits, marchés, concurrence, etc.; E) les derniers états financiers annuels de l'entreprise (sinon le bilan d’ouverture) et les derniers états financiers internes disponibles accompagnés de la liste chronologique (l'âge) des comptes clients et des comptes fournisseurs à pareille date; F) les états prévisionnels des résultats ainsi que les budgets de caisse mensuels pour l’exercice financier en cours et le suivant; G) une copie des aides gouvernementales ou non gouvernementales (subventions) liées au projet, s’il y a lieu; H) une copie complète des trois (3) dernières déclarations de revenus provinciale et fédérale et des avis de cotisation s’y rapportant; I) une confirmation écrite attestant que les sommes dues aux autorités gouvernementales (DAS, TPS, TVQ, impôts, etc.) ont été acquittées; J) une copie de toute correspondance relative au présent projet RS&DE avec l’Agence du revenu du Canada et Revenu Québec; L) tout document pouvant faciliter l’évaluation de la présente demande, s’il y a lieu. Documents complémentaires à fournir – Demande de garantie Dans le cadre d’une demande de garantie, le formulaire « Déclaration du prêteur», obtenu auprès d’Investissement Québec et nécessaire à l’analyse de votre demande, doit être transmis au Prêteur, qui le remplira. Par la suite, ce document doit être acheminé à Investissement Québec.
A60: Centres d'affaires d'Investissement Québec

Sheet Renseignements Gén.à compléter 
Q1: Financement des crédits d’impôt remboursables à la RS&DE
Q2: Exercice financier débutant après le 25 mars 2025
A3: DEMANDE DE GARANTIE / PRÊT
A4: Renseignements généraux
A6: 1.0 | B6: Est-ce que l’entreprise a pris connaissance de l’onglet « Instructions » ? | S6: 0
A8: 1.1 | B8: IDENTIFICATION
B10: Raison sociale de l’entreprise requérante :
B11: NEQ (numéro d’entreprise du Québec) :
B13: Adresse du siège social :
B17: Adresse du bureau principal
B18: (si différente de celle du
B19: siège social) :
B21: Personne avec qui Investissement Québec devra communiquer :
B23: Titre : | K23: Téléphone :
K24: Cellulaire :
K25: Courriel :
B27: Adresse de la personne-ressource | AI27: Oui
B28: (si différente de celle du siège social) : | AI28: Non
B31: Nombre d’employés avant le projet : | M31: après le projet :
A33: 1.2 | B33: RENSEIGNEMENTS SUR L’ENTREPRISE
B35: Numéro de compte ou numéro d’entreprise
B36: auprès de l’Agence du revenu du Canada :
G37: (voir « Déclaration de revenus des sociétés », T2)
B38: Numéro d’identification auprès de
B39: Revenu Québec :
G40: (voir « Déclaration de revenus des sociétés », CO-17)
B42: Date d’incorporation : | M42: Date début des activités :
G43: (aaaa-mm-jj) | N43: (aaaa-mm-jj)
AM44: Oui
B45: L’entreprise est-elle une société privée sous contrôle canadien (SPCC) ou une société publique sous contrôle canadien (SPCA)? | N45: SPCC | S45: 0 | AM45: Non
B46: (au sens de la Loi de l’impôt sur le revenu du Canada et de la Loi sur les impôts du Québec)
B48: L’entreprise est-elle associée (au sens de la Loi de l’impôt sur le revenu du Canada et de la Loi sur les impôts du Québec) à d’autres entreprises? | S48: 0
B49: (le cas échéant, veuillez annexer la liste et l’organigramme à votre demande)
B51: L’entreprise a-t-elle des arrérages à quelque titre que ce soit envers l’Agence | S51: 0
B52: du revenu du Canada ou Revenu Québec?
B54: L’entreprise est-elle présentement assujettie à une entente de paiement mensuel relative à ses obligations
B55: fiscales auprès des gouvernements du Québec ou du Canada ? (DAS, TPS, TVQ ou impôts)
B56: (le cas échéant, veuillez annexer une copie et les détails de l'entente à votre demande)
B58: L’entreprise est-elle redevable à Développement économique Canada (DEC) | S58: 0
B59: ou à d’autres organismes fédéraux?
...

Sheet Année 1 - à compléter
K1: Financement des crédits d’impôt remboursables à la RS&DE
K2: Exercice financier débutant après le 25 mars 2025
B3: DEMANDE DE GARANTIE / PRÊT
B4: Calculs relatifs aux crédits d’impôt à financer (Année 1)
H7: =IF(J10="","",IF(OR(G10>J10,G10=""),"La date de début doit être inférieure à la date de fin",""))
B8: 2.1 | C8: DATES DE L'EXERCICE FINANCIER | K8: =IF(G10="","",IF(J10-G10+1>365,"Attention, l'exercice financier compte plus de 365 jours",IF(J10-G10+1<365,"Attention, l'exercice financier compte moins de 365 jours","")))
G9: (aaaa-mm-jj) | J9: (aaaa-mm-jj)
F10: Date de début : | I10: Date de fin :
B13: 2.2 | C13: MONTANTS DES CRÉDITS REMBOURSABLES
C14: Veuillez compléter les prochaines sections pour que le calcul des crédits soit effectué.
E16: Crédits d’impôt R-D ou CRIC remboursables au Québec : | I16: ='Détail du calcul'!K146 -> 0
E18: Crédits d’impôt à la RS&DE remboursables au fédéral : | I18: =IFERROR('Détail du calcul'!I87,0) -> 0
D21: *Veuillez prendre note que les définitions ont été simplifiées à des fins de compréhension des utilisateurs et peuvent ainsi ne pas refléter toutes les situations particulières. Le résultat final du calcul des crédits d’impôt RS&DE et CRIC acceptés par l'ARC et RQ pourrait différer de ce montant en raison de situations particulières. Ces calculs sont fournis à titre indicatif seulement et n’engagent nullement Investissement Québec. Investissement Québec pourrait faire des ajustements si nécessaire.
B25: 2.3 | C25: INFORMATIONS POUR CALCUL
D27: À titre informatif, deux sociétés sont généralement associées si elles sont contrôlées directement ou indirectement de quelque manière
D28: que ce soit par la même personne (ou le même groupe de personnes) ou lorsqu’une société contrôle directement ou indirectement de quelque manière que ce soit l’autre société.
D30: Si SPCC:
J31: =IF(OR(I32="",I32=0),"",IF(I32<15000000,"Le montant est inférieur à 15 M$. Svp, laisser le montant à zéro.",""))
D32: MCI - Inscrire le montant du capital imposable utilisé au Canada durant l'exercice précédent
D33: (inclure celui des sociétés associées). Si le montant est inférieur à 15 M$, vous pouvez
D34: laissez à zéro. S'il est supérieur à 75 M$, vous pouvez inscrire 75 M$.
D36: Revenus annuels moyens des trois exercices précédents: Inscrire ce montant | J36: =IF(OR(I36="",I36=0),"",IF(I36>I32,"Le montant est supérieur au MCI. Svp, laisser la case vide.",""))
D37: s'il est moindre que le MCI (inclure celui des sociétés associées).
D41: Revenu imposable de l'année d'imposition précédente (inclus sociétés associées)
D42: Si le MCI est inférieur à 15 M$ et que le total de vos dépenses RSDE est inférieur à 3 M$, vous n'avez pas besoin de compléter la case
D43: (Ligne 360 du formulaire T2 de la déclaration de revenus de l'exercice précédents pour chacune des sociétés associées)
D47: Si SPCA:
D48: Revenus annuels moyens des trois exercices précédents (ou du groupe consolidé s'il y a lieu): | J48: =IF(OR(I48="",I48=0),"",IF(I48<15000000,"Le montant est inférieur à 15 M$. Svp, laisser le montant à zéro.",""))
D49: Inscrire ce montant s'il est supérieur à 15 M$. Sinon, laissez à zéro.
D52: Autres informations
D53: Impôt fédéral à payer
D54: Acomptes provisionnels versés au fédéral
D55: Impôt à payer au Québec
D56: Acomptes provisionnels versés au Québec
B59: 2.4 | C59: COÛT DES PROJETS RS&DE CANADA
C61: Dépenses courantes
D62: Formulaire et ligne de la déclaration de revenus fédérale | E62: Description de la dépenses en lien avec les travaux RSDE | J62: Montants
D63: T661 ligne 300 | E63: Salaires des employés, sauf employés déterminés
D64: T661 ligne 305 | E64: Salaires des employés déterminés (compléter le tableau à la ligne 92) | J64: =+G81 -> 0
D65: T661 lignes 320 et 325 | E65: Coûts des matériaux consommés et transformés
...

Sheet Année 2 - à compléter
K1: Financement des crédits d’impôt remboursables à la RS&DE
K2: Exercice financier débutant après le 25 mars 2025
B3: DEMANDE DE GARANTIE / PRÊT
B4: Calculs relatifs aux crédits d’impôt à financer (Année 1)
G6: =IF(G10<'Année 1 - à compléter'!J10,"Attention, la date de début doit suivre la date de fin de l'exercice précédent","")
H7: =IF(J10="","",IF(OR(G10>J10,G10=""),"La date de début doit être inférieure à la date de fin",""))
B8: 2.1 | C8: DATES DE L'EXERCICE FINANCIER | K8: =IF(G10="","",IF(J10-G10+1>365,"Attention, l'exercice financier compte plus de 365 jours",IF(J10-G10+1<365,"Attention, l'exercice financier compte moins de 365 jours","")))
G9: (aaaa-mm-jj) | J9: (aaaa-mm-jj)
F10: Date de début : | I10: Date de fin :
B13: 2.2 | C13: MONTANTS DES CRÉDITS REMBOURSABLES
C14: Veuillez compléter les prochaines sections pour que le calcul des crédits soit effectué.
E16: Crédits d’impôt R-D ou CRIC remboursables au Québec : | I16: ='Détail du calcul'!O146 -> 0
E18: Crédits d’impôt à la RS&DE remboursables au fédéral : | I18: =IFERROR('Détail du calcul'!K87,0) -> 0
D21: *Veuillez prendre note que les définitions ont été simplifiées à des fins de compréhension des utilisateurs et peuvent ainsi ne pas refléter toutes les situations particulières. Le résultat final du calcul des crédits d’impôt RS&DE et CRIC acceptés par l'ARC et RQ pourrait différer de ce montant en raison de situations particulières. Ces calculs sont fournis à titre indicatif seulement et n’engagent nullement Investissement Québec. Investissement Québec pourrait faire des ajustements si nécessaire.
B25: 2.3 | C25: INFORMATIONS POUR CALCUL
D27: À titre informatif, deux sociétés sont généralement associées si elles sont contrôlées directement ou indirectement de quelque manière
D28: que ce soit par la même personne (ou le même groupe de personnes) ou lorsqu’une société contrôle directement ou indirectement de quelque manière que ce soit l’autre société.
D30: Si SPCC: Choisir le moindre entre: (inscrire un montant seulement dans la case de la méthode choisie)
J31: =IF(OR(I32="",I32=0),"",IF(I32<15000000,"Le montant est inférieur à 15 M$. Svp, laisser le montant à zéro.",""))
D32: MCI - Inscrire le montant du capital imposable utilisé au Canada durant l'exercice précédent
D33: (inclure celui des sociétés associées). Si le montant est inférieur à 15 M$, vous pouvez
D34: laissez à zéro. S'il est supérieur à 75 M$, vous pouvez inscrire 75 M$.
D36: Revenus annuels moyens des trois exercices précédents: Inscrire ce montant | J36: =IF(OR(I36="",I36=0),"",IF(I36>I32,"Le montant est supérieur au MCI. Svp, laisser la case vide.",""))
D37: s'il est moindre que le MCI (inclure celui des sociétés associées).
D41: Revenu imposable de l'année d'imposition précédente (inclus sociétés associées)
D42: Si le MCI est inférieur à 15 M$ et que le total de vos dépenses RSDE est inférieur à 3 M$, vous n'avez pas besoin de compléter la case
D43: (Ligne 360 du formulaire T2 de la déclaration de revenus de l'exercice précédents pour chacune des sociétés associées)
D47: Si SPCA:
D48: Revenus annuels moyens des trois exercices précédents (ou du groupe consolidé s'il y a lieu): | J48: =IF(OR(I48="",I48=0),"",IF(I48<15000000,"Le montant est inférieur à 15 M$. Svp, laisser le montant à zéro.",""))
D49: Inscrire ce montant s'il est supérieur à 15 M$. Sinon, laissez à zéro.
D52: Autres informations
D53: Impôt fédéral à payer
D54: Acomptes provisionnels versés au fédéral
D55: Impôt à payer au Québec
D56: Acomptes provisionnels versés au Québec
B59: 2.4 | C59: COÛT DES PROJETS RS&DE CANADA
C61: Dépenses courantes
D62: Formulaire et ligne de la déclaration de revenus fédérale | E62: Description de la dépenses en lien avec les travaux RSDE | J62: Montants
D63: T661 ligne 300 | E63: Salaires des employés, sauf employés déterminés
D64: T661 ligne 305 | E64: Salaires des employés déterminés (compléter le tableau à la ligne 92) | J64: =+G81 -> 0
...

Sheet Détail du calcul
M1: Financement des crédits d’impôt remboursables à la RS&DE
M2: Exercice financier débutant après le 25 mars 2025
F5: DEMANDE DE GARANTIE / PRÊT
F6: Calculs relatifs aux crédits d’impôt RS&DE
I8: Année 1 | K8: Année 2
A9: Date d'exercices | G9: Date de début : | I9: =IF('Année 1 - à compléter'!G10="","",'Année 1 - à compléter'!G10) | K9: =IF('Année 2 - à compléter'!G10="","",'Année 2 - à compléter'!G10)
G10: Date de fin : | I10: =IF('Année 1 - à compléter'!J10<>0,'Année 1 - à compléter'!J10,"") | K10: =IF('Année 2 - à compléter'!J10="","",'Année 2 - à compléter'!J10)
G11: Nb de jours: | I11: =IFERROR(MIN(I10-I9+1,365),0) -> 0 | K11: =IFERROR(MIN(K10-K9+1,365),0) -> 0
A13: Calcul des crédits d’impôt à la RS&DE au fédéral à financer
A15: Calcul des dépenses admissibles
A17: Dépenses courantes
B18: ='Année 1 - à compléter'!E63 -> Salaires des employés, sauf employés déterminés | I18: ='Année 1 - à compléter'!J63 -> 0 | K18: ='Année 2 - à compléter'!J63 -> 0
B19: ='Année 1 - à compléter'!E64 -> Salaires des employés déterminés (compléter le tableau à la ligne 92) | I19: ='Année 1 - à compléter'!J64 -> 0 | K19: ='Année 2 - à compléter'!J64 -> 0
B20: ='Année 1 - à compléter'!E65 -> Coûts des matériaux consommés et transformés | I20: ='Année 1 - à compléter'!J65 -> 0 | K20: ='Année 2 - à compléter'!J65 -> 0
B21: ='Année 1 - à compléter'!E66 -> Contrats (sous-traitants) sans lien de dépendance | I21: ='Année 1 - à compléter'!J66 -> 0 | K21: ='Année 2 - à compléter'!J66 -> 0
B22: ='Année 1 - à compléter'!E67 -> Dépenses qui vous sont transférées d'une société avec lien de dépendance | I22: ='Année 1 - à compléter'!J67 -> 0 | K22: ='Année 2 - à compléter'!J67 -> 0
B23: ='Année 1 - à compléter'!E68 -> Coûts de location du matériel utilisé après le 15 décembre 2024 | I23: ='Année 1 - à compléter'!J68 -> 0 | K23: ='Année 2 - à compléter'!J68 -> 0
B24: ='Année 1 - à compléter'!E70 -> Paiements faits à des tiers | I24: ='Année 1 - à compléter'!J70 -> 0 | K24: ='Année 2 - à compléter'!J70 -> 0
B25: Total | I25: =SUM(I18:I24) -> 0 | K25: =SUM(K18:K24) -> 0 | P25: Montant de remplacement | Q25: Année 1 | R25: Année 2
P26: Salaires | Q26: =+I18 -> 0 | R26: =+'Année 2 - à compléter'!J63 -> 0
B27: Plus | P27: Bonis | Q27: =-'Année 1 - à compléter'!J77 -> 0 | R27: =-'Année 2 - à compléter'!J77 -> 0
B28: Calcul du montant de remplacement / frais généraux | I28: =IF('Année 1 - à compléter'!$J$69<>0,'Année 1 - à compléter'!$J$69,('Année 1 - à compléter'!$J$63+'Année 1 - à compléter'!$J$81-'Année 1 - à compléter'!$J$77)*0.55) -> 0 | K28: =IF('Année 2 - à compléter'!$J$69<>0,'Année 2 - à compléter'!$J$69,('Année 2 - à compléter'!$J$63+'Année 2 - à compléter'!$J$81-'Année 2 - à compléter'!$J$77)*0.55) -> 0 | P28: Salaires déterminés | Q28: =+'Année 1 - à compléter'!J81 -> 0 | R28: =+'Année 2 - à compléter'!J81 -> 0
Q29: =SUM(Q26:Q28) -> 0 | R29: =SUM(R26:R28) -> 0
B30: Moins | Q30: 0.55 | R30: 0.55
B31: ='Année 1 - à compléter'!E74 -> Crédits ou subventions RSDE autres provinces (ne pas inclure le crédit RSDE du Québec) | I31: =-'Année 1 - à compléter'!J74 -> 0 | K31: =-'Année 2 - à compléter'!J74 -> 0 | Q31: =+Q29*Q30 -> 0 | R31: =+R29*R30 -> 0
B32: ='Année 1 - à compléter'!E75 -> Autre type d'aide gouvernementale (autres que les crédits d'impôt) | I32: =-'Année 1 - à compléter'!J75 -> 0 | K32: =-'Année 2 - à compléter'!J75 -> 0 | P32: Vérif | Q32: =+Q31-I28 -> 0 | R32: =+K28-R31 -> 0
B33: ='Année 1 - à compléter'!E76 -> Aide non gouvernementale et paiements contractuels | I33: =-'Année 1 - à compléter'!J76 -> 0 | K33: =-'Année 2 - à compléter'!J76 -> 0
B34: Crédit R-D du Québec sur les dépenses courantes | I34: =-I138 -> 0 | K34: =-M138 -> 0
B35: 20% des contrats sans lien de dépendance | I35: =-I21*0.2 -> 0 | K35: =-K21*0.2 -> 0
B36: Ajustement | C36: Autres montants à soustraire :
B37: IQ | C37: Autres montants à ajouter :
B38: Total des dépenses courantes admissibles au crédit RSDE | I38: =SUM(I25:I35)-I36+I37 -> 0 | K38: =SUM(K25:K35)-K36+K37 -> 0
A40: Dépenses en capital
B41: ='Année 1 - à compléter'!E89 -> Dépenses en capital pour les biens amortissables acquis après le 15 décembre 2024 | I41: ='Année 1 - à compléter'!J89 -> 0 | K41: ='Année 2 - à compléter'!J89 -> 0
B42: ='Année 1 - à compléter'!E90 -> Dépenses de matériel à vocations multiples acquis après le 15 décembre 2024 | I42: ='Année 1 - à compléter'!J90 -> 0 | K42: ='Année 2 - à compléter'!J90 -> 0
B43: Total | I43: =+I41+I42 -> 0 | K43: =+K41+K42 -> 0
B45: Moins
B46: ='Année 1 - à compléter'!E94 -> Crédits ou subventions RSDE autres provinces sur les dépenses en capital (sauf le crédit du Québec) | I46: =-'Année 1 - à compléter'!J94 -> 0 | K46: =-'Année 2 - à compléter'!J94 -> 0
B47: ='Année 1 - à compléter'!E95 -> Autre type d'aide gouvernementale (autres que les crédits d'impôt) sur les dépenses en capital | I47: =-'Année 1 - à compléter'!J95 -> 0 | K47: =-'Année 2 - à compléter'!J95 -> 0
B48: ='Année 1 - à compléter'!E96 -> Aide non gouvernementale et paiements contractuels sur les dépenses en capital | I48: =-'Année 1 - à compléter'!J96 -> 0 | K48: =-'Année 2 - à compléter'!J96 -> 0
...

Sheet Montants pour calcul
A4: Montants personnel de base pour l'impôt des particulier au Québec .
A5: Choisir celui qui est en vigueur lorsque l'année d'imposition débute
A6: 2025 | B6: 18571
A7: 2026 | B7: 18952
A8: 2027 | B8: =+B7*1.03 -> 19520.56 | C8: Projection avec augmentation de 3% par année
A9: 2028 | B9: =+B8*1.03 -> 20106.177
A10: 2029 | B10: =+B9*1.03 -> 20709.362
A11: 2030 | B11: =+B10*1.03 -> 21330.643
A12: 2031 | B12: =+B11*1.03 -> 21970.562
A13: 2032 | B13: =+B12*1.03 -> 22629.679
A14: 2033 | B14: =+B13*1.03 -> 23308.569
A15: 2034 | B15: =+B14*1.03 -> 24007.827
A16: 2035 | B16: =+B15*1.03 -> 24728.061
A19: Montant maximum des gains donnant droit à la pension au fédéral
A20: (Article 18 du Régime de pension du Canada)
A21: Prendre le montant qui correspond à l'année civile au cours de laquelle l'année d'imposition prend fin.
A22: Taux de cotisations au RPC, les maximums et les exemptions – Calculer les retenues sur la paie et les cotisations - Canada.ca
A23: (Plafond des gains annuels ouvrant droit à pension)
B24: Montant maximum pour gains de pension | C24: Montant maximum pour méthode remplacement employés déterminés
A25: 2025 | B25: 71300 | C25: =+B25*2.5 -> 178250
A26: 2026 | B26: 74600 | C26: =+B26*2.5 -> 186500
A27: 2027 | B27: =+B26*1.045 -> 77957 | C27: =+B27*2.5 -> 194892.5 | D27: Projection avec augmentation de 4,5% par année
A28: 2028 | B28: =+B27*1.045 -> 81465.065 | C28: =+B28*2.5 -> 203662.66
A29: 2029 | B29: =+B28*1.045 -> 85130.993 | C29: =+B29*2.5 -> 212827.48
A30: 2030 | B30: =+B29*1.045 -> 88961.888 | C30: =+B30*2.5 -> 222404.72
A31: 2031 | B31: =+B30*1.045 -> 92965.173 | C31: =+B31*2.5 -> 232412.93
A32: 2032 | B32: =+B31*1.045 -> 97148.605 | C32: =+B32*2.5 -> 242871.51
A33: 2033 | B33: =+B32*1.045 -> 101520.29 | C33: =+B33*2.5 -> 253800.73
A34: 2034 | B34: =+B33*1.045 -> 106088.71 | C34: =+B34*2.5 -> 265221.76
A35: 2035 | B35: =+B34*1.045 -> 110862.7 | C35: =+B35*2.5 -> 277156.74

Sheet Données
A3: oui
A4: non
A7: Président
A8: Vice-président Finance
A9: Vice-président R&D
A10: Contrôleur
A11: Actionnaire
A12: Autres (Précisez)
A15: SPCC
A16: SPCA
