Workbook
Name ExerciceFinancier: '[1]Annexe A'!$H$12<'[1]Annexe A'!$J$12
Name PeriodeEmploi: AND('[1]Annexe A'!G1<='[1]Annexe A'!H1,'[1]Annexe A'!G1>=DATE('[1]Annexe A'!$E$12,1,1),'[1]Annexe A'!G1<='[1]Annexe A'!$J$12)
Name PeriodesDePaieTravaille: AND('[1]Annexe A'!$I1<=53,'[1]Annexe A'!$J1<='[1]Annexe A'!$I1)
Name SaisiComplete: AND('[1]Annexe A'!$G1<>"",'[1]Annexe A'!$H1<>"",'[1]Annexe A'!$I1<>"",'[1]Annexe A'!$J1<>"",'[1]Annexe A'!$K1<>"",'[1]Annexe A'!$L1<>"",'[1]Annexe A'!$H$12<>"",'[1]Annexe A'!$J$12<>"")
Name SalaireAdmissible: '[1]Annexe A'!L1<='[1]Annexe A'!K1

Sheet Directives
C1: Développement des affaires électroniques intégrant des fonctionnalités d'IA (CDAEIA)
A2: DIRECTIVES - Demande d'attestation de société et d'employés
A3: Exercice financier débutant après le 31 décembre 2025
A5: Version : 2026-10
A8: Ce document indique la procédure à suivre pour obtenir les attestations de société et d'employés requises pour réclamer le crédit d'impôt pour le développement des affaires électroniques intégrant des fonctionnalités d'IA (CDAEIA). La société doit par la suite réclamer ce crédit d'impôt à Revenu Québec en produisant sa déclaration de revenus CO-17 et l’annexe CO-1029.8.36.DA dans le délai prévu.
A9: Nous vous conseillons fortement de consulter la fiche détaillée disponible sur notre site Internet avant de remplir ce formulaire. Assurez-vous d’utiliser la dernière version à jour du formulaire. Par ailleurs, vous pouvez consulter le chapitre XIII, de l'annexe A de la Loi concernant les paramètres sectoriels de certaines mesures fiscales qui inclut tous les paramètres sectoriels applicables à cette mesure.
A11: DÉPÔT D'UNE DEMANDE D'ATTESTATION ANNUELLE À INVESTISSEMENT QUÉBEC
A12: La société doit présenter sa demande d’attestation d'admissibilité à Investissement Québec avant la fin du 15e mois suivant la fin de l’exercice financier de la société. Si la demande d’attestation d'admissibilité est présentée après cette date, mais avant l’expiration du délai de 18 mois suivant la fin de l’exercice financier de la société, Investissement Québec peut, de manière discrétionnaire, accepter la demande d’attestation si elle est d’avis que les motifs de retard sont raisonnables et justifient une telle demande « tardive ». Par conséquent, si vous êtes dans cette situation, veuillez joindre un document faisant état de vos motifs de retard.
A13: Aux fins de déterminer si la société a déposé une demande complète auprès d'Investissement Québec dans les délais prescrits, seuls les quatre premiers documents mentionnés à la section 7 de la Demande - Société seront pris en compte. Toutefois, cette considération ne dispense pas la société de soumettre l'ensemble des autres documents obligatoires mentionnés à cette section.
A15: ⚠ Toutefois, une demande d'attestation déposée à Investissement Québec après l'expiration du délai de 18 mois sera refusée.
A17: PRODUCTION DES DOCUMENTS À REVENU QUÉBEC
A18: La société doit présenter sa demande de crédit d’impôt et les attestations à Revenu Québec à la plus tardive des dates suivantes : - Le dernier jour du 18e mois suivant la fin de l’exercice financier visé de la société; - Le dernier jour de la période de 3 mois suivant la date de délivrance des attestations d’Investissement Québec.
A20: ENTENTE D'ÉCHANGE DE RENSEIGNEMENTS
... A30: Pour déposer votre demande d'attestation, veuillez suivre les étapes suivantes :
A31: 1. | B31: Envoyez un courriel à l'adresse mesuresfiscales@invest-quebec.com
B32: Veuillez indiquer dans l'objet du message les informations suivantes : - Nom légal de la société - Numéro d'entreprise du Québec (NEQ)
A34: 2. | B34: En réponse à votre courriel, vous recevrez un accès à la plateforme de partage de documents sécurisée d'Investissement Québec S-Filer pour déposer :
B35: - Votre demande d'attestation (le présent document en format Excel).
B36: - Les documents requis, notamment ceux mentionnés à la section 7 de la « Demande - Société », ainsi que les pages dûment signées des formulaires « Demande - Société » et « Demande - Employés » au format PDF.
A38: Besoin d'aide pour utiliser la plateforme ? | C38: Consultez le Guide Utilisateur Invité Sfiler

Sheet Demande - Société
C1: Développement des affaires électroniques intégrant des fonctionnalités d’IA (CDAEIA)
A2: DEMANDE D'ATTESTATION DE SOCIÉTÉ
A3: Avant de remplir le formulaire, veuillez lire l’onglet Directives
A5: Version : 2026-10
A7: 1. IDENTIFICATION DE LA SOCIÉTÉ
B9: Nom de la société :
B11: NEQ (numéro d’entreprise du Québec) : | E11: Date d’incorporation :
G12: (aaaa-mm-jj)
B14: Numéro d’entreprise IQ* : | E14: Numéro de dossier IQ* :
B15: *Non requis lors d’une première demande. Ces numéros figurent sur la correspondance reçue d’IQ.
B17: Site Internet de la société :
B19: Adresse de correspondance :
B21: Adresse de l'établissement :
B22: (Adresse principale; fournir la liste complète en annexe si plus d’un établissement)
B24: Représentant autorisé de la société :
B25: (La personne-ressource désignée avec qui nous communiquerons tout au long de l'analyse et qui recevra les documents officiels ainsi que la facture.)
B27: Titre du représentant :
B29: Adresse de courriel du représentant :
B31: Téléphone : | D31: Poste : | F31: Cellulaire :
B34: Mandataire autorisé de la société :
B36: Titre du mandataire :
B38: Adresse de courriel du mandataire :
B40: Téléphone : | D40: Poste : | F40: Cellulaire :
A43: 2. EXERCICE FINANCIER VISÉ PAR LA DEMANDE D’ATTESTATION ET CHIFFRE D'AFFAIRES ANNUEL
B45: Exercice financier du : | D45: au :
C46: (aaaa-mm-jj) | E46: (aaaa-mm-jj)
B47: Chiffre d'affaire annuel :
A49: 3. RÉORGANISATION OU ACQUISITION DE CONTRÔLE
B51: Au cours de l’exercice financier visé jusqu’au dépôt de la demande, la société a-t-elle :
B53: — fait l’objet d’une acquisition de contrôle donnant lieu à une fin d’année présumée? | G53: Oui | H53: Non
B54: — acquis une participation dans une autre société? | F54: TRUE | G54: Oui | H54: Non
B55: — fait l’objet d’une réorganisation (ex. : fusion, liquidation, achat ou vente d’actifs en bloc)? | G55: Oui | H55: Non
B57: Le cas échéant, précisez :
B58: Date :
C59: (aaaa-mm-jj)
B60: Nature des changements :
A63: 4. ACTIVITÉS
B64: Décrivez les activités réalisées au cours de l’exercice financier visé afin de permettre l'identification des codes SCIAN applicables aux revenus et la détermination de l’admissibilité de la société.
A66: A. ACTIVITÉS DE LA SOCIÉTÉ
B67: (Agrandir les lignes au besoin ou joindre un document séparé)
...

Sheet Liste des établissements
C1: Développement des affaires électroniques intégrant des fonctionnalités d'IA (CDAEIA)
A2: LISTE DES ÉTABLISSEMENTS
A4: Version : 2026-10
A6: Dans le cas où la société a plus d'un établissement, veuillez fournir la liste complète ci-dessous.
A8: IDENTIFICATION
B10: Nom de la société : | C10: =IF('Demande - Société'!C9="","",'Demande - Société'!C9)
B12: Exercice financier du : | C12: =IF('Demande - Société'!C45="","",'Demande - Société'!C45) | D12: au : | E12: =IF('Demande - Société'!E45="","",'Demande - Société'!E45)
B14: Numéro de dossier IQ : | C14: =IF('Demande - Société'!G14="","",'Demande - Société'!G14)
A16: ADRESSES DES ÉTABLISSEMENTS
C18: Adresse de l'établissement
B19: Adresse principale | C19: =IF('Demande - Société'!C21="","",'Demande - Société'!C21)
B20: Établissement 1
B21: Établissement 2
B22: Établissement 3
B23: Établissement 4
B24: Établissement 5
B25: Établissement 6
B26: Établissement 7
B27: Établissement 8
B28: Établissement 9
B29: Établissement 10
A31: Investissement Québec

Sheet Demande - Employés
C1: Développement des affaires électroniques intégrant des fonctionnalités d'IA (CDAEIA)
A2: DEMANDE D'ATTESTATION D'EMPLOYÉS
A3: Avant de remplir le formulaire, veuillez lire l'onglet Directives
A5: Version : 2026-10
A7: IDENTIFICATION
B9: Nom de la société : | D9: =IF('Demande - Société'!C9="","",'Demande - Société'!C9)
B11: Numéro de dossier IQ : | D11: =IF('Demande - Société'!G14="","",'Demande - Société'!G14)
B13: Exercice financier du : | D13: =IF('Demande - Société'!C45="","",'Demande - Société'!C45) | E13: au : | F13: =IF('Demande - Société'!E45="","",'Demande - Société'!E45)
A15: 1. RENSEIGNEMENTS SUR LES EMPLOYÉS
B16: 📎 Veuillez compléter l'annexe A « LISTE DES EMPLOYÉS RÉCLAMÉS » et l'annexe E « DESCRIPTION DE POSTE » pour tous les employés réclamés aux fins de la demande d'attestation.
B18: Nombre total d'employés de la société pour l'exercice financier visé :
B19: (Inclut tous les employés : réclamés ou non, temps plein/partiel, saisonniers, année complète ou partielle)
B20: Nombre total d'employés de la société au Québec pour l'exercice financier visé :
B22: Indiquez les postes non réclamés dans la présente demande et le nombre d'employés visés :
B23: Postes non réclamés | F23: Nombre d'employés visés
B29: Méthodologie utilisée pour déterminer les pourcentages déclarés à l'annexe E :
B30: (Décrivez les documents et/ou outils informatiques utilisés : feuilles de temps, documents de facturation, etc.)
A33: 2. ACTIVITÉS ADMISSIBLES DES EMPLOYÉS
B34: Veuillez cocher la ou les catégories qui correspondent le mieux aux activités admissibles réalisées par les employés réclamés. Pour chaque catégorie cochée, décrivez de façon détaillée les tâches réalisées par les employés.
B36: Service-conseil spécialisé en IA
B37: (par ex. étude de faisabilité, préparation de données, etc.)
B38: Description détaillée :
B41: Certains travaux préparatoires qu’il est raisonnable de considérer comme étant réalisés dans les 12 mois précédant le début de la réalisation d’un mandat, d’un projet ou d’un produit qui intègre, de manière significative, des fonctionnalités d’IA. De plus, pour être admissibles, ces travaux doivent constituer une des activités suivantes :
C43: Service-conseil soit en technologie de l’information, mais relié à la technologie ou au développement de systèmes, soit en processus et solutions d’affaires électroniques, dans la mesure où ce service-conseil se rapporte à une activité visée à l’un des paragraphes ci-dessous :
C44: Description détaillée :
C47: Développement ou l’intégration soit de systèmes d’information, soit d’infrastructures technologiques, de même que, dans la mesure où elle est accessoire à une telle activité de développement ou d’intégration exercée par la société, toute activité relative à la conception ou au développement de solutions de commerce électronique permettant une transaction monétaire entre la personne pour le compte de qui cette conception ou ce développement est réalisé et la clientèle de cette personne.
C48: Description détaillée :
C51: Développement de services de sécurité et d’identification liés aux activités d’affaires électroniques.
C52: Description détaillée :
B55: Activités relatives à un mandat, un projet ou un produit qui intègrent des fonctionnalités d'IA de manière significative. Veuillez compléter l'annexe F.
A57: 3. AFFAIRES ÉLECTRONIQUES
B58: Décrivez en quoi les activités effectuées par votre société transforment les principaux processus commerciaux d'une entreprise en y intégrant les technologies d'intelligence artificielle.
B59: (Cette description doit être effectuée pour vos principaux mandats, projets ou produits développés. Consulter notre fiche détaillée sur notre site Internet)
A62: 4. AUTRES ACTIVITÉS
B63: La société a-t-elle réalisé des activités liées à une plateforme numérique à contenu inapproprié
B65: (Plateforme hébergeant des contenus encourageant la violence, le sexisme, le racisme ou toute autre forme de discrimination, ou comportant des scènes de sexualité explicite.)
C66: Oui | E66: Non
A68: 5. DÉCLARATION DU REPRÉSENTANT OU DU MANDATAIRE AUTORISÉ
B69: Je, soussigné(e), représentant(e) ou mandataire dûment autorisé(e) de la société, déclare que tous les renseignements fournis dans la présente demande, les annexes et les documents afférents sont complets et véridiques en tous points. De plus, sauf indication contraire expresse, j'autorise Investissement Québec à utiliser les renseignements obtenus dans le cadre de cette demande pouvant s'avérer nécessaires à l'analyse de toute demande de financement, d'investissement ou à l'égard de tout autre service offert par Investissement Québec. Enfin, je soussigné(e), représentant(e) ou mandataire dûment autorisé(e) de la société, représente et garantis à Investissement Québec que la société a obtenu, conformément à la loi, tous les consentements requis des personnes concernées par les renseignements personnels divulgués en lien avec cette demande et qui sont nécessaires afin qu’Investissement Québec puisse les utiliser, les communiquer à Revenu Québec, le tout, aux fins de traiter la demande d'attestation.
B71: Autorisation de partage des renseignements : | E71: J'autorise | G71: Je n'autorise pas
...

Sheet Annexe A
C1: Développement des affaires électroniques intégrant des fonctionnalités d'IA (CDAEIA)
A2: Annexe A - Demande d'attestation d'employés
A3: Liste des employés réclamés
A4: (l'Annexe A fait partie intégrante de la présente demande d'attestation d'employés)
A7: Version : 2026-10
A9: Nom de la société : | C9: =IF('Demande - Société'!C9="","",'Demande - Société'!C9) | H9: Numéro de dossier IQ : | J9: =IF('Demande - Société'!G14="","",'Demande - Société'!G14)
A11: Exercice financier du : | C11: =IF('Demande - Société'!C45="","",'Demande - Société'!C45) | D11: au : | E11: =IF('Demande - Société'!E45="","",'Demande - Société'!E45)
A13: Remplissez la présente annexe pour tous les employés que vous désirez réclamer aux fins de l'attestation d'employés(1).
A15: N° | B15: Nom de l'employé (Nom Prénom) | C15: N.A.S. (999-999-999) | D15: Poste (selon description de poste et organigramme) | E15: Date de la dernière embauche (aaaa-mm-jj) | F15: Période d'emploi 2 Du : (aaaa-mm-jj) | G15: Période d'emploi Au : (aaaa-mm-jj) | H15: Même emploi en date de la signature? (O/N) ³ | I15: Salaire versé ⁴ pour la période d'emploi ($) | J15: Heures totales travaillées (incluant vacances) | K15: Nombre total de semaines depuis l'embauche | L15: Nombre moyen d'heures travaillées par semaine⁵ | M15: Commentaires⁶ | N15: Heures travaillées (excluant vacances et congés) | O15: Taux horaire de l'employé ($) | P15: Adresse de l'établissement principal
A16: 1 | L16: =IF(AND(J16<>"",K16<>"",K16<>0),J16/K16,"")
A17: 2 | L17: =IF(AND(J17<>"",K17<>"",K17<>0),J17/K17,"")
A18: 3 | L18: =IF(AND(J18<>"",K18<>"",K18<>0),J18/K18,"")
A19: 4 | L19: =IF(AND(J19<>"",K19<>"",K19<>0),J19/K19,"")
A20: 5 | L20: =IF(AND(J20<>"",K20<>"",K20<>0),J20/K20,"")
A21: 6 | L21: =IF(AND(J21<>"",K21<>"",K21<>0),J21/K21,"")
A22: 7 | L22: =IF(AND(J22<>"",K22<>"",K22<>0),J22/K22,"")
A23: 8 | L23: =IF(AND(J23<>"",K23<>"",K23<>0),J23/K23,"")
A24: 9 | L24: =IF(AND(J24<>"",K24<>"",K24<>0),J24/K24,"")
A25: 10 | L25: =IF(AND(J25<>"",K25<>"",K25<>0),J25/K25,"")
A26: 11 | L26: =IF(AND(J26<>"",K26<>"",K26<>0),J26/K26,"")
A27: 12 | L27: =IF(AND(J27<>"",K27<>"",K27<>0),J27/K27,"")
... A35: 20 | L35: =IF(AND(J35<>"",K35<>"",K35<>0),J35/K35,"")
A37: Notes :
A38: 1. Veuillez consulter le chapitre 13 de l'annexe A de la Loi concernant les paramètres sectoriels de certaines mesures fiscales ou la fiche détaillée publiée sur notre site Internet pour connaître les conditions d'admissibilité d'un employé.
A39: 2. La période d'emploi doit être comprise dans l'exercice financier visé et se terminer dès que le lien d'emploi est rompu, même si des sommes sont versées après le départ. Les absences temporaires suivantes sont incluses : a) vacances; b) assurance-emploi (congé parental,
A40: maternité, maladie); c) congé CNESST temporaire; d) assurance-salaire d'un tiers payeur (absence temporaire).
A41: 3. Pour les départs d'employés ayant un nombre total de semaines inférieur à 40 depuis l'embauche, veuillez compléter l'annexe A1 – Mouvement de personnel.
A42: 4. Le salaire versé correspond au salaire brut versé à l'employé pour la période d'emploi visée.
A43: 5. Pour se qualifier, l'employé doit avoir travaillé un minimum de 26 heures par semaine.
A44: 6. Dans cette colonne, fournissez les renseignements pertinents : détails sur les absences temporaires, changements de fonctions, etc. Exemples : congé de maladie 8 semaines; congé de paternité du 5 mars au 5 avril; stagiaire du 1ᵉʳ janvier au 1ᵉʳ juillet; congé sans solde.
A46: Investissement Québec

Sheet Annexe A1
C1: Développement des affaires électroniques intégrant des fonctionnalités d'IA (CDAEIA)
A2: Annexe A1 – Mouvement de personnel
A3: Liste des employés visés
A4: (l'Annexe A1 fait partie intégrante de la présente demande d'attestation d'employés)
A7: Version : 2026-10
A9: Nom de la société : | C9: =IF('Demande - Société'!C9="","",'Demande - Société'!C9) | E9: Numéro de dossier IQ : | F9: =IF('Demande - Société'!G14="","",'Demande - Société'!G14)
A11: Exercice financier du : | C11: =IF('Demande - Société'!C45="","",'Demande - Société'!C45) | D11: au : | E11: =IF('Demande - Société'!E45="","",'Demande - Société'!E45)
A13: Remplissez la présente annexe pour tous les employés réclamés qui ne sont plus à l'emploi de la société en date de la signature de la présente demande et qui ont un nombre de semaines inférieur à 40 depuis l'embauche.
A16: N° | B16: Nom de l'employé¹ (Nom Prénom) | C16: Poste (selon description de poste et organigramme) | D16: Date de terminaison (aaaa-mm-jj) | E16: Motif de terminaison | F16: Employé remplacé? (O/N) | G16: Nom du remplaçant² (le cas échéant) | H16: Si l'employé n'a pas été remplacé, spécifiez la raison | I16: Date du premier jour de travail du remplaçant (aaaa-mm-jj)
A17: 1
A18: 2
A19: 3
A20: 4
A21: 5
A22: 6
A23: 7
A24: 8
A25: 9
A26: 10
A27: 11
A28: 12
... A36: 20
A38: Notes :
A39: 1. Pour chacun des employés réclamés qui ont quitté en date de la signature de la présente demande, veuillez nous fournir le relevé d'emploi.
A40: 2. Si l'employé a été remplacé, veuillez nous fournir le contrat d'embauche du remplaçant signé par les deux parties.
A42: Investissement Québec

Sheet Annexe B
D1: Développement des affaires électroniques intégrant des fonctionnalités d'IA (CDAEIA)
A2: Annexe B – Demande d'attestation de société
A3: Nature des mandats
A4: (l'Annexe B fait partie intégrante de la présente demande d'attestation de société)
A7: Version : 2026-10
A9: Nom de la société : | C9: =IF('Demande - Société'!C9="","",'Demande - Société'!C9) | F9: Numéro de dossier IQ : | G9: =IF('Demande - Société'!G14="","",'Demande - Société'!G14)
A11: Exercice financier du : | C11: =IF('Demande - Société'!C45="","",'Demande - Société'!C45) | F11: au : | G11: =IF('Demande - Société'!E45="","",'Demande - Société'!E45)
A13: Fournir une description détaillée des principaux mandats (contrats) réalisés au cours de l'exercice financier visé. Cette description doit permettre de comprendre la nature des services rendus ou des produits vendus. Les mandats énumérés doivent représenter au minimum 50 % de vos revenus bruts ou vos dix principaux mandats en terme de revenus bruts.
A14: À l'appui des informations inscrites à cette annexe, veuillez joindre un extrait de votre système comptable ventilant vos revenus de l'exercice par client ou par projet.
A16: N° | B16: Numéro ou Nom du projet, du produit ou du contrat | D16: Nom des clients visés par le projet, le produit ou le contrat | F16: Décrivez de façon détaillée la nature des services offerts | H16: Revenus attribuables à la réalisation du contrat ($) pour l'exercice financier visé¹ | I16: Pourcentage (%)
B17: Exemple : Contrat #C148000 | D17: Assurance XZZ | F17: Développer une application afin de permettre de conclure la soumission et le contrat d'assurance via Internet. Le revenu inclut l'analyse des besoins, le développement de l'application, les tests avec les usagers, l'installation de l'application et la formation des usagers. Le support ne fait pas l'objet du présent contrat. | H17: 165000 | I17: 0.3976
B18: Exemple : Application e-sport | D18: Société DEF inc. | F18: Vente du logiciel développé e-sport. Ce logiciel permet de faire du commerce électronique de vêtement de sport. Le produit de la vente inclut la licence, l'installation de l'application, la formation des usagers et le support après vente. | H18: 250000 | I18: 0.6024
A19: 1 | I19: =IF(H$30=0,"",H19/H$30)
A20: 2 | I20: =IF(H$30=0,"",H20/H$30)
A21: 3 | I21: =IF(H$30=0,"",H21/H$30)
A22: 4 | I22: =IF(H$30=0,"",H22/H$30)
A23: 5 | I23: =IF(H$30=0,"",H23/H$30)
A24: 6 | I24: =IF(H$30=0,"",H24/H$30)
A25: 7 | I25: =IF(H$30=0,"",H25/H$30)
A26: 8 | I26: =IF(H$30=0,"",H26/H$30)
A27: 9 | I27: =IF(H$30=0,"",H27/H$30)
A28: 10 | I28: =IF(H$30=0,"",H28/H$30)
B29: Revenus non ventilés² | H29: 0 | I29: =IF(H$30=0,"",H29/H$30)
B30: Revenu brut aux états financiers de l'exercice financier visé³ | H30: =SUM(H19:H29) -> 0 | I30: =SUM(I19:I29) -> 0
A32: ¹ | B32: Le montant présenté doit correspondre au montant comptabilisé dans les revenus de l'exercice financier visé et attribuable à ce contrat, et non au montant total du contrat, puisque certains revenus peuvent être comptabilisés dans un exercice financier subséquent.
A34: ² | B34: Présentez le total de tous les revenus comptabilisés aux états financiers de l'exercice financier visé et non couverts par les contrats décrits précédemment.
A36: ³ | B36: Le montant présenté à titre de revenu brut doit correspondre au revenu brut ou au chiffre d'affaires présenté à l'état des résultats de l'exercice financier visé.
A37: Investissement Québec

Sheet Annexe C
C1: Développement des affaires électroniques intégrant des fonctionnalités d'IA (CDAEIA)
A2: Annexe C – Demande d’attestation de société
A3: Description des postes de revenus de la balance de vérification
A4: (l’Annexe C fait partie intégrante de la demande d’attestation de société)
A6: Version : 2026-10
A8: Énumérez tous les comptes de revenus inclus à la balance de vérification qui composent les revenus totaux présentés aux états financiers pour l’exercice financier visé. Pour chacun des comptes, veuillez décrire la nature des revenus constatés dans chacun des postes de revenus inclus à votre balance de vérification et inscrire le code SCIAN approprié.
A10: Nom de la société : | C10: =IF('Demande - Société'!C9="","",'Demande - Société'!C9) | F10: Numéro de dossier IQ : | G10: =IF('Demande - Société'!G14="","",'Demande - Société'!G14)
A12: Exercice financier du : | C12: =IF('Demande - Société'!C45="","",'Demande - Société'!C45) | F12: au : | G12: =IF('Demande - Société'!E45="","",'Demande - Société'!E45)
A14: N° | B14: # Compte | C14: Nom du compte | E14: Description des produits ou des services ayant généré les revenus inclus dans ce compte | G14: Code SCIAN² | H14: Montant du compte
B15: Exemple : #4010 | C15: Revenu logiciel ABC | E15: Revenus de licence de l’application ABC | G15: 51321 | H15: 145000
B16: Exemple : #4020 | C16: Revenu de service | E16: Revenus de contrat de service annuel incluant le support technique et les mises à jour. | G16: 54151 | H16: 25000
A17: 1
A18: 2
A19: 3
A20: 4
A21: 5
A22: 6
A23: 7
A24: 8
A25: 9
A26: 10
A27: 11
A28: 12
A29: Revenus totaux de l’exercice financier visé¹ | H29: =SUM(H17:H28) -> 0
A31: ¹ Le montant présenté à titre de revenu brut doit correspondre au revenu brut ou au chiffre d’affaires présenté à l’état des résultats de l’exercice financier visé. Aux fins de l’analyse, l’ensemble des revenus de la société doit être considéré.
A33: ² Inscrire le code SCIAN approprié pour chaque compte de revenu. La description de ces codes est disponible sur le site Internet de Statistique Canada : www.statcan.gc.ca/fra/concepts/industrie Système de classification des industries de l’Amérique du Nord (SCIAN) Canada 2022 version 1.0
A35: Investissement Québec

Sheet Annexe D
D1: Développement des affaires électroniques intégrant des fonctionnalités d'IA (CDAEIA)
A2: Annexe D – Demande d’attestation de société
A3: Services fournis
A4: (l’Annexe D fait partie intégrante de la demande d’attestation de société)
A7: Version : 2026-10
A10: Veuillez énumérer et décrire brièvement, pour l’exercice financier visé, les services fournis à des personnes ayant un lien de dépendance avec la société ou réputées en avoir un. Veuillez également indiquer les revenus de l’exercice financier visé par la demande qui sont attribuables à ces services. Par ailleurs, veuillez préciser les utilisateurs ultimes des applications développées, en indiquant s’ils ont un lien de dépendance (ou sont réputés en avoir un) avec la société, ainsi que la localisation, notamment s’ils sont situés à l’extérieur du Québec.
A12: Nom de la société : | C12: =IF('Demande - Société'!C9="","",'Demande - Société'!C9) | F12: Numéro de dossier IQ : | H12: =IF('Demande - Société'!G14="","",'Demande - Société'!G14)
A14: Exercice financier du : | C14: =IF('Demande - Société'!C45="","",'Demande - Société'!C45) | F14: au : | G14: =IF('Demande - Société'!E45="","",'Demande - Société'!E45)
A16: N° | B16: Personne¹ ayant ou réputée² avoir un lien de dépendance avec la société. Définir brièvement le lien de dépendance | D16: Description des services offerts | E16: Revenus attribuables aux services fournis | F16: # de compte du Grand livre | G16: Bénéficiaires ultimes des services³ | H16: Bénéficiaires ultimes des services liés ou réputés liés | I16: Utilisateurs ultimes de l’application situés exclusivement hors Québec
B17: Exemple : ABC inc., société mère | D17: Vente de l’application Y | E17: 5000 | F17: #4020 | G17: Société DEF inc. | H17: Non | I17: Oui
A18: 1
A19: 2
A20: 3
A21: 4
A22: 5
A23: 6
A24: 7
A25: 8
A26: 9
A27: 10
E28: =SUM(E18:E27) -> 0
A30: ¹ Inclut société et société de personnes.
A31: ² Une société est réputée avoir un lien de dépendance avec une autre personne lorsque la société a, à l’égard de l’autre personne, une influence importante découlant d’une entente telle que, si cette influence était exercée, il en résulterait un contrôle de fait de l’autre personne par la société.
A32: ³ Vise la personne qui utilise directement ou indirectement les applications que la société a développées à la suite de la fourniture de services, et non les clients de cette personne.
A34: Investissement Québec

Sheet Annexe D1
C1: Développement des affaires électroniques intégrant des fonctionnalités d'IA (CDAEIA)
A2: Annexe D1 – Demande d’attestation de société
A3: Impartition intersociété
A4: (l’Annexe D1 fait partie intégrante de la demande d’attestation de société)
A6: Version : 2026-10
A9: La présente annexe vise à déterminer la proportion du revenu brut de la société lorsque celle-ci a développé une application utilisée exclusivement à l’extérieur du Québec par une personne ou société de personnes avec laquelle elle a un lien de dépendance.
A11: Plus précisément, ce calcul permet d’établir, lorsque la situation le requiert, si la proportion du revenu brut de la société provenant d’activités relevant des codes SCIAN 51321, 51821, 54151, 561320 et 561330, y compris les revenus de support ou de maintenance, et attribuables à des services fournis à un bénéficiaire ultime qui est une telle personne ou société de personnes, atteint ou excède le seuil de 50 %.
A13: Vous devez compléter cette annexe si vous avez répondu oui aux questions de la « Section 6. Impartition intersociété » de la Demande - Société.
A15: Nom de la société : | B15: =IF('Demande - Société'!C9="","",'Demande - Société'!C9) | D15: Numéro de dossier IQ : | E15: =IF('Demande - Société'!G14="","",'Demande - Société'!G14)
A17: Exercice financier du : | B17: =IF('Demande - Société'!C45="","",'Demande - Société'!C45) | D17: au : | E17: =IF('Demande - Société'!E45="","",'Demande - Société'!E45)
A19: ANNEXE D1 — DÉTERMINATION DE LA PROPORTION DES REVENUS (BÉNÉFICIAIRES ULTIMES (BU) LIÉS – HORS QUÉBEC)
A21: 1 — DÉFINITIONS ESSENTIELLES
A22: Bénéficiaire ultime | B22: Utilisateur direct ou indirect des applications développées par la société, à l’exclusion des clients de cette personne.
A23: Services visés | B23: Services dont les revenus sont attribuables aux codes SCIAN 51321, 54151, 51821, 561320 et 561330.
A24: Utilisation hors Québec | B24: Utilisation de l'application exclusivement à l'extérieur du Québec.
A26: 2 — IDENTIFICATION DES BÉNÉFICIAIRES ULTIMES LIÉS
A27: Nom | B27: Province ou Pays | C27: Nature du lien | D27: Utilisation hors Québec | E27: Description de l’utilisation de l'application
A28: Exemple : ABC inc. | B28: États-Unis | C28: Mère | D28: Oui | E28: Logiciel de gestion d'inventaire
A33: 3 — VENTILATION DES REVENUS PAR CODE SCIAN
A34: Code SCIAN | B34: Description sommaire des services | E34: Revenus totaux ($)1 des codes SCIAN visés | F34: Revenus provenant de BU liés ($)2 | G34: % | H34: Commentaires
E35: 0 | F35: 0 | G35: =IFERROR(F35/E35,0) -> 0
E36: 0 | F36: 0 | G36: =IFERROR(F36/E36,0) -> 0
E37: 0 | F37: =SUM(D37:E37) -> 0 | G37: =IFERROR(F37/E37,0) -> 0
E38: 0 | F38: =SUM(D38:E38) -> 0 | G38: =IFERROR(F38/E38,0) -> 0
E39: 0 | F39: =SUM(D39:E39) -> 0 | G39: =IFERROR(F39/E39,0) -> 0
A40: TOTAL | E40: =SUM(E35:E39) -> 0 | F40: =SUM(F35:F39) -> 0 | G40: =IFERROR(F40/E40,0) -> 0
A41: Règles de calcul : Revenus bénéficiaires ultimes liés incluant le support et la maintenance ÷ Revenus totaux des codes SCIAN visés.
A43: 4 — CALCUL RÉCAPITULATIF
A45: Total revenus SCIAN visés | B45: =E40 -> 0 | E45: Conclusion — seuil 50 %
A46: Total revenus visés (BU liés) | B46: =F40 -> 0 | E46: Résultat | H46: =IF(B47>=0.5,">= 50 %","< 50 %") -> < 50 %
A47: Proportion globale | B47: =IFERROR(B46/B45,0) -> 0 | E47: =IF(B47>=0.5,"La proportion atteint ou dépasse 50 %.","La proportion est inférieure à 50 %.") -> La proportion est inférieure à 50 %.
A50: Note 1 : Revenus totaux provenant des codes SCIAN 51321, 51821, 54151, 561320 et 561330 incluant les revenus de support et maintenance sans égard à leur provenance.
A51: Note 2 : Revenus dont les bénéficiaires ultimes ayant un lien de dépendance et qui utilisent l'application exclusivement à l'extérieur du Québec, c'est-à-dire la personne ou société de personne qui utilise directement ou indirectement l'application développée par la société et non les clients de cette personne ou société de personnes.
A53: Investissement Québec

Sheet Annexe E (Exemple)
C1: Développement des affaires électroniques intégrant des fonctionnalités d'IA (CDAEIA)
A2: Annexe E – Demande d’attestation d’employés
A3: Description de poste
A4: (l’Annexe E fait partie intégrante de la demande d’attestation d’employés)
A7: Version : 2026-10
A9: Remplissez la présente annexe pour tous les employés réclamés à l'Annexe A. Veuillez présenter chaque type de poste dans un onglet distinct.¹
A10: Vous devez fournir une description de poste pour chaque type de poste visé par votre demande d’attestation d’employés. Une seule description doit être fournie pour l’ensemble des employés occupant un poste strictement identique. Un poste est considéré comme identique lorsque les fonctions exercées sont les mêmes et réparties selon des pourcentages équivalents. Chaque description de poste doit être suffisamment détaillée et inclure l’ensemble des fonctions qui la composent. Veuillez également attribuer un pourcentage représentatif du temps consacré à chacune des tâches pour un poste donné (par exemple, éviter d’indiquer une tâche représentant 100 % du temps de l’employé).
A11: Dans le cadre du traitement de la demande, Investissement Québec pourra exiger la présentation de feuilles de temps, de rapport de facturation ou de tout autre document justificatif appuyant les descriptions de postes, afin de valider les postes réclamés. Pour plus de détails, consultez nos « Guide de référence relatif aux descriptions de tâches sur notre site Internet.
A13: Nom de la société : | B13: ABC inc. | D13: Numéro de dossier IQ : | E13: D888888
A15: Exercice financier du : | B15: =IF('Demande - Société'!C45="","",'Demande - Société'!C45) | C15: au : | D15: =IF('Demande - Société'!E45="","",'Demande - Société'!E45)
A17: Titre du poste : | B17: Chargé de projets senior (R & D) | D17: Supérieur immédiat :
A19: Responsabilités principales du poste : | B19: Il planifie les besoins fonctionnels et techniques des projets de développement de l’application, dirige et contrôle les variables (budget, échéanciers, qualité, etc.) du démarrage à la clôture des projets. Il coordonne et soutient l’équipe de R&D vers l’atteinte des résultats.
A21: Titulaire(s) : | B21: Monsieur X, madame Y et monsieur Z
A23: Description détaillée des tâches | F23: Temps consacré à ces activités (%) | G23: Réservé à IQ
A24: Effectuer du développement et participer à la programmation lors de problèmes complexes | F24: 0.35
A25: Participer au contrôle de la qualité.
A26: - définir les tests | F26: 0.1
A27: - participer occasionnellement aux tests | F27: 0.05
A28: - faire le suivi des recommandations à mettre en place pour régler les problèmes | F28: 0.05
A29: Supervision et encadrement des programmeurs relativement aux procédés et aux technologies utilisés. | F29: 0.2
A30: Gestion des échéanciers, du budget en vue de livrer les projets en temps opportun et dans le respect des prévisions budgétaires. | F30: 0.1
A31: Occasionnellement, effectuer des représentations commerciales auprès des clients potentiels internationaux ou locaux. | F31: 0.03
A32: Réunions administratives | F32: 0.02
A33: Formation reçue (à l’interne et à l’externe) | F33: 0.05
A34: Formation donnée sur l’application WX aux employés du client | F34: 0.05
A35: Total (doit correspondre à 100 %) : | F35: =SUM(F24:F34) -> 1
A37: La description des tâches est conforme à la réalité et ne comporte ni ajout ni retrait aux responsabilités et aux tâches qui ont été réalisées par le ou les titulaires pendant l’exercice financier visé.
A39: ¹ Copier cette page sur une autre feuille sans ajout de colonnes ni de lignes (ne pas insérer une feuille provenant d’une année précédente).
A41: Investissement Québec

Sheet Annexe E
C1: Développement des affaires électroniques intégrant des fonctionnalités d'IA (CDAEIA)
A2: Annexe E – Demande d’attestation d’employés
A3: Description de poste
A4: (l’Annexe E fait partie intégrante de la demande d’attestation d’employés)
A7: Version : 2026-10
A9: Remplissez la présente annexe pour tous les employés réclamés à l'Annexe A. Veuillez présenter chaque type de poste dans un onglet distinct.¹
A10: Vous devez fournir une description de poste pour chaque type de poste visé par votre demande d’attestation d’employés. Une seule description doit être fournie pour l’ensemble des employés occupant un poste strictement identique. Un poste est considéré comme identique lorsque les fonctions exercées sont les mêmes et réparties selon des pourcentages équivalents. Chaque description de poste doit être suffisamment détaillée et inclure l’ensemble des fonctions qui la composent. Veuillez également attribuer un pourcentage représentatif du temps consacré à chacune des tâches pour un poste donné (par exemple, éviter d’indiquer une tâche représentant 100 % du temps de l’employé).
A11: Dans le cadre du traitement de la demande, Investissement Québec pourra exiger la présentation de feuilles de temps, de rapport de facturation ou de tout autre document justificatif appuyant les descriptions de postes, afin de valider les postes réclamés. Pour plus de détails, consultez nos « Guide de référence relatif aux descriptions de tâches dans les demandes d’attestations d’admissibilité » sur notre site Internet.
A13: Nom de la société : | B13: =IF('Demande - Société'!C9="","",'Demande - Société'!C9) | D13: Numéro de dossier IQ : | E13: =IF('Demande - Société'!G14="","",'Demande - Société'!G14)
A15: Exercice financier du : | B15: =IF('Demande - Société'!C45="","",'Demande - Société'!C45) | C15: au : | D15: =IF('Demande - Société'!E45="","",'Demande - Société'!E45)
A17: Titre du poste : | D17: Supérieur immédiat :
A19: Responsabilités principales du poste :
A21: Titulaire(s) :
A23: Description détaillée des tâches | F23: Temps consacré à ces activités (%) | G23: Réservé à IQ
F24: 0
F25: 0
F26: 0
F27: 0
F28: 0
F29: 0
F30: 0
F31: 0
F32: 0
F33: 0
F34: 0
A35: Total (doit correspondre à 100 %) : | F35: =SUM(F24:F34) -> 0
A37: La description des tâches est conforme à la réalité et ne comporte ni ajout ni retrait aux responsabilités et aux tâches qui ont été réalisées par le ou les titulaires pendant l’exercice financier visé.
A39: ¹ Copier cette page sur une autre feuille sans ajout de colonnes ni de lignes (ne pas insérer une feuille provenant d’une année précédente).
A41: Investissement Québec

Sheet Annexe F
C1: Développement des affaires électroniques intégrant des fonctionnalités d'IA (CDAEIA)
A2: Annexe F – Demande d'attestations d'employés
A3: Description des mandats, projets ou produits réalisés dans l'exercice financier visé et relatifs à l'intégration de l'IA de manière significative
A4: (l'Annexe F fait partie intégrante de la demande d'attestation d'employés)
A6: Version : 2026-10
A7: Nom de la société : | C7: =IF('Demande - Société'!C9="","",'Demande - Société'!C9) | F7: Numéro de dossier IQ : | H7: =IF('Demande - Société'!G14="","",'Demande - Société'!G14) | J7: =IF('Demande - Société'!D14="","",'Demande - Société'!D14)
A9: Exercice financier du : | C9: =IF('Demande - Société'!C45="","",'Demande - Société'!C45) | D9: au : | E9: =IF('Demande - Société'!E45="","",'Demande - Société'!E45)
A11: Intégration de fonctionnalités d'intelligence artificielle (IA) de manière significative
A12: N° | B12: Nom du client | C12: Description du projet (la description doit préciser le ou les problème(s) auxquels la société cliente souhaite répondre avec l'IA, la solution proposée et le livrable) | D12: Décrire les travaux réalisés dans l'exercice financier visé | E12: 1. Qualification de l'IA (s'agit-il vraiment de l'IA?) - Précisez si le système ou produit apprend ou s'adapte à partir de données. - Le système ou produit déduit-il lui-même des résultats à partir de données ou applique-t-il des règles fixes ? | I12: 2. Rôle fonctionnel de l'IA (mesure la dépendance de la solution à l'IA) - Indiquez les fonctionnalités qui ont été intégrées et qui reposent principalement sur l'IA. - Décrivez qu'est-ce que les fonctionnalités d'IA apportent comme solution dans le cadre du mandat, projet ou produit. - Précisez l'impact qu'aurait le retrait des fonctionnalités d'IA intégrées sur le système. | J12: 3. Impact mesurable de l'IA (vérifie les gains attribuables à l'IA) - Décrire la performance avant / après l'intégration d'IA. - Précisez les indicateurs de performance (temps, erreurs, coûts, productivité, qualité) et la méthodologie démontrant que les améliorations proviennent réellement de l'IA et non d'autres facteurs. - Veuillez fournir des tableaux comparatifs ou rapports internes démontrant les gains. | K12: 4. Valeur ajoutée spécifique à l'IA (nouvelles capacités) - Veuillez décrire comment les fonctionnalités intégrées d'IA permettent de nouvelles capacités et non seulement une optimisation marginale. - Expliquer comment il serait presque impossible d'obtenir ces résultats sans l'IA. | L12: 5. Intégration de l'IA dans les processus - Veuillez décrire l'utilisation concrète de l'IA dans les activités quotidiennes. - Précisez si l'IA est utilisée de façon régulière et de manière automatique. | M12: 6. Effort de développement et d'investissement - Veuillez indiquer ce que l'intégration de l'IA a nécessité - Développement spécifique (modèle, pipelines, intégration) - Adaptation importante (données, architecture, etc.) - Ressources significatives (temps, coûts, expertise) | N12: Montant total du mandat | O12: Montants relatifs à ce mandat comptabilisés dans les revenus de l'exercice financier visé
A13: Ex. | B13: ABC inc. | C13: Description de la problématique, de la solution IA proposée et du livrable | D13: Travaux réalisés pendant l'exercice | E13: Qualification de l'IA | I13: Description du rôle fonctionnel de l'IA | J13: Impact mesurable | K13: Valeur ajoutée | L13: Intégration de l'IA dans les processus | M13: Efforts et coûts | N13: 165000 | O13: 100000
A14: 1
A15: 2
A16: 3
A17: 4
A18: 5
A19: 6
A20: 7
A21: 12
A22: 13
A23: 14
A24: 17
A25: 18
A27: Total des revenus ventilés ci-dessus : | N27: =SUM(N14:N25) -> 0 | O27: =SUM(O14:O25) -> 0
A28: Revenus non ventilés :
A29: Revenu brut aux états financiers de l'exercice financier visé | N29: =N27+N28 -> 0 | O29: =O27+O28 -> 0
A31: Investissement Québec
